Workbook

Sheet Instructions

Sheet Class Results
B1: Class:
C2: Class Multiple Choice | AH2: Class Multiple Choice Summary
B4: Name | C4: Student 1 | D4: Student 2 | E4: Student 3 | F4: Student 4 | G4: Student 5 | H4: Student 6 | I4: Student 7 | J4: Student 8 | K4: Student 9 | L4: Student 10 | M4: Student 11 | N4: Student 12 | O4: Student 13 | P4: Student 14 | Q4: Student 15 | R4: Student 16 | S4: Student 17 | T4: Student 18 | U4: Student 19 | V4: Student 20 | AH4: No. of students | AM4: =COUNTA(C4:AF4) -> 20
B5: Multiple Choice | C5: ST1 | D5: ST2 | E5: ST3 | F5: ST4 | G5: ST5 | H5: ST6 | I5: ST7 | J5: ST8 | K5: ST9 | L5: ST10 | M5: ST11 | N5: ST12 | O5: ST13 | P5: ST14 | Q5: ST15 | R5: ST16 | S5: ST17 | T5: ST18 | U5: ST19 | V5: ST20 | W5: ST21 | X5: ST22 | Y5: ST23 | Z5: ST24 | AA5: ST25 | AB5: ST26 | AC5: ST27 | AD5: ST28 | AE5: ST29 | AF5: ST30 | AH5: A | AI5: B | AJ5: C | AK5: D | AL5: no answer | AM5: Total | AN5: Blank | AO5: Multiple Choice | AP5: Exam Answer | AQ5: %A | AR5: %B | AS5: %C | AT5: %D | AU5: % no answer | AV5: Key Knowledge Descriptors
B6: 1 | AH6: =COUNTIF($C6:$AF6,"A") -> 0 | AI6: =COUNTIF($C6:$AF6,"B") -> 0 | AJ6: =COUNTIF($C6:$AF6,"C") -> 0 | AK6: =COUNTIF($C6:$AF6,"D") -> 0 | AL6: =COUNTBLANK($C6:$AF6) -> 30 | AM6: =30-AM$4 -> 10 | AN6: =AL6-AM6 -> 20 | AO6: 1 | AP6: =EQUAT!B7 -> D | AQ6: =(AH6/$AM$4)*100 -> 0 | AR6: =(AI6/$AM$4)*100 -> 0 | AS6: =(AJ6/$AM$4)*100 -> 0 | AT6: =(AK6/$AM$4)*100 -> 0 | AU6: =(AN6/$AM$4)*100 -> 100 | AV6: =EQUAT!D7 -> IR | AW6: =EQUAT!E7 -> C13NMR | AX6: =EQUAT!F7 -> systematic name
B7: 2 | AH7: =COUNTIF($C7:$AF7,"A") -> 0 | AI7: =COUNTIF($C7:$AF7,"B") -> 0 | AJ7: =COUNTIF($C7:$AF7,"C") -> 0 | AK7: =COUNTIF($C7:$AF7,"D") -> 0 | AL7: =COUNTBLANK($C7:$AF7) -> 30 | AM7: =30-AM$4 -> 10 | AN7: =AL7-AM7 -> 20 | AO7: 2 | AP7: =EQUAT!B8 -> C | AQ7: =(AH7/$AM$4)*100 -> 0 | AR7: =(AI7/$AM$4)*100 -> 0 | AS7: =(AJ7/$AM$4)*100 -> 0 | AT7: =(AK7/$AM$4)*100 -> 0 | AU7: =(AN7/$AM$4)*100 -> 100 | AV7: =EQUAT!D8 -> amount of solids, liquids, gases | AW7: =EQUAT!E8 -> 0 | AX7: =EQUAT!F8 -> 0
B8: 3 | AH8: =COUNTIF($C8:$AF8,"A") -> 0 | AI8: =COUNTIF($C8:$AF8,"B") -> 0 | AJ8: =COUNTIF($C8:$AF8,"C") -> 0 | AK8: =COUNTIF($C8:$AF8,"D") -> 0 | AL8: =COUNTBLANK($C8:$AF8) -> 30 | AM8: =30-AM$4 -> 10 | AN8: =AL8-AM8 -> 20 | AO8: 3 | AP8: =EQUAT!B9 -> C | AQ8: =(AH8/$AM$4)*100 -> 0 | AR8: =(AI8/$AM$4)*100 -> 0 | AS8: =(AJ8/$AM$4)*100 -> 0 | AT8: =(AK8/$AM$4)*100 -> 0 | AU8: =(AN8/$AM$4)*100 -> 100 | AV8: =EQUAT!D9 -> titration curves | AW8: =EQUAT!E9 -> 0 | AX8: =EQUAT!F9 -> 0
B9: 4 | AH9: =COUNTIF($C9:$AF9,"A") -> 0 | AI9: =COUNTIF($C9:$AF9,"B") -> 0 | AJ9: =COUNTIF($C9:$AF9,"C") -> 0 | AK9: =COUNTIF($C9:$AF9,"D") -> 0 | AL9: =COUNTBLANK($C9:$AF9) -> 30 | AM9: =30-AM$4 -> 10 | AN9: =AL9-AM9 -> 20 | AO9: 4 | AP9: =EQUAT!B10 -> A | AQ9: =(AH9/$AM$4)*100 -> 0 | AR9: =(AI9/$AM$4)*100 -> 0 | AS9: =(AJ9/$AM$4)*100 -> 0 | AT9: =(AK9/$AM$4)*100 -> 0 | AU9: =(AN9/$AM$4)*100 -> 100 | AV9: =EQUAT!D10 -> acid-base titrations | AW9: =EQUAT!E10 -> data book | AX9: =EQUAT!F10 -> 0
B10: 5 | AH10: =COUNTIF($C10:$AF10,"A") -> 0 | AI10: =COUNTIF($C10:$AF10,"B") -> 0 | AJ10: =COUNTIF($C10:$AF10,"C") -> 0 | AK10: =COUNTIF($C10:$AF10,"D") -> 0 | AL10: =COUNTBLANK($C10:$AF10) -> 30 | AM10: =30-AM$4 -> 10 | AN10: =AL10-AM10 -> 20 | AO10: 5 | AP10: =EQUAT!B11 -> A | AQ10: =(AH10/$AM$4)*100 -> 0 | AR10: =(AI10/$AM$4)*100 -> 0 | AS10: =(AJ10/$AM$4)*100 -> 0 | AT10: =(AK10/$AM$4)*100 -> 0 | AU10: =(AN10/$AM$4)*100 -> 100 | AV10: =EQUAT!D11 -> galvanic primary, principles | AW10: =EQUAT!E11 -> electrochemical series | AX10: =EQUAT!F11 -> data book
B11: 6 | AH11: =COUNTIF($C11:$AF11,"A") -> 0 | AI11: =COUNTIF($C11:$AF11,"B") -> 0 | AJ11: =COUNTIF($C11:$AF11,"C") -> 0 | AK11: =COUNTIF($C11:$AF11,"D") -> 0 | AL11: =COUNTBLANK($C11:$AF11) -> 30 | AM11: =30-AM$4 -> 10 | AN11: =AL11-AM11 -> 20 | AO11: 6 | AP11: =EQUAT!B12 -> D | AQ11: =(AH11/$AM$4)*100 -> 0 | AR11: =(AI11/$AM$4)*100 -> 0 | AS11: =(AJ11/$AM$4)*100 -> 0 | AT11: =(AK11/$AM$4)*100 -> 0 | AU11: =(AN11/$AM$4)*100 -> 100 | AV11: =EQUAT!D12 -> ox numbers | AW11: =EQUAT!E12 -> 0 | AX11: =EQUAT!F12 -> 0
B12: 7 | AH12: =COUNTIF($C12:$AF12,"A") -> 0 | AI12: =COUNTIF($C12:$AF12,"B") -> 0 | AJ12: =COUNTIF($C12:$AF12,"C") -> 0 | AK12: =COUNTIF($C12:$AF12,"D") -> 0 | AL12: =COUNTBLANK($C12:$AF12) -> 30 | AM12: =30-AM$4 -> 10 | AN12: =AL12-AM12 -> 20 | AO12: 7 | AP12: =EQUAT!B13 -> D | AQ12: =(AH12/$AM$4)*100 -> 0 | AR12: =(AI12/$AM$4)*100 -> 0 | AS12: =(AJ12/$AM$4)*100 -> 0 | AT12: =(AK12/$AM$4)*100 -> 0 | AU12: =(AN12/$AM$4)*100 -> 100 | AV12: =EQUAT!D13 -> redox equations | AW12: =EQUAT!E13 -> acid-base, pH | AX12: =EQUAT!F13 -> fuel cells
B13: 8 | AH13: =COUNTIF($C13:$AF13,"A") -> 0 | AI13: =COUNTIF($C13:$AF13,"B") -> 0 | AJ13: =COUNTIF($C13:$AF13,"C") -> 0 | AK13: =COUNTIF($C13:$AF13,"D") -> 0 | AL13: =COUNTBLANK($C13:$AF13) -> 30 | AM13: =30-AM$4 -> 10 | AN13: =AL13-AM13 -> 20 | AO13: 8 | AP13: =EQUAT!B14 -> B | AQ13: =(AH13/$AM$4)*100 -> 0 | AR13: =(AI13/$AM$4)*100 -> 0 | AS13: =(AJ13/$AM$4)*100 -> 0 | AT13: =(AK13/$AM$4)*100 -> 0 | AU13: =(AN13/$AM$4)*100 -> 100 | AV13: =EQUAT!D14 -> bomb calorimetry | AW13: =EQUAT!E14 -> calculations | AX13: =EQUAT!F14 -> data book
B14: 9 | AH14: =COUNTIF($C14:$AF14,"A") -> 0 | AI14: =COUNTIF($C14:$AF14,"B") -> 0 | AJ14: =COUNTIF($C14:$AF14,"C") -> 0 | AK14: =COUNTIF($C14:$AF14,"D") -> 0 | AL14: =COUNTBLANK($C14:$AF14) -> 30 | AM14: =30-AM$4 -> 10 | AN14: =AL14-AM14 -> 20 | AO14: 9 | AP14: =EQUAT!B15 -> A | AQ14: =(AH14/$AM$4)*100 -> 0 | AR14: =(AI14/$AM$4)*100 -> 0 | AS14: =(AJ14/$AM$4)*100 -> 0 | AT14: =(AK14/$AM$4)*100 -> 0 | AU14: =(AN14/$AM$4)*100 -> 100 | AV14: =EQUAT!D15 -> galvanic secondary, principles | AW14: =EQUAT!E15 -> 0 | AX14: =EQUAT!F15 -> 0
B15: 10 | AH15: =COUNTIF($C15:$AF15,"A") -> 0 | AI15: =COUNTIF($C15:$AF15,"B") -> 0 | AJ15: =COUNTIF($C15:$AF15,"C") -> 0 | AK15: =COUNTIF($C15:$AF15,"D") -> 0 | AL15: =COUNTBLANK($C15:$AF15) -> 30 | AM15: =30-AM$4 -> 10 | AN15: =AL15-AM15 -> 20 | AO15: 10 | AP15: =EQUAT!B16 -> D | AQ15: =(AH15/$AM$4)*100 -> 0 | AR15: =(AI15/$AM$4)*100 -> 0 | AS15: =(AJ15/$AM$4)*100 -> 0 | AT15: =(AK15/$AM$4)*100 -> 0 | AU15: =(AN15/$AM$4)*100 -> 100 | AV15: =EQUAT!D16 -> Le Chatelier principle | AW15: =EQUAT!E16 -> 0 | AX15: =EQUAT!F16 -> 0
B16: 11 | AH16: =COUNTIF($C16:$AF16,"A") -> 0 | AI16: =COUNTIF($C16:$AF16,"B") -> 0 | AJ16: =COUNTIF($C16:$AF16,"C") -> 0 | AK16: =COUNTIF($C16:$AF16,"D") -> 0 | AL16: =COUNTBLANK($C16:$AF16) -> 30 | AM16: =30-AM$4 -> 10 | AN16: =AL16-AM16 -> 20 | AO16: 11 | AP16: =EQUAT!B17 -> C | AQ16: =(AH16/$AM$4)*100 -> 0 | AR16: =(AI16/$AM$4)*100 -> 0 | AS16: =(AJ16/$AM$4)*100 -> 0 | AT16: =(AK16/$AM$4)*100 -> 0 | AU16: =(AN16/$AM$4)*100 -> 100 | AV16: =EQUAT!D17 -> fuel cells | AW16: =EQUAT!E17 -> 0 | AX16: =EQUAT!F17 -> 0
B17: 12 | AH17: =COUNTIF($C17:$AF17,"A") -> 0 | AI17: =COUNTIF($C17:$AF17,"B") -> 0 | AJ17: =COUNTIF($C17:$AF17,"C") -> 0 | AK17: =COUNTIF($C17:$AF17,"D") -> 0 | AL17: =COUNTBLANK($C17:$AF17) -> 30 | AM17: =30-AM$4 -> 10 | AN17: =AL17-AM17 -> 20 | AO17: 12 | AP17: =EQUAT!B18 -> D | AQ17: =(AH17/$AM$4)*100 -> 0 | AR17: =(AI17/$AM$4)*100 -> 0 | AS17: =(AJ17/$AM$4)*100 -> 0 | AT17: =(AK17/$AM$4)*100 -> 0 | AU17: =(AN17/$AM$4)*100 -> 100 | AV17: =EQUAT!D18 -> gravimetric analysis | AW17: =EQUAT!E18 -> calculations | AX17: =EQUAT!F18 -> chemical equations
... B35: 30 | AH35: =COUNTIF($C35:$AF35,"A") -> 0 | AI35: =COUNTIF($C35:$AF35,"B") -> 0 | AJ35: =COUNTIF($C35:$AF35,"C") -> 0 | AK35: =COUNTIF($C35:$AF35,"D") -> 0 | AL35: =COUNTBLANK($C35:$AF35) -> 30 | AM35: =30-AM$4 -> 10 | AN35: =AL35-AM35 -> 20 | AO35: 30 | AP35: =EQUAT!B36 -> C | AQ35: =(AH35/$AM$4)*100 -> 0 | AR35: =(AI35/$AM$4)*100 -> 0 | AS35: =(AJ35/$AM$4)*100 -> 0 | AT35: =(AK35/$AM$4)*100 -> 0 | AU35: =(AN35/$AM$4)*100 -> 100 | AV35: =EQUAT!D36 -> solution calorimetry | AW35: =EQUAT!E36 -> 0 | AX35: =EQUAT!F36 -> 0
B36: Question | M36: Class Short Answer | AR36: Short Answer | AS36: Exam Mark | AT36: Class Average | AU36: Class % Correct | AV36: Key Knowledge Descriptors
B37: =EQUAT!H7 -> 1a | AR37: =$B37 -> 1a | AS37: =EQUAT!$I7 -> 1 | AT37: =(SUM($C37:$AC37))/$AM$4 -> 0 | AU37: =($AT37/$AS37)*100 -> 0 | AV37: =EQUAT!J7 -> organic structure | AW37: =EQUAT!K7 -> 0 | AX37: =EQUAT!L7 -> 0
B38: =EQUAT!H8 -> 1b | AR38: =$B38 -> 1b | AS38: =EQUAT!$I8 -> 1 | AT38: =(SUM($C38:$AC38))/$AM$4 -> 0 | AU38: =($AT38/$AS38)*100 -> 0 | AV38: =EQUAT!J8 -> mass spectrometry | AW38: =EQUAT!K8 -> 0 | AX38: =EQUAT!L8 -> 0
B39: =EQUAT!H9 -> 1c | AR39: =$B39 -> 1c | AS39: =EQUAT!$I9 -> 2 | AT39: =(SUM($C39:$AC39))/$AM$4 -> 0 | AU39: =($AT39/$AS39)*100 -> 0 | AV39: =EQUAT!J9 -> IR | AW39: =EQUAT!K9 -> 0 | AX39: =EQUAT!L9 -> 0
B40: =EQUAT!H10 -> 1d | AR40: =$B40 -> 1d | AS40: =EQUAT!$I10 -> 2 | AT40: =(SUM($C40:$AC40))/$AM$4 -> 0 | AU40: =($AT40/$AS40)*100 -> 0 | AV40: =EQUAT!J10 -> organic structure | AW40: =EQUAT!K10 -> C13NMR | AX40: =EQUAT!L10 -> carbon environment
B41: =EQUAT!H11 -> 1e | AR41: =$B41 -> 1e | AS41: =EQUAT!$I11 -> 5 | AT41: =(SUM($C41:$AC41))/$AM$4 -> 0 | AU41: =($AT41/$AS41)*100 -> 0 | AV41: =EQUAT!J11 -> common organic reactions | AW41: =EQUAT!K11 -> esters from alkenes | AX41: =EQUAT!L11 -> 0
B42: =EQUAT!H12 -> 1f | AR42: =$B42 -> 1f | AS42: =EQUAT!$I12 -> 1 | AT42: =(SUM($C42:$AC42))/$AM$4 -> 0 | AU42: =($AT42/$AS42)*100 -> 0 | AV42: =EQUAT!J12 -> esterification | AW42: =EQUAT!K12 -> 0 | AX42: =EQUAT!L12 -> 0
B43: =EQUAT!H13 -> 1gi | AR43: =$B43 -> 1gi | AS43: =EQUAT!$I13 -> 2 | AT43: =(SUM($C43:$AC43))/$AM$4 -> 0 | AU43: =($AT43/$AS43)*100 -> 0 | AV43: =EQUAT!J13 -> Le Chatelier principle | AW43: =EQUAT!K13 -> Rates of reaction | AX43: =EQUAT!L13 -> 0
B44: =EQUAT!H14 -> 1gii | AR44: =$B44 -> 1gii | AS44: =EQUAT!$I14 -> 1 | AT44: =(SUM($C44:$AC44))/$AM$4 -> 0 | AU44: =($AT44/$AS44)*100 -> 0 | AV44: =EQUAT!J14 -> properties of organic compounds | AW44: =EQUAT!K14 -> 0 | AX44: =EQUAT!L14 -> 0
B45: =EQUAT!H15 -> 1h | AR45: =$B45 -> 1h | AS45: =EQUAT!$I15 -> 2 | AT45: =(SUM($C45:$AC45))/$AM$4 -> 0 | AU45: =($AT45/$AS45)*100 -> 0 | AV45: =EQUAT!J15 -> calc delta H from reactions | AW45: =EQUAT!K15 -> data book | AX45: =EQUAT!L15 -> 0
B46: =EQUAT!H16 -> 2a | AR46: =$B46 -> 2a | AS46: =EQUAT!$I16 -> 1 | AT46: =(SUM($C46:$AC46))/$AM$4 -> 0 | AU46: =($AT46/$AS46)*100 -> 0 | AV46: =EQUAT!J16 -> chemical principles electrolytic cell | AW46: =EQUAT!K16 -> 0 | AX46: =EQUAT!L16 -> 0
B47: =EQUAT!H17 -> 2b | AR47: =$B47 -> 2b | AS47: =EQUAT!$I17 -> 2 | AT47: =(SUM($C47:$AC47))/$AM$4 -> 0 | AU47: =($AT47/$AS47)*100 -> 0 | AV47: =EQUAT!J17 -> predicting redox products | AW47: =EQUAT!K17 -> electrochemical series | AX47: =EQUAT!L17 -> chemical principles electrolytic cell
B48: =EQUAT!H18 -> 2c | AR48: =$B48 -> 2c | AS48: =EQUAT!$I18 -> 2 | AT48: =(SUM($C48:$AC48))/$AM$4 -> 0 | AU48: =($AT48/$AS48)*100 -> 0 | AV48: =EQUAT!J18 -> calculations | AW48: =EQUAT!K18 -> chemical principles electrolytic cell | AX48: =EQUAT!L18 -> 0
... B100: =EQUAT!H70 -> 0 | AR100: =$B100 -> 0 | AS100: =EQUAT!$I70 -> 0 | AT100: =(SUM($C100:$AC100))/$AM$4 -> 0 | AU100: =($AT100/$AS100)*100 -> #DIV/0! | AV100: =EQUAT!J70 -> 0 | AW100: =EQUAT!K70 -> 0 | AX100: =EQUAT!L70 -> 0
B101: =EQUAT!H71 -> 0
B102: =EQUAT!H72 -> 0
B103: =EQUAT!H73 -> 0
B104: =EQUAT!H74 -> 0
B105: =EQUAT!H75 -> 0

Sheet % class results 
D1: Multiple Choice: Class Summary
C3: Exam Name: | D3: =EQUAT!C3 -> LisaChem 2013
A4: Multiple Choice | L4: Short Answer
A5: Question | B5: Exam Answer | C5: %A | D5: %B | E5: %C | F5: %D | G5: % no answer | H5: Key Knowledge Descriptors | L5: Question | M5: ='Class Results'!AS36 -> Exam Mark | N5: ='Class Results'!AT36 -> Class Average | O5: ='Class Results'!AU36 -> Class % Correct | P5: ='Class Results'!AV36 -> Key Knowledge Descriptors
A6: 1 | B6: =EQUAT!B7 -> D | C6: ='Class Results'!AQ6 -> 0 | D6: ='Class Results'!AR6 -> 0 | E6: ='Class Results'!AS6 -> 0 | F6: ='Class Results'!AT6 -> 0 | G6: ='Class Results'!AU6 -> 100 | H6: =EQUAT!D7 -> IR | I6: =EQUAT!E7 -> C13NMR | J6: =EQUAT!F7 -> systematic name | L6: ='Class Results'!AR37 -> 1a | M6: ='Class Results'!AS37 -> 1 | N6: ='Class Results'!AT37 -> 0 | O6: ='Class Results'!AU37 -> 0 | P6: ='Class Results'!AV37 -> organic structure | Q6: ='Class Results'!AW37 -> 0 | R6: ='Class Results'!AX37 -> 0
A7: 2 | B7: =EQUAT!B8 -> C | C7: ='Class Results'!AQ7 -> 0 | D7: ='Class Results'!AR7 -> 0 | E7: ='Class Results'!AS7 -> 0 | F7: ='Class Results'!AT7 -> 0 | G7: ='Class Results'!AU7 -> 100 | H7: =EQUAT!D8 -> amount of solids, liquids, gases | I7: =EQUAT!E8 -> 0 | J7: =EQUAT!F8 -> 0 | L7: ='Class Results'!AR38 -> 1b | M7: ='Class Results'!AS38 -> 1 | N7: ='Class Results'!AT38 -> 0 | O7: ='Class Results'!AU38 -> 0 | P7: ='Class Results'!AV38 -> mass spectrometry | Q7: ='Class Results'!AW38 -> 0 | R7: ='Class Results'!AX38 -> 0
A8: 3 | B8: =EQUAT!B9 -> C | C8: ='Class Results'!AQ8 -> 0 | D8: ='Class Results'!AR8 -> 0 | E8: ='Class Results'!AS8 -> 0 | F8: ='Class Results'!AT8 -> 0 | G8: ='Class Results'!AU8 -> 100 | H8: =EQUAT!D9 -> titration curves | I8: =EQUAT!E9 -> 0 | J8: =EQUAT!F9 -> 0 | L8: ='Class Results'!AR39 -> 1c | M8: ='Class Results'!AS39 -> 2 | N8: ='Class Results'!AT39 -> 0 | O8: ='Class Results'!AU39 -> 0 | P8: ='Class Results'!AV39 -> IR | Q8: ='Class Results'!AW39 -> 0 | R8: ='Class Results'!AX39 -> 0
A9: 4 | B9: =EQUAT!B10 -> A | C9: ='Class Results'!AQ9 -> 0 | D9: ='Class Results'!AR9 -> 0 | E9: ='Class Results'!AS9 -> 0 | F9: ='Class Results'!AT9 -> 0 | G9: ='Class Results'!AU9 -> 100 | H9: =EQUAT!D10 -> acid-base titrations | I9: =EQUAT!E10 -> data book | J9: =EQUAT!F10 -> 0 | L9: ='Class Results'!AR40 -> 1d | M9: ='Class Results'!AS40 -> 2 | N9: ='Class Results'!AT40 -> 0 | O9: ='Class Results'!AU40 -> 0 | P9: ='Class Results'!AV40 -> organic structure | Q9: ='Class Results'!AW40 -> C13NMR | R9: ='Class Results'!AX40 -> carbon environment
A10: 5 | B10: =EQUAT!B11 -> A | C10: ='Class Results'!AQ10 -> 0 | D10: ='Class Results'!AR10 -> 0 | E10: ='Class Results'!AS10 -> 0 | F10: ='Class Results'!AT10 -> 0 | G10: ='Class Results'!AU10 -> 100 | H10: =EQUAT!D11 -> galvanic primary, principles | I10: =EQUAT!E11 -> electrochemical series | J10: =EQUAT!F11 -> data book | L10: ='Class Results'!AR41 -> 1e | M10: ='Class Results'!AS41 -> 5 | N10: ='Class Results'!AT41 -> 0 | O10: ='Class Results'!AU41 -> 0 | P10: ='Class Results'!AV41 -> common organic reactions | Q10: ='Class Results'!AW41 -> esters from alkenes | R10: ='Class Results'!AX41 -> 0
A11: 6 | B11: =EQUAT!B12 -> D | C11: ='Class Results'!AQ11 -> 0 | D11: ='Class Results'!AR11 -> 0 | E11: ='Class Results'!AS11 -> 0 | F11: ='Class Results'!AT11 -> 0 | G11: ='Class Results'!AU11 -> 100 | H11: =EQUAT!D12 -> ox numbers | I11: =EQUAT!E12 -> 0 | J11: =EQUAT!F12 -> 0 | L11: ='Class Results'!AR42 -> 1f | M11: ='Class Results'!AS42 -> 1 | N11: ='Class Results'!AT42 -> 0 | O11: ='Class Results'!AU42 -> 0 | P11: ='Class Results'!AV42 -> esterification | Q11: ='Class Results'!AW42 -> 0 | R11: ='Class Results'!AX42 -> 0
A12: 7 | B12: =EQUAT!B13 -> D | C12: ='Class Results'!AQ12 -> 0 | D12: ='Class Results'!AR12 -> 0 | E12: ='Class Results'!AS12 -> 0 | F12: ='Class Results'!AT12 -> 0 | G12: ='Class Results'!AU12 -> 100 | H12: =EQUAT!D13 -> redox equations | I12: =EQUAT!E13 -> acid-base, pH | J12: =EQUAT!F13 -> fuel cells | L12: ='Class Results'!AR43 -> 1gi | M12: ='Class Results'!AS43 -> 2 | N12: ='Class Results'!AT43 -> 0 | O12: ='Class Results'!AU43 -> 0 | P12: ='Class Results'!AV43 -> Le Chatelier principle | Q12: ='Class Results'!AW43 -> Rates of reaction | R12: ='Class Results'!AX43 -> 0
A13: 8 | B13: =EQUAT!B14 -> B | C13: ='Class Results'!AQ13 -> 0 | D13: ='Class Results'!AR13 -> 0 | E13: ='Class Results'!AS13 -> 0 | F13: ='Class Results'!AT13 -> 0 | G13: ='Class Results'!AU13 -> 100 | H13: =EQUAT!D14 -> bomb calorimetry | I13: =EQUAT!E14 -> calculations | J13: =EQUAT!F14 -> data book | L13: ='Class Results'!AR44 -> 1gii | M13: ='Class Results'!AS44 -> 1 | N13: ='Class Results'!AT44 -> 0 | O13: ='Class Results'!AU44 -> 0 | P13: ='Class Results'!AV44 -> properties of organic compounds | Q13: ='Class Results'!AW44 -> 0 | R13: ='Class Results'!AX44 -> 0
A14: 9 | B14: =EQUAT!B15 -> A | C14: ='Class Results'!AQ14 -> 0 | D14: ='Class Results'!AR14 -> 0 | E14: ='Class Results'!AS14 -> 0 | F14: ='Class Results'!AT14 -> 0 | G14: ='Class Results'!AU14 -> 100 | H14: =EQUAT!D15 -> galvanic secondary, principles | I14: =EQUAT!E15 -> 0 | J14: =EQUAT!F15 -> 0 | L14: ='Class Results'!AR45 -> 1h | M14: ='Class Results'!AS45 -> 2 | N14: ='Class Results'!AT45 -> 0 | O14: ='Class Results'!AU45 -> 0 | P14: ='Class Results'!AV45 -> calc delta H from reactions | Q14: ='Class Results'!AW45 -> data book | R14: ='Class Results'!AX45 -> 0
A15: 10 | B15: =EQUAT!B16 -> D | C15: ='Class Results'!AQ15 -> 0 | D15: ='Class Results'!AR15 -> 0 | E15: ='Class Results'!AS15 -> 0 | F15: ='Class Results'!AT15 -> 0 | G15: ='Class Results'!AU15 -> 100 | H15: =EQUAT!D16 -> Le Chatelier principle | I15: =EQUAT!E16 -> 0 | J15: =EQUAT!F16 -> 0 | L15: ='Class Results'!AR46 -> 2a | M15: ='Class Results'!AS46 -> 1 | N15: ='Class Results'!AT46 -> 0 | O15: ='Class Results'!AU46 -> 0 | P15: ='Class Results'!AV46 -> chemical principles electrolytic cell | Q15: ='Class Results'!AW46 -> 0 | R15: ='Class Results'!AX46 -> 0
A16: 11 | B16: =EQUAT!B17 -> C | C16: ='Class Results'!AQ16 -> 0 | D16: ='Class Results'!AR16 -> 0 | E16: ='Class Results'!AS16 -> 0 | F16: ='Class Results'!AT16 -> 0 | G16: ='Class Results'!AU16 -> 100 | H16: =EQUAT!D17 -> fuel cells | I16: =EQUAT!E17 -> 0 | J16: =EQUAT!F17 -> 0 | L16: ='Class Results'!AR47 -> 2b | M16: ='Class Results'!AS47 -> 2 | N16: ='Class Results'!AT47 -> 0 | O16: ='Class Results'!AU47 -> 0 | P16: ='Class Results'!AV47 -> predicting redox products | Q16: ='Class Results'!AW47 -> electrochemical series | R16: ='Class Results'!AX47 -> chemical principles electrolytic cell
A17: 12 | B17: =EQUAT!B18 -> D | C17: ='Class Results'!AQ17 -> 0 | D17: ='Class Results'!AR17 -> 0 | E17: ='Class Results'!AS17 -> 0 | F17: ='Class Results'!AT17 -> 0 | G17: ='Class Results'!AU17 -> 100 | H17: =EQUAT!D18 -> gravimetric analysis | I17: =EQUAT!E18 -> calculations | J17: =EQUAT!F18 -> chemical equations | L17: ='Class Results'!AR48 -> 2c | M17: ='Class Results'!AS48 -> 2 | N17: ='Class Results'!AT48 -> 0 | O17: ='Class Results'!AU48 -> 0 | P17: ='Class Results'!AV48 -> calculations | Q17: ='Class Results'!AW48 -> chemical principles electrolytic cell | R17: ='Class Results'!AX48 -> 0
... A35: 30 | B35: =EQUAT!B36 -> C | C35: ='Class Results'!AQ35 -> 0 | D35: ='Class Results'!AR35 -> 0 | E35: ='Class Results'!AS35 -> 0 | F35: ='Class Results'!AT35 -> 0 | G35: ='Class Results'!AU35 -> 100 | H35: =EQUAT!D36 -> solution calorimetry | I35: =EQUAT!E36 -> 0 | J35: =EQUAT!F36 -> 0 | L35: ='Class Results'!AR66 -> 3h | M35: ='Class Results'!AS66 -> 1 | N35: ='Class Results'!AT66 -> 0 | O35: ='Class Results'!AU66 -> 0 | P35: ='Class Results'!AV66 -> DNA secondary structure | Q35: ='Class Results'!AW66 -> 0 | R35: ='Class Results'!AX66 -> 0
L36: ='Class Results'!AR67 -> 4ai | M36: ='Class Results'!AS67 -> 2 | N36: ='Class Results'!AT67 -> 0 | O36: ='Class Results'!AU67 -> 0 | P36: ='Class Results'!AV67 -> catalyst effect on rate | Q36: ='Class Results'!AW67 -> calc delta H from reactions | R36: ='Class Results'!AX67 -> Energy sources - renewability
L37: ='Class Results'!AR68 -> 4aii | M37: ='Class Results'!AS68 -> 3 | N37: ='Class Results'!AT68 -> 0 | O37: ='Class Results'!AU68 -> 0 | P37: ='Class Results'!AV68 -> Equilibrium law | Q37: ='Class Results'!AW68 -> 0 | R37: ='Class Results'!AX68 -> 0
L38: ='Class Results'!AR69 -> 4aiii | M38: ='Class Results'!AS69 -> 1 | N38: ='Class Results'!AT69 -> 0 | O38: ='Class Results'!AU69 -> 0 | P38: ='Class Results'!AV69 -> Equilibrium law | Q38: ='Class Results'!AW69 -> Le Chatelier principle | R38: ='Class Results'!AX69 -> 0
L39: ='Class Results'!AR70 -> 4bi | M39: ='Class Results'!AS70 -> 1 | N39: ='Class Results'!AT70 -> 0 | O39: ='Class Results'!AU70 -> 0 | P39: ='Class Results'!AV70 -> biochemical fuel production | Q39: ='Class Results'!AW70 -> data book | R39: ='Class Results'!AX70 -> 0
L40: ='Class Results'!AR71 -> 4bii | M40: ='Class Results'!AS71 -> 3 | N40: ='Class Results'!AT71 -> 0 | O40: ='Class Results'!AU71 -> 0 | P40: ='Class Results'!AV71 -> biodiesel | Q40: ='Class Results'!AW71 -> data book | R40: ='Class Results'!AX71 -> chemical equations
L41: ='Class Results'!AR72 -> 4ci | M41: ='Class Results'!AS72 -> 1 | N41: ='Class Results'!AT72 -> 0 | O41: ='Class Results'!AU72 -> 0 | P41: ='Class Results'!AV72 -> C13NMR | Q41: ='Class Results'!AW72 -> chemical equations | R41: ='Class Results'!AX72 -> 0
L42: ='Class Results'!AR73 -> 4cii | M42: ='Class Results'!AS73 -> 2 | N42: ='Class Results'!AT73 -> 0 | O42: ='Class Results'!AU73 -> 0 | P42: ='Class Results'!AV73 -> HNMR | Q42: ='Class Results'!AW73 -> semi-structural formula | R42: ='Class Results'!AX73 -> oxidation primary alkanols
L43: ='Class Results'!AR74 -> 4di | M43: ='Class Results'!AS74 -> 1 | N43: ='Class Results'!AT74 -> 0 | O43: ='Class Results'!AU74 -> 0 | P43: ='Class Results'!AV74 -> fuel cells | Q43: ='Class Results'!AW74 -> 0 | R43: ='Class Results'!AX74 -> 0
L44: ='Class Results'!AR75 -> 4dii | M44: ='Class Results'!AS75 -> 2 | N44: ='Class Results'!AT75 -> 0 | O44: ='Class Results'!AU75 -> 0 | P44: ='Class Results'!AV75 -> fuel cells | Q44: ='Class Results'!AW75 -> data book | R44: ='Class Results'!AX75 -> half, overall equations fuel cell
L45: ='Class Results'!AR76 -> 5ai | M45: ='Class Results'!AS76 -> 1 | N45: ='Class Results'!AT76 -> 0 | O45: ='Class Results'!AU76 -> 0 | P45: ='Class Results'!AV76 -> galvanic primary, half & overall equations | Q45: ='Class Results'!AW76 -> data book | R45: ='Class Results'!AX76 -> electrochemical series
L46: ='Class Results'!AR77 -> 5aii | M46: ='Class Results'!AS77 -> 1 | N46: ='Class Results'!AT77 -> 0 | O46: ='Class Results'!AU77 -> 0 | P46: ='Class Results'!AV77 -> galvanic primary, half & overall equations | Q46: ='Class Results'!AW77 -> 0 | R46: ='Class Results'!AX77 -> 0
L47: ='Class Results'!AR78 -> 5aiii | M47: ='Class Results'!AS78 -> 1 | N47: ='Class Results'!AT78 -> 0 | O47: ='Class Results'!AU78 -> 0 | P47: ='Class Results'!AV78 -> electrochemical series | Q47: ='Class Results'!AW78 -> data book | R47: ='Class Results'!AX78 -> 0
... L73: ='Class Results'!AR104 -> 0 | M73: ='Class Results'!AS104 -> 0 | N73: ='Class Results'!AT104 -> 0 | O73: ='Class Results'!AU104 -> 0 | P73: ='Class Results'!AV104 -> 0 | Q73: ='Class Results'!AW104 -> 0 | R73: ='Class Results'!AX104 -> 0

Sheet Class Summary
A1: Class Summary
A3: Exam Name: | B3: =EQUAT!C3 -> LisaChem 2013 | H3: Total | I3: Achievement | J3: %
G4: Multiple Choice | H4: =ST1C!AK38 -> 30 | I4: =(ST1C!AL38+ST2C!AL38+ST3C!AL38+ST4C!AL38+ST5C!AL38+ST6C!AL38+ST7C!AL38+ST8C!AL38+ST9C!AL38+ST10C!AL38+ST11C!AL38+ST12C!AL38+ST13C!AL38+ST14C!AL38+ST15C!AL38+ST16C!AL38+ST17C!AL38+ST18C!AL38+ST19C!AL38+ST20C!AL38)/'Class Results'!$AM$4 -> 0 | J4: =(I4/H4)*100 -> 0 | K4: =(I4/H4)*100 -> 0
A5: Name | B5: Class Summary | G5: Short Answer | H5: =ST1C!AK39 -> 94 | I5: =(ST1C!AL39+ST2C!AL39+ST3C!AL39+ST4C!AL39+ST5C!AL39+ST6C!AL39+ST7C!AL39+ST8C!AL39+ST9C!AL39+ST10C!AL39+ST11C!AL39+ST12C!AL39+ST13C!AL39+ST14C!AL39+ST15C!AL39+ST16C!AL39+ST17C!AL39+ST18C!AL39+ST19C!AL39+ST20C!AL39)/'Class Results'!$AM$4 -> 0 | J5: =(I5/H5)*100 -> 0
G6: Overall | H6: =SUM(H4:H5) -> 124 | I6: =SUM(I4:I5) -> 0 | J6: =(I6/H6)*100 -> 0
B8: Value | C8: Gained | D8: %
A9: Unit 3 AOS 1 | B9: =(ST1C!AL3+ST2C!AL3+ST3C!AL3+ST4C!AL3+ST5C!AL3+ST6C!AL3+ST7C!AL3+ST8C!AL3+ST9C!AL3+ST10C!AL3+ST11C!AL3+ST12C!AL3+ST13C!AL3+ST14C!AL3+ST15C!AL3+ST16C!AL3+ST17C!AL3+ST18C!AL3+ST19C!AL3+ST20C!AL3)/'Class Results'!$AM$4 -> 75 | C9: =(ST1C!AM3+ST2C!AM3+ST3C!AM3+ST4C!AM3+ST5C!AM3+ST6C!AM3+ST7C!AM3+ST8C!AM3+ST9C!AM3+ST10C!AM3+ST11C!AM3+ST12C!AM3+ST13C!AM3+ST14C!AM3+ST15C!AM3+ST16C!AM3+ST17C!AM3+ST18C!AM3+ST19C!AM3+ST20C!AM3)/'Class Results'!$AM$4 -> 0 | D9: =(C9/B9)*100 -> 0
A10: Unit 3 AOS 2 | B10: =(ST1C!AL4+ST2C!AL4+ST3C!AL4+ST4C!AL4+ST5C!AL4+ST6C!AL4+ST7C!AL4+ST8C!AL4+ST9C!AL4+ST10C!AL4+ST11C!AL4+ST12C!AL4+ST13C!AL4+ST14C!AL4+ST15C!AL4+ST16C!AL4+ST17C!AL4+ST18C!AL4+ST19C!AL4+ST20C!AL4)/'Class Results'!$AM$4 -> 48 | C10: =(ST1C!AM4+ST2C!AM4+ST3C!AM4+ST4C!AM4+ST5C!AM4+ST6C!AM4+ST7C!AM4+ST8C!AM4+ST9C!AM4+ST10C!AM4+ST11C!AM4+ST12C!AM4+ST13C!AM4+ST14C!AM4+ST15C!AM4+ST16C!AM4+ST17C!AM4+ST18C!AM4+ST19C!AM4+ST20C!AM4)/'Class Results'!$AM$4 -> 0 | D10: =(C10/B10)*100 -> 0
B14: Unit 3
A15: =ST1C!AJ5 -> volumetric | B15: =(ST1C!AL5+ST2C!AL5+ST3C!AL5+ST4C!AL5+ST5C!AL5+ST6C!AL5+ST7C!AL5+ST8C!AL5+ST9C!AL5+ST10C!AL5+ST11C!AL5+ST12C!AL5+ST13C!AL5+ST14C!AL5+ST15C!AL5+ST16C!AL5+ST17C!AL5+ST18C!AL5+ST19C!AL5+ST20C!AL5)/'Class Results'!$AM$4 -> 10 | C15: =(ST1C!AM5+ST2C!AM5+ST3C!AM5+ST4C!AM5+ST5C!AM5+ST6C!AM5+ST7C!AM5+ST8C!AM5+ST9C!AM5+ST10C!AM5+ST11C!AM5+ST12C!AM5+ST13C!AM5+ST14C!AM5+ST15C!AM5+ST16C!AM5+ST17C!AM5+ST18C!AM5+ST19C!AM5+ST20C!AM5)/'Class Results'!$AM$4 -> 0 | D15: =(C15/B15)*100 -> 0
A16: =ST1C!AJ6 -> gravimetric analysis | B16: =(ST1C!AL6+ST2C!AL6+ST3C!AL6+ST4C!AL6+ST5C!AL6+ST6C!AL6+ST7C!AL6+ST8C!AL6+ST9C!AL6+ST10C!AL6+ST11C!AL6+ST12C!AL6+ST13C!AL6+ST14C!AL6+ST15C!AL6+ST16C!AL6+ST17C!AL6+ST18C!AL6+ST19C!AL6+ST20C!AL6)/'Class Results'!$AM$4 -> 2 | C16: =(ST1C!AM6+ST2C!AM6+ST3C!AM6+ST4C!AM6+ST5C!AM6+ST6C!AM6+ST7C!AM6+ST8C!AM6+ST9C!AM6+ST10C!AM6+ST11C!AM6+ST12C!AM6+ST13C!AM6+ST14C!AM6+ST15C!AM6+ST16C!AM6+ST17C!AM6+ST18C!AM6+ST19C!AM6+ST20C!AM6)/'Class Results'!$AM$4 -> 0 | D16: =(C16/B16)*100 -> 0
A17: =ST1C!AJ7 -> calculations | B17: =(ST1C!AL7+ST2C!AL7+ST3C!AL7+ST4C!AL7+ST5C!AL7+ST6C!AL7+ST7C!AL7+ST8C!AL7+ST9C!AL7+ST10C!AL7+ST11C!AL7+ST12C!AL7+ST13C!AL7+ST14C!AL7+ST15C!AL7+ST16C!AL7+ST17C!AL7+ST18C!AL7+ST19C!AL7+ST20C!AL7)/'Class Results'!$AM$4 -> 21 | C17: =(ST1C!AM7+ST2C!AM7+ST3C!AM7+ST4C!AM7+ST5C!AM7+ST6C!AM7+ST7C!AM7+ST8C!AM7+ST9C!AM7+ST10C!AM7+ST11C!AM7+ST12C!AM7+ST13C!AM7+ST14C!AM7+ST15C!AM7+ST16C!AM7+ST17C!AM7+ST18C!AM7+ST19C!AM7+ST20C!AM7)/'Class Results'!$AM$4 -> 0 | D17: =(C17/B17)*100 -> 0
A18: =ST1C!AJ8 -> chemical equations | B18: =(ST1C!AL8+ST2C!AL8+ST3C!AL8+ST4C!AL8+ST5C!AL8+ST6C!AL8+ST7C!AL8+ST8C!AL8+ST9C!AL8+ST10C!AL8+ST11C!AL8+ST12C!AL8+ST13C!AL8+ST14C!AL8+ST15C!AL8+ST16C!AL8+ST17C!AL8+ST18C!AL8+ST19C!AL8+ST20C!AL8)/'Class Results'!$AM$4 -> 12 | C18: =(ST1C!AM8+ST2C!AM8+ST3C!AM8+ST4C!AM8+ST5C!AM8+ST6C!AM8+ST7C!AM8+ST8C!AM8+ST9C!AM8+ST10C!AM8+ST11C!AM8+ST12C!AM8+ST13C!AM8+ST14C!AM8+ST15C!AM8+ST16C!AM8+ST17C!AM8+ST18C!AM8+ST19C!AM8+ST20C!AM8)/'Class Results'!$AM$4 -> 0 | D18: =(C18/B18)*100 -> 0
A19: =ST1C!AJ9 -> chromatographic techniques | B19: =(ST1C!AL9+ST2C!AL9+ST3C!AL9+ST4C!AL9+ST5C!AL9+ST6C!AL9+ST7C!AL9+ST8C!AL9+ST9C!AL9+ST10C!AL9+ST11C!AL9+ST12C!AL9+ST13C!AL9+ST14C!AL9+ST15C!AL9+ST16C!AL9+ST17C!AL9+ST18C!AL9+ST19C!AL9+ST20C!AL9)/'Class Results'!$AM$4 -> 1 | C19: =(ST1C!AM9+ST2C!AM9+ST3C!AM9+ST4C!AM9+ST5C!AM9+ST6C!AM9+ST7C!AM9+ST8C!AM9+ST9C!AM9+ST10C!AM9+ST11C!AM9+ST12C!AM9+ST13C!AM9+ST14C!AM9+ST15C!AM9+ST16C!AM9+ST17C!AM9+ST18C!AM9+ST19C!AM9+ST20C!AM9)/'Class Results'!$AM$4 -> 0 | D19: =(C19/B19)*100 -> 0
A20: =ST1C!AJ10 -> spectroscopic techniques | B20: =(ST1C!AL10+ST2C!AL10+ST3C!AL10+ST4C!AL10+ST5C!AL10+ST6C!AL10+ST7C!AL10+ST8C!AL10+ST9C!AL10+ST10C!AL10+ST11C!AL10+ST12C!AL10+ST13C!AL10+ST14C!AL10+ST15C!AL10+ST16C!AL10+ST17C!AL10+ST18C!AL10+ST19C!AL10+ST20C!AL10)/'Class Results'!$AM$4 -> 28 | C20: =(ST1C!AM10+ST2C!AM10+ST3C!AM10+ST4C!AM10+ST5C!AM10+ST6C!AM10+ST7C!AM10+ST8C!AM10+ST9C!AM10+ST10C!AM10+ST11C!AM10+ST12C!AM10+ST13C!AM10+ST14C!AM10+ST15C!AM10+ST16C!AM10+ST17C!AM10+ST18C!AM10+ST19C!AM10+ST20C!AM10)/'Class Results'!$AM$4 -> 0 | D20: =(C20/B20)*100 -> 0
A21: =ST1C!AJ11 -> matching analytical techniques | B21: =(ST1C!AL11+ST2C!AL11+ST3C!AL11+ST4C!AL11+ST5C!AL11+ST6C!AL11+ST7C!AL11+ST8C!AL11+ST9C!AL11+ST10C!AL11+ST11C!AL11+ST12C!AL11+ST13C!AL11+ST14C!AL11+ST15C!AL11+ST16C!AL11+ST17C!AL11+ST18C!AL11+ST19C!AL11+ST20C!AL11)/'Class Results'!$AM$4 -> 1 | C21: =(ST1C!AM11+ST2C!AM11+ST3C!AM11+ST4C!AM11+ST5C!AM11+ST6C!AM11+ST7C!AM11+ST8C!AM11+ST9C!AM11+ST10C!AM11+ST11C!AM11+ST12C!AM11+ST13C!AM11+ST14C!AM11+ST15C!AM11+ST16C!AM11+ST17C!AM11+ST18C!AM11+ST19C!AM11+ST20C!AM11)/'Class Results'!$AM$4 -> 0 | D21: =(C21/B21)*100 -> 0
A22: =ST1C!AJ12 -> organic structures | B22: =(ST1C!AL12+ST2C!AL12+ST3C!AL12+ST4C!AL12+ST5C!AL12+ST6C!AL12+ST7C!AL12+ST8C!AL12+ST9C!AL12+ST10C!AL12+ST11C!AL12+ST12C!AL12+ST13C!AL12+ST14C!AL12+ST15C!AL12+ST16C!AL12+ST17C!AL12+ST18C!AL12+ST19C!AL12+ST20C!AL12)/'Class Results'!$AM$4 -> 16 | C22: =(ST1C!AM12+ST2C!AM12+ST3C!AM12+ST4C!AM12+ST5C!AM12+ST6C!AM12+ST7C!AM12+ST8C!AM12+ST9C!AM12+ST10C!AM12+ST11C!AM12+ST12C!AM12+ST13C!AM12+ST14C!AM12+ST15C!AM12+ST16C!AM12+ST17C!AM12+ST18C!AM12+ST19C!AM12+ST20C!AM12)/'Class Results'!$AM$4 -> 0 | D22: =(C22/B22)*100 -> 0
A23: =ST1C!AJ13 -> common organic reactions | B23: =(ST1C!AL13+ST2C!AL13+ST3C!AL13+ST4C!AL13+ST5C!AL13+ST6C!AL13+ST7C!AL13+ST8C!AL13+ST9C!AL13+ST10C!AL13+ST11C!AL13+ST12C!AL13+ST13C!AL13+ST14C!AL13+ST15C!AL13+ST16C!AL13+ST17C!AL13+ST18C!AL13+ST19C!AL13+ST20C!AL13)/'Class Results'!$AM$4 -> 7 | C23: =(ST1C!AM13+ST2C!AM13+ST3C!AM13+ST4C!AM13+ST5C!AM13+ST6C!AM13+ST7C!AM13+ST8C!AM13+ST9C!AM13+ST10C!AM13+ST11C!AM13+ST12C!AM13+ST13C!AM13+ST14C!AM13+ST15C!AM13+ST16C!AM13+ST17C!AM13+ST18C!AM13+ST19C!AM13+ST20C!AM13)/'Class Results'!$AM$4 -> 0 | D23: =(C23/B23)*100 -> 0
A24: =ST1C!AJ14 -> chemical bonding proteins | B24: =(ST1C!AL14+ST2C!AL14+ST3C!AL14+ST4C!AL14+ST5C!AL14+ST6C!AL14+ST7C!AL14+ST8C!AL14+ST9C!AL14+ST10C!AL14+ST11C!AL14+ST12C!AL14+ST13C!AL14+ST14C!AL14+ST15C!AL14+ST16C!AL14+ST17C!AL14+ST18C!AL14+ST19C!AL14+ST20C!AL14)/'Class Results'!$AM$4 -> 5 | C24: =(ST1C!AM14+ST2C!AM14+ST3C!AM14+ST4C!AM14+ST5C!AM14+ST6C!AM14+ST7C!AM14+ST8C!AM14+ST9C!AM14+ST10C!AM14+ST11C!AM14+ST12C!AM14+ST13C!AM14+ST14C!AM14+ST15C!AM14+ST16C!AM14+ST17C!AM14+ST18C!AM14+ST19C!AM14+ST20C!AM14)/'Class Results'!$AM$4 -> 0 | D24: =(C24/B24)*100 -> 0
A25: =ST1C!AJ15 -> DNA | B25: =(ST1C!AL15+ST2C!AL15+ST3C!AL15+ST4C!AL15+ST5C!AL15+ST6C!AL15+ST7C!AL15+ST8C!AL15+ST9C!AL15+ST10C!AL15+ST11C!AL15+ST12C!AL15+ST13C!AL15+ST14C!AL15+ST15C!AL15+ST16C!AL15+ST17C!AL15+ST18C!AL15+ST19C!AL15+ST20C!AL15)/'Class Results'!$AM$4 -> 5 | C25: =(ST1C!AM15+ST2C!AM15+ST3C!AM15+ST4C!AM15+ST5C!AM15+ST6C!AM15+ST7C!AM15+ST8C!AM15+ST9C!AM15+ST10C!AM15+ST11C!AM15+ST12C!AM15+ST13C!AM15+ST14C!AM15+ST15C!AM15+ST16C!AM15+ST17C!AM15+ST18C!AM15+ST19C!AM15+ST20C!AM15)/'Class Results'!$AM$4 -> 0 | D25: =(C25/B25)*100 -> 0
A26: =ST1C!AJ16 -> organic reaction pathways | B26: =(ST1C!AL16+ST2C!AL16+ST3C!AL16+ST4C!AL16+ST5C!AL16+ST6C!AL16+ST7C!AL16+ST8C!AL16+ST9C!AL16+ST10C!AL16+ST11C!AL16+ST12C!AL16+ST13C!AL16+ST14C!AL16+ST15C!AL16+ST16C!AL16+ST17C!AL16+ST18C!AL16+ST19C!AL16+ST20C!AL16)/'Class Results'!$AM$4 -> 10 | C26: =(ST1C!AM16+ST2C!AM16+ST3C!AM16+ST4C!AM16+ST5C!AM16+ST6C!AM16+ST7C!AM16+ST8C!AM16+ST9C!AM16+ST10C!AM16+ST11C!AM16+ST12C!AM16+ST13C!AM16+ST14C!AM16+ST15C!AM16+ST16C!AM16+ST17C!AM16+ST18C!AM16+ST19C!AM16+ST20C!AM16)/'Class Results'!$AM$4 -> 0 | D26: =(C26/B26)*100 -> 0
... A28: =ST1C!AJ18 -> medicine synthesis | B28: =(ST1C!AL18+ST2C!AL18+ST3C!AL18+ST4C!AL18+ST5C!AL18+ST6C!AL18+ST7C!AL18+ST8C!AL18+ST9C!AL18+ST10C!AL18+ST11C!AL18+ST12C!AL18+ST13C!AL18+ST14C!AL18+ST15C!AL18+ST16C!AL18+ST17C!AL18+ST18C!AL18+ST19C!AL18+ST20C!AL18)/'Class Results'!$AM$4 -> 1 | C28: =(ST1C!AM18+ST2C!AM18+ST3C!AM18+ST4C!AM18+ST5C!AM18+ST6C!AM18+ST7C!AM18+ST8C!AM18+ST9C!AM18+ST10C!AM18+ST11C!AM18+ST12C!AM18+ST13C!AM18+ST14C!AM18+ST15C!AM18+ST16C!AM18+ST17C!AM18+ST18C!AM18+ST19C!AM18+ST20C!AM18)/'Class Results'!$AM$4 -> 0 | D28: =(C28/B28)*100 -> 0
A35: Exam Name: | B35: =B3 -> LisaChem 2013
A37: Name | B37: =B5 -> Class Summary
B39: Value | C39: Gained | D39: %
A40: Unit 4 AOS 1 | B40: =(ST1C!AL20+ST2C!AL20+ST3C!AL20+ST4C!AL20+ST5C!AL20+ST6C!AL20+ST7C!AL20+ST8C!AL20+ST9C!AL20+ST10C!AL20+ST11C!AL20+ST12C!AL20+ST13C!AL20+ST14C!AL20+ST15C!AL20+ST16C!AL20+ST17C!AL20+ST18C!AL20+ST19C!AL20+ST20C!AL20)/'Class Results'!$AM$4 -> 33 | C40: =(ST1C!AM20+ST2C!AM20+ST3C!AM20+ST4C!AM20+ST5C!AM20+ST6C!AM20+ST7C!AM20+ST8C!AM20+ST9C!AM20+ST10C!AM20+ST11C!AM20+ST12C!AM20+ST13C!AM20+ST14C!AM20+ST15C!AM20+ST16C!AM20+ST17C!AM20+ST18C!AM20+ST19C!AM20+ST20C!AM20)/'Class Results'!$AM$4 -> 0 | D40: =(C40/B40)*100 -> 0
A41: Unit 4 AOS 2 | B41: =(ST1C!AL21+ST2C!AL21+ST3C!AL21+ST4C!AL21+ST5C!AL21+ST6C!AL21+ST7C!AL21+ST8C!AL21+ST9C!AL21+ST10C!AL21+ST11C!AL21+ST12C!AL21+ST13C!AL21+ST14C!AL21+ST15C!AL21+ST16C!AL21+ST17C!AL21+ST18C!AL21+ST19C!AL21+ST20C!AL21)/'Class Results'!$AM$4 -> 48 | C41: =(ST1C!AM21+ST2C!AM21+ST3C!AM21+ST4C!AM21+ST5C!AM21+ST6C!AM21+ST7C!AM21+ST8C!AM21+ST9C!AM21+ST10C!AM21+ST11C!AM21+ST12C!AM21+ST13C!AM21+ST14C!AM21+ST15C!AM21+ST16C!AM21+ST17C!AM21+ST18C!AM21+ST19C!AM21+ST20C!AM21)/'Class Results'!$AM$4 -> 0 | D41: =(C41/B41)*100 -> 0
B44: Unit 4
A45: =ST1C!AJ22 -> Rates of reaction | B45: =(ST1C!AL22+ST2C!AL22+ST3C!AL22+ST4C!AL22+ST5C!AL22+ST6C!AL22+ST7C!AL22+ST8C!AL22+ST9C!AL22+ST10C!AL22+ST11C!AL22+ST12C!AL22+ST13C!AL22+ST14C!AL22+ST15C!AL22+ST16C!AL22+ST17C!AL22+ST18C!AL22+ST19C!AL22+ST20C!AL22)/'Class Results'!$AM$4 -> 19 | C45: =(ST1C!AM22+ST2C!AM22+ST3C!AM22+ST4C!AM22+ST5C!AM22+ST6C!AM22+ST7C!AM22+ST8C!AM22+ST9C!AM22+ST10C!AM22+ST11C!AM22+ST12C!AM22+ST13C!AM22+ST14C!AM22+ST15C!AM22+ST16C!AM22+ST17C!AM22+ST18C!AM22+ST19C!AM22+ST20C!AM22)/'Class Results'!$AM$4 -> 0 | D45: =(C45/B45)*100 -> 0
A46: =ST1C!AJ23 -> Energy of reactions | B46: =(ST1C!AL23+ST2C!AL23+ST3C!AL23+ST4C!AL23+ST5C!AL23+ST6C!AL23+ST7C!AL23+ST8C!AL23+ST9C!AL23+ST10C!AL23+ST11C!AL23+ST12C!AL23+ST13C!AL23+ST14C!AL23+ST15C!AL23+ST16C!AL23+ST17C!AL23+ST18C!AL23+ST19C!AL23+ST20C!AL23)/'Class Results'!$AM$4 -> 0 | C46: =(ST1C!AM23+ST2C!AM23+ST3C!AM23+ST4C!AM23+ST5C!AM23+ST6C!AM23+ST7C!AM23+ST8C!AM23+ST9C!AM23+ST10C!AM23+ST11C!AM23+ST12C!AM23+ST13C!AM23+ST14C!AM23+ST15C!AM23+ST16C!AM23+ST17C!AM23+ST18C!AM23+ST19C!AM23+ST20C!AM23)/'Class Results'!$AM$4 -> 0 | D46: =(C46/B46)*100 -> #DIV/0!
A47: =ST1C!AJ24 -> Equilibrium | B47: =(ST1C!AL24+ST2C!AL24+ST3C!AL24+ST4C!AL24+ST5C!AL24+ST6C!AL24+ST7C!AL24+ST8C!AL24+ST9C!AL24+ST10C!AL24+ST11C!AL24+ST12C!AL24+ST13C!AL24+ST14C!AL24+ST15C!AL24+ST16C!AL24+ST17C!AL24+ST18C!AL24+ST19C!AL24+ST20C!AL24)/'Class Results'!$AM$4 -> 14 | C47: =(ST1C!AM24+ST2C!AM24+ST3C!AM24+ST4C!AM24+ST5C!AM24+ST6C!AM24+ST7C!AM24+ST8C!AM24+ST9C!AM24+ST10C!AM24+ST11C!AM24+ST12C!AM24+ST13C!AM24+ST14C!AM24+ST15C!AM24+ST16C!AM24+ST17C!AM24+ST18C!AM24+ST19C!AM24+ST20C!AM24)/'Class Results'!$AM$4 -> 0 | D47: =(C47/B47)*100 -> 0
A48: =ST1C!AJ25 -> Application of equil & rates | B48: =(ST1C!AL25+ST2C!AL25+ST3C!AL25+ST4C!AL25+ST5C!AL25+ST6C!AL25+ST7C!AL25+ST8C!AL25+ST9C!AL25+ST10C!AL25+ST11C!AL25+ST12C!AL25+ST13C!AL25+ST14C!AL25+ST15C!AL25+ST16C!AL25+ST17C!AL25+ST18C!AL25+ST19C!AL25+ST20C!AL25)/'Class Results'!$AM$4 -> 0 | C48: =(ST1C!AM25+ST2C!AM25+ST3C!AM25+ST4C!AM25+ST5C!AM25+ST6C!AM25+ST7C!AM25+ST8C!AM25+ST9C!AM25+ST10C!AM25+ST11C!AM25+ST12C!AM25+ST13C!AM25+ST14C!AM25+ST15C!AM25+ST16C!AM25+ST17C!AM25+ST18C!AM25+ST19C!AM25+ST20C!AM25)/'Class Results'!$AM$4 -> 0 | D48: =(C48/B48)*100 -> #DIV/0!
A49: =ST1C!AJ26 -> Energy sources renewability | B49: =(ST1C!AL26+ST2C!AL26+ST3C!AL26+ST4C!AL26+ST5C!AL26+ST6C!AL26+ST7C!AL26+ST8C!AL26+ST9C!AL26+ST10C!AL26+ST11C!AL26+ST12C!AL26+ST13C!AL26+ST14C!AL26+ST15C!AL26+ST16C!AL26+ST17C!AL26+ST18C!AL26+ST19C!AL26+ST20C!AL26)/'Class Results'!$AM$4 -> 2 | C49: =(ST1C!AM26+ST2C!AM26+ST3C!AM26+ST4C!AM26+ST5C!AM26+ST6C!AM26+ST7C!AM26+ST8C!AM26+ST9C!AM26+ST10C!AM26+ST11C!AM26+ST12C!AM26+ST13C!AM26+ST14C!AM26+ST15C!AM26+ST16C!AM26+ST17C!AM26+ST18C!AM26+ST19C!AM26+ST20C!AM26)/'Class Results'!$AM$4 -> 0 | D49: =(C49/B49)*100 -> 0
A50: =ST1C!AJ27 -> Calorimetry | B50: =(ST1C!AL27+ST2C!AL27+ST3C!AL27+ST4C!AL27+ST5C!AL27+ST6C!AL27+ST7C!AL27+ST8C!AL27+ST9C!AL27+ST10C!AL27+ST11C!AL27+ST12C!AL27+ST13C!AL27+ST14C!AL27+ST15C!AL27+ST16C!AL27+ST17C!AL27+ST18C!AL27+ST19C!AL27+ST20C!AL27)/'Class Results'!$AM$4 -> 2 | C50: =(ST1C!AM27+ST2C!AM27+ST3C!AM27+ST4C!AM27+ST5C!AM27+ST6C!AM27+ST7C!AM27+ST8C!AM27+ST9C!AM27+ST10C!AM27+ST11C!AM27+ST12C!AM27+ST13C!AM27+ST14C!AM27+ST15C!AM27+ST16C!AM27+ST17C!AM27+ST18C!AM27+ST19C!AM27+ST20C!AM27)/'Class Results'!$AM$4 -> 0 | D50: =(C50/B50)*100 -> 0
A51: =ST1C!AJ28 -> Electrochemical Series | B51: =(ST1C!AL28+ST2C!AL28+ST3C!AL28+ST4C!AL28+ST5C!AL28+ST6C!AL28+ST7C!AL28+ST8C!AL28+ST9C!AL28+ST10C!AL28+ST11C!AL28+ST12C!AL28+ST13C!AL28+ST14C!AL28+ST15C!AL28+ST16C!AL28+ST17C!AL28+ST18C!AL28+ST19C!AL28+ST20C!AL28)/'Class Results'!$AM$4 -> 8 | C51: =(ST1C!AM28+ST2C!AM28+ST3C!AM28+ST4C!AM28+ST5C!AM28+ST6C!AM28+ST7C!AM28+ST8C!AM28+ST9C!AM28+ST10C!AM28+ST11C!AM28+ST12C!AM28+ST13C!AM28+ST14C!AM28+ST15C!AM28+ST16C!AM28+ST17C!AM28+ST18C!AM28+ST19C!AM28+ST20C!AM28)/'Class Results'!$AM$4 -> 0 | D51: =(C51/B51)*100 -> 0
A52: =ST1C!AJ29 -> Galvanic Cells | B52: =(ST1C!AL29+ST2C!AL29+ST3C!AL29+ST4C!AL29+ST5C!AL29+ST6C!AL29+ST7C!AL29+ST8C!AL29+ST9C!AL29+ST10C!AL29+ST11C!AL29+ST12C!AL29+ST13C!AL29+ST14C!AL29+ST15C!AL29+ST16C!AL29+ST17C!AL29+ST18C!AL29+ST19C!AL29+ST20C!AL29)/'Class Results'!$AM$4 -> 12 | C52: =(ST1C!AM29+ST2C!AM29+ST3C!AM29+ST4C!AM29+ST5C!AM29+ST6C!AM29+ST7C!AM29+ST8C!AM29+ST9C!AM29+ST10C!AM29+ST11C!AM29+ST12C!AM29+ST13C!AM29+ST14C!AM29+ST15C!AM29+ST16C!AM29+ST17C!AM29+ST18C!AM29+ST19C!AM29+ST20C!AM29)/'Class Results'!$AM$4 -> 0 | D52: =(C52/B52)*100 -> 0
A53: =ST1C!AJ30 -> Fuel Cells | B53: =(ST1C!AL30+ST2C!AL30+ST3C!AL30+ST4C!AL30+ST5C!AL30+ST6C!AL30+ST7C!AL30+ST8C!AL30+ST9C!AL30+ST10C!AL30+ST11C!AL30+ST12C!AL30+ST13C!AL30+ST14C!AL30+ST15C!AL30+ST16C!AL30+ST17C!AL30+ST18C!AL30+ST19C!AL30+ST20C!AL30)/'Class Results'!$AM$4 -> 8 | C53: =(ST1C!AM30+ST2C!AM30+ST3C!AM30+ST4C!AM30+ST5C!AM30+ST6C!AM30+ST7C!AM30+ST8C!AM30+ST9C!AM30+ST10C!AM30+ST11C!AM30+ST12C!AM30+ST13C!AM30+ST14C!AM30+ST15C!AM30+ST16C!AM30+ST17C!AM30+ST18C!AM30+ST19C!AM30+ST20C!AM30)/'Class Results'!$AM$4 -> 0 | D53: =(C53/B53)*100 -> 0
A54: =ST1C!AJ31 -> Electrolytic Cells | B54: =(ST1C!AL31+ST2C!AL31+ST3C!AL31+ST4C!AL31+ST5C!AL31+ST6C!AL31+ST7C!AL31+ST8C!AL31+ST9C!AL31+ST10C!AL31+ST11C!AL31+ST12C!AL31+ST13C!AL31+ST14C!AL31+ST15C!AL31+ST16C!AL31+ST17C!AL31+ST18C!AL31+ST19C!AL31+ST20C!AL31)/'Class Results'!$AM$4 -> 11 | C54: =(ST1C!AM31+ST2C!AM31+ST3C!AM31+ST4C!AM31+ST5C!AM31+ST6C!AM31+ST7C!AM31+ST8C!AM31+ST9C!AM31+ST10C!AM31+ST11C!AM31+ST12C!AM31+ST13C!AM31+ST14C!AM31+ST15C!AM31+ST16C!AM31+ST17C!AM31+ST18C!AM31+ST19C!AM31+ST20C!AM31)/'Class Results'!$AM$4 -> 0 | D54: =(C54/B54)*100 -> 0
A55: =ST1C!AJ32 -> Faradays Laws | B55: =(ST1C!AL32+ST2C!AL32+ST3C!AL32+ST4C!AL32+ST5C!AL32+ST6C!AL32+ST7C!AL32+ST8C!AL32+ST9C!AL32+ST10C!AL32+ST11C!AL32+ST12C!AL32+ST13C!AL32+ST14C!AL32+ST15C!AL32+ST16C!AL32+ST17C!AL32+ST18C!AL32+ST19C!AL32+ST20C!AL32)/'Class Results'!$AM$4 -> 5 | C55: =(ST1C!AM32+ST2C!AM32+ST3C!AM32+ST4C!AM32+ST5C!AM32+ST6C!AM32+ST7C!AM32+ST8C!AM32+ST9C!AM32+ST10C!AM32+ST11C!AM32+ST12C!AM32+ST13C!AM32+ST14C!AM32+ST15C!AM32+ST16C!AM32+ST17C!AM32+ST18C!AM32+ST19C!AM32+ST20C!AM32)/'Class Results'!$AM$4 -> 0 | D55: =(C55/B55)*100 -> 0
A56: =ST1C!AJ33 -> Key Skills | B56: =(ST1C!AL33+ST2C!AL33+ST3C!AL33+ST4C!AL33+ST5C!AL33+ST6C!AL33+ST7C!AL33+ST8C!AL33+ST9C!AL33+ST10C!AL33+ST11C!AL33+ST12C!AL33+ST13C!AL33+ST14C!AL33+ST15C!AL33+ST16C!AL33+ST17C!AL33+ST18C!AL33+ST19C!AL33+ST20C!AL33)/'Class Results'!$AM$4 -> 20 | C56: =(ST1C!AM33+ST2C!AM33+ST3C!AM33+ST4C!AM33+ST5C!AM33+ST6C!AM33+ST7C!AM33+ST8C!AM33+ST9C!AM33+ST10C!AM33+ST11C!AM33+ST12C!AM33+ST13C!AM33+ST14C!AM33+ST15C!AM33+ST16C!AM33+ST17C!AM33+ST18C!AM33+ST19C!AM33+ST20C!AM33)/'Class Results'!$AM$4 -> 0 | D56: =(C56/B56)*100 -> 0

Sheet EQUAT
A1: EQUAT
A3: Exam: | C3: LisaChem 2013
A5: Multiple Choice | H5: Short Answer
A6: Qu | B6: Ans | C6: Total Marks | E6: Key Knowledge Descriptor | H6: Qu | I6: Total Marks | K6: Key Knowledge Descriptor
A7: 1 | B7: D | C7: 1 | D7: IR | E7: C13NMR | F7: systematic name | H7: 1a | I7: 1 | J7: organic structure
A8: 2 | B8: C | C8: 1 | D8: amount of solids, liquids, gases | H8: 1b | I8: 1 | J8: mass spectrometry
A9: 3 | B9: C | C9: 1 | D9: titration curves | H9: 1c | I9: 2 | J9: IR
A10: 4 | B10: A | C10: 1 | D10: acid-base titrations | E10: data book | H10: 1d | I10: 2 | J10: organic structure | K10: C13NMR | L10: carbon environment
A11: 5 | B11: A | C11: 1 | D11: galvanic primary, principles | E11: electrochemical series | F11: data book | H11: 1e | I11: 5 | J11: common organic reactions | K11: esters from alkenes
A12: 6 | B12: D | C12: 1 | D12: ox numbers | H12: 1f | I12: 1 | J12: esterification
A13: 7 | B13: D | C13: 1 | D13: redox equations | E13: acid-base, pH | F13: fuel cells | H13: 1gi | I13: 2 | J13: Le Chatelier principle | K13: Rates of reaction
A14: 8 | B14: B | C14: 1 | D14: bomb calorimetry | E14: calculations | F14: data book | H14: 1gii | I14: 1 | J14: properties of organic compounds
A15: 9 | B15: A | C15: 1 | D15: galvanic secondary, principles | H15: 1h | I15: 2 | J15: calc delta H from reactions | K15: data book
A16: 10 | B16: D | C16: 1 | D16: Le Chatelier principle | H16: 2a | I16: 1 | J16: chemical principles electrolytic cell
A17: 11 | B17: C | C17: 1 | D17: fuel cells | H17: 2b | I17: 2 | J17: predicting redox products | K17: electrochemical series | L17: chemical principles electrolytic cell
A18: 12 | B18: D | C18: 1 | D18: gravimetric analysis | E18: calculations | F18: chemical equations | H18: 2c | I18: 2 | J18: calculations | K18: chemical principles electrolytic cell
A19: 13 | B19: A | C19: 1 | D19: gravimetric analysis | E19: calculations | F19: chemical equations | H19: 2d | I19: 1 | J19: vis-UV
A20: 14 | B20: B | C20: 1 | D20: AAS | E20: calibration graph AAS or UV | F20: calculations | H20: 2e | I20: 1 | J20: vis-UV
A21: 15 | B21: B | C21: 1 | D21: systematic name | E21: alkanoic acid | F21: calculations | H21: 2f | I21: 2 | J21: Faradays laws | K21: electrolytic cells
A22: 16 | B22: C | C22: 1 | D22: Faradays laws | E22: galvanic primary, principles | F22: redox equations | H22: 2g | I22: 1 | J22: limitations of predictions
A23: 17 | B23: D | C23: 1 | D23: chemical equations | E23: acid-base, pH | F23: aspirin | H23: 2h | I23: 1 | J23: chemical principles electrolytic cell
A24: 18 | B24: A | C24: 1 | D24: organic reaction pathways | H24: 2i | I24: 3 | J24: vis-UV | K24: calibration graph AAS or UV
A25: 19 | B25: D | C25: 1 | D25: Le Chatelier principle | E25: Rates of reaction | H25: 3a | I25: 1 | J25: structural formula | K25: amines
A26: 20 | B26: B | C26: 1 | D26: Ka weak acids | E26: calculations | H26: 3b | I26: 1 | J26: amines | K26: amino acid
A27: 21 | B27: C | C27: 1 | D27: calc delta H from reactions | E27: calculations | F27: data book | H27: 3c | I27: 1 | J27: systematic name
A28: 22 | B28: D | C28: 1 | D28: matching analytical technique | E28: HPLC | H28: 3d | I28: 1 | J28: amino acid | K28: data book | L28: structural formula
A29: 23 | B29: D | C29: 1 | D29: vol - experimental technique | H29: 3e | I29: 2 | J29: cond & poly - proteins | K29: chemical bonding proteins
A30: 24 | B30: A | C30: 1 | D30: mass spectrometry | E30: IR | F30: C13NMR | H30: 3fi | I30: 1 | J30: cond & poly - proteins | K30: protein- primary, secondary, tertiary structure
A31: 25 | B31: B | C31: 1 | D31: mass spectrometry | E31: IR | F31: C13NMR | H31: 3fii | I31: 1 | J31: cond & poly - proteins | K31: protein- primary, secondary, tertiary structure
A32: 26 | B32: C | C32: 1 | D32: Le Chatelier principle | H32: 3fiii | I32: 1 | J32: cond & poly - proteins | K32: protein- primary, secondary, tertiary structure
A33: 27 | B33: B | C33: 1 | D33: chemical principles fuel cell | E33: chemical principles electrolytic cell | H33: 3gi | I33: 2 | J33: DNA | K33: data book
A34: 28 | B34: A | C34: 1 | D34: chemical principles electrolytic cell | E34: molten vs aqueous electrolytic cell | H34: 3gii | I34: 1 | J34: DNA primary structure
A35: 29 | B35: B | C35: 1 | D35: amount of solids, liquids, gases | E35: excess and limiting reagents | H35: 3giii | I35: 1 | J35: DNA secondary structure
A36: 30 | B36: C | C36: 1 | D36: solution calorimetry | H36: 3h | I36: 1 | J36: DNA secondary structure
H37: 4ai | I37: 2 | J37: catalyst effect on rate | K37: calc delta H from reactions | L37: Energy sources - renewability
H38: 4aii | I38: 3 | J38: Equilibrium law
H39: 4aiii | I39: 1 | J39: Equilibrium law | K39: Le Chatelier principle
H40: 4bi | I40: 1 | J40: biochemical fuel production | K40: data book
H41: 4bii | I41: 3 | J41: biodiesel | K41: data book | L41: chemical equations
H42: 4ci | I42: 1 | J42: C13NMR | K42: chemical equations
...

Sheet KKD
A1: Key Knowledge Descriptors
B2: List of Terms used in EQUAT
B3: Unit 3 | F3: Unit 4
B4: Volumetric | F4: Rates of reaction
B5: vol - experimental technique | F5: collision theory
B6: excess and limiting reagents | F6: temperature effect on rate
B7: titration curves | F7: pressure effect on rate
B8: simple titrations | F8: concentration effect on rate
B9: back titrations | F9: catalyst effect on rate
B10: acid-base titrations | F10: Energy of reactions
B11: redox titrations | F11: Energy profile diagrams
B12: acid-base, pH | F12: activation energy
B13: gravimetric analysis | F13: calc delta H from energy profile
B14: grav - experimental technique | F14: calc delta H from chemical equations
F15: catalysts-alternative pathway
B16: calculations | F16: Equiibrium
B17: amount of solids, liquids, gases | F17: Equilibrium law
B18: concentration | F18: Le Chatelier principle
B19: volume, temperature, pressure of gases | F19: pH
B20: unit conversion | F20: Kw
B21: chemical equations | F21: Ka weak acids
B22: ox numbers | F22: Appl of equil & and rate principles
B23: redox equations | F23: Energy sources - renewability
F24: Calorimetry
B25: chromatographic techniques | F25: solution calorimetry
B26: TLC | F26: bomb calorimetry
B27: Rf | F27: calibration calorimetry
B28: HPLC | F28: Effect of heat loss- calorimetry
B29: GC | F29: electrochemical series
B30: Rt | F30: predicting redox products
B31: calibration graph GC | F31: overall redox equations
B32: area under the peak | F32: limitations of predictions
B33: spectroscopic techniques | F33: galvanic cells - primary, secondary
B34: AAS | F34: chemical principles galvanic
B35: IR | F35: half, overall equations galvanic
B36: HNMR | F36: fuel cells
... B47: molecular ion peak | F47: data book
B48: relative molecular mass
B50: matching analytical technique
B53: organic structure
...

Sheet ST1
A1: Student Summary | O1: Exam Name: | P1: =B3 -> LisaChem 2013 | S1: Name: | T1: =B5 -> Student 1
O2: Exam Solution | P2: Student Ans | Q2: Marks Gained | R2: Total Marks Gained MC: | S2: =SUM(Q4:Q33) -> 0
A3: Exam Name: | B3: =EQUAT!C3 -> LisaChem 2013 | H3: Total | I3: Achievement | J3: % | N3: Qu | R3: Key Knowledge Descriptor
G4: Multiple Choice | H4: =ST1C!AK38 -> 30 | I4: =ST1C!AL38 -> 0 | J4: =ST1C!AM38 -> 0 | K4: =(I4/H4)*100 -> 0 | N4: =EQUAT!A7 -> 1 | O4: =EQUAT!B7 -> D | P4: ='Class Results'!C6 -> 0 | Q4: =IF(P4=O4,1,0) -> 0 | R4: =IF(EQUAT!D7=0, "",EQUAT!D7) -> IR | S4: =IF(EQUAT!E7=0, "",EQUAT!E7) -> C13NMR | T4: =IF(EQUAT!F7=0, "",EQUAT!F7) -> systematic name
A5: Name | B5: ='Class Results'!C4 -> Student 1 | G5: Short Answer | H5: =ST1C!AK39 -> 94 | I5: =ST1C!AL39 -> 0 | J5: =ST1C!AM39 -> 0 | N5: =EQUAT!A8 -> 2 | O5: =EQUAT!B8 -> C | P5: ='Class Results'!C7 -> 0 | Q5: =IF(P5=O5,1,0) -> 0 | R5: =IF(EQUAT!D8=0, "",EQUAT!D8) -> amount of solids, liquids, gases | S5: =IF(EQUAT!E8=0, "",EQUAT!E8) | T5: =IF(EQUAT!F8=0, "",EQUAT!F8)
G6: Overall | H6: =SUM(H4:H5) -> 124 | I6: =SUM(I4:I5) -> 0 | J6: =(I6/H6)*100 -> 0 | N6: =EQUAT!A9 -> 3 | O6: =EQUAT!B9 -> C | P6: ='Class Results'!C8 -> 0 | Q6: =IF(P6=O6,1,0) -> 0 | R6: =IF(EQUAT!D9=0, "",EQUAT!D9) -> titration curves | S6: =IF(EQUAT!E9=0, "",EQUAT!E9) | T6: =IF(EQUAT!F9=0, "",EQUAT!F9)
N7: =EQUAT!A10 -> 4 | O7: =EQUAT!B10 -> A | P7: ='Class Results'!C9 -> 0 | Q7: =IF(P7=O7,1,0) -> 0 | R7: =IF(EQUAT!D10=0, "",EQUAT!D10) -> acid-base titrations | S7: =IF(EQUAT!E10=0, "",EQUAT!E10) -> data book | T7: =IF(EQUAT!F10=0, "",EQUAT!F10)
B8: Value | C8: Gained | D8: % | N8: =EQUAT!A11 -> 5 | O8: =EQUAT!B11 -> A | P8: ='Class Results'!C10 -> 0 | Q8: =IF(P8=O8,1,0) -> 0 | R8: =IF(EQUAT!D11=0, "",EQUAT!D11) -> galvanic primary, principles | S8: =IF(EQUAT!E11=0, "",EQUAT!E11) -> electrochemical series | T8: =IF(EQUAT!F11=0, "",EQUAT!F11) -> data book
A9: Unit 3 AOS 1 | B9: =ST1C!AL3 -> 75 | C9: =ST1C!AM3 -> 0 | D9: =ST1C!AN3 -> 0 | N9: =EQUAT!A12 -> 6 | O9: =EQUAT!B12 -> D | P9: ='Class Results'!C11 -> 0 | Q9: =IF(P9=O9,1,0) -> 0 | R9: =IF(EQUAT!D12=0, "",EQUAT!D12) -> ox numbers | S9: =IF(EQUAT!E12=0, "",EQUAT!E12) | T9: =IF(EQUAT!F12=0, "",EQUAT!F12)
A10: Unit 3 AOS 2 | B10: =ST1C!AL4 -> 48 | C10: =ST1C!AM4 -> 0 | D10: =ST1C!AN4 -> 0 | N10: =EQUAT!A13 -> 7 | O10: =EQUAT!B13 -> D | P10: ='Class Results'!C12 -> 0 | Q10: =IF(P10=O10,1,0) -> 0 | R10: =IF(EQUAT!D13=0, "",EQUAT!D13) -> redox equations | S10: =IF(EQUAT!E13=0, "",EQUAT!E13) -> acid-base, pH | T10: =IF(EQUAT!F13=0, "",EQUAT!F13) -> fuel cells
N11: =EQUAT!A14 -> 8 | O11: =EQUAT!B14 -> B | P11: ='Class Results'!C13 -> 0 | Q11: =IF(P11=O11,1,0) -> 0 | R11: =IF(EQUAT!D14=0, "",EQUAT!D14) -> bomb calorimetry | S11: =IF(EQUAT!E14=0, "",EQUAT!E14) -> calculations | T11: =IF(EQUAT!F14=0, "",EQUAT!F14) -> data book
N12: =EQUAT!A15 -> 9 | O12: =EQUAT!B15 -> A | P12: ='Class Results'!C14 -> 0 | Q12: =IF(P12=O12,1,0) -> 0 | R12: =IF(EQUAT!D15=0, "",EQUAT!D15) -> galvanic secondary, principles | S12: =IF(EQUAT!E15=0, "",EQUAT!E15) | T12: =IF(EQUAT!F15=0, "",EQUAT!F15)
N13: =EQUAT!A16 -> 10 | O13: =EQUAT!B16 -> D | P13: ='Class Results'!C15 -> 0 | Q13: =IF(P13=O13,1,0) -> 0 | R13: =IF(EQUAT!D16=0, "",EQUAT!D16) -> Le Chatelier principle | S13: =IF(EQUAT!E16=0, "",EQUAT!E16) | T13: =IF(EQUAT!F16=0, "",EQUAT!F16)
B14: Unit 3 | N14: =EQUAT!A17 -> 11 | O14: =EQUAT!B17 -> C | P14: ='Class Results'!C16 -> 0 | Q14: =IF(P14=O14,1,0) -> 0 | R14: =IF(EQUAT!D17=0, "",EQUAT!D17) -> fuel cells | S14: =IF(EQUAT!E17=0, "",EQUAT!E17) | T14: =IF(EQUAT!F17=0, "",EQUAT!F17)
A15: =ST1C!AJ5 -> volumetric | B15: =ST1C!AL5 -> 10 | C15: =ST1C!AM5 -> 0 | D15: =ST1C!AN5 -> 0 | N15: =EQUAT!A18 -> 12 | O15: =EQUAT!B18 -> D | P15: ='Class Results'!C17 -> 0 | Q15: =IF(P15=O15,1,0) -> 0 | R15: =IF(EQUAT!D18=0, "",EQUAT!D18) -> gravimetric analysis | S15: =IF(EQUAT!E18=0, "",EQUAT!E18) -> calculations | T15: =IF(EQUAT!F18=0, "",EQUAT!F18) -> chemical equations
A16: =ST1C!AJ6 -> gravimetric analysis | B16: =ST1C!AL6 -> 2 | C16: =ST1C!AM6 -> 0 | D16: =ST1C!AN6 -> 0 | N16: =EQUAT!A19 -> 13 | O16: =EQUAT!B19 -> A | P16: ='Class Results'!C18 -> 0 | Q16: =IF(P16=O16,1,0) -> 0 | R16: =IF(EQUAT!D19=0, "",EQUAT!D19) -> gravimetric analysis | S16: =IF(EQUAT!E19=0, "",EQUAT!E19) -> calculations | T16: =IF(EQUAT!F19=0, "",EQUAT!F19) -> chemical equations
A17: =ST1C!AJ7 -> calculations | B17: =ST1C!AL7 -> 21 | C17: =ST1C!AM7 -> 0 | D17: =ST1C!AN7 -> 0 | N17: =EQUAT!A20 -> 14 | O17: =EQUAT!B20 -> B | P17: ='Class Results'!C19 -> 0 | Q17: =IF(P17=O17,1,0) -> 0 | R17: =IF(EQUAT!D20=0, "",EQUAT!D20) -> AAS | S17: =IF(EQUAT!E20=0, "",EQUAT!E20) -> calibration graph AAS or UV | T17: =IF(EQUAT!F20=0, "",EQUAT!F20) -> calculations
A18: =ST1C!AJ8 -> chemical equations | B18: =ST1C!AL8 -> 12 | C18: =ST1C!AM8 -> 0 | D18: =ST1C!AN8 -> 0 | N18: =EQUAT!A21 -> 15 | O18: =EQUAT!B21 -> B | P18: ='Class Results'!C20 -> 0 | Q18: =IF(P18=O18,1,0) -> 0 | R18: =IF(EQUAT!D21=0, "",EQUAT!D21) -> systematic name | S18: =IF(EQUAT!E21=0, "",EQUAT!E21) -> alkanoic acid | T18: =IF(EQUAT!F21=0, "",EQUAT!F21) -> calculations
A19: =ST1C!AJ9 -> chromatographic techniques | B19: =ST1C!AL9 -> 1 | C19: =ST1C!AM9 -> 0 | D19: =ST1C!AN9 -> 0 | N19: =EQUAT!A22 -> 16 | O19: =EQUAT!B22 -> C | P19: ='Class Results'!C21 -> 0 | Q19: =IF(P19=O19,1,0) -> 0 | R19: =IF(EQUAT!D22=0, "",EQUAT!D22) -> Faradays laws | S19: =IF(EQUAT!E22=0, "",EQUAT!E22) -> galvanic primary, principles | T19: =IF(EQUAT!F22=0, "",EQUAT!F22) -> redox equations
A20: =ST1C!AJ10 -> spectroscopic techniques | B20: =ST1C!AL10 -> 28 | C20: =ST1C!AM10 -> 0 | D20: =ST1C!AN10 -> 0 | N20: =EQUAT!A23 -> 17 | O20: =EQUAT!B23 -> D | P20: ='Class Results'!C22 -> 0 | Q20: =IF(P20=O20,1,0) -> 0 | R20: =IF(EQUAT!D23=0, "",EQUAT!D23) -> chemical equations | S20: =IF(EQUAT!E23=0, "",EQUAT!E23) -> acid-base, pH | T20: =IF(EQUAT!F23=0, "",EQUAT!F23) -> aspirin
A21: =ST1C!AJ11 -> matching analytical techniques | B21: =ST1C!AL11 -> 1 | C21: =ST1C!AM11 -> 0 | D21: =ST1C!AN11 -> 0 | N21: =EQUAT!A24 -> 18 | O21: =EQUAT!B24 -> A | P21: ='Class Results'!C23 -> 0 | Q21: =IF(P21=O21,1,0) -> 0 | R21: =IF(EQUAT!D24=0, "",EQUAT!D24) -> organic reaction pathways | S21: =IF(EQUAT!E24=0, "",EQUAT!E24) | T21: =IF(EQUAT!F24=0, "",EQUAT!F24)
A22: =ST1C!AJ12 -> organic structures | B22: =ST1C!AL12 -> 16 | C22: =ST1C!AM12 -> 0 | D22: =ST1C!AN12 -> 0 | N22: =EQUAT!A25 -> 19 | O22: =EQUAT!B25 -> D | P22: ='Class Results'!C24 -> 0 | Q22: =IF(P22=O22,1,0) -> 0 | R22: =IF(EQUAT!D25=0, "",EQUAT!D25) -> Le Chatelier principle | S22: =IF(EQUAT!E25=0, "",EQUAT!E25) -> Rates of reaction | T22: =IF(EQUAT!F25=0, "",EQUAT!F25)
A23: =ST1C!AJ13 -> common organic reactions | B23: =ST1C!AL13 -> 7 | C23: =ST1C!AM13 -> 0 | D23: =ST1C!AN13 -> 0 | N23: =EQUAT!A26 -> 20 | O23: =EQUAT!B26 -> B | P23: ='Class Results'!C25 -> 0 | Q23: =IF(P23=O23,1,0) -> 0 | R23: =IF(EQUAT!D26=0, "",EQUAT!D26) -> Ka weak acids | S23: =IF(EQUAT!E26=0, "",EQUAT!E26) -> calculations | T23: =IF(EQUAT!F26=0, "",EQUAT!F26)
A24: =ST1C!AJ14 -> chemical bonding proteins | B24: =ST1C!AL14 -> 5 | C24: =ST1C!AM14 -> 0 | D24: =ST1C!AN14 -> 0 | N24: =EQUAT!A27 -> 21 | O24: =EQUAT!B27 -> C | P24: ='Class Results'!C26 -> 0 | Q24: =IF(P24=O24,1,0) -> 0 | R24: =IF(EQUAT!D27=0, "",EQUAT!D27) -> calc delta H from reactions | S24: =IF(EQUAT!E27=0, "",EQUAT!E27) -> calculations | T24: =IF(EQUAT!F27=0, "",EQUAT!F27) -> data book
A25: =ST1C!AJ15 -> DNA | B25: =ST1C!AL15 -> 5 | C25: =ST1C!AM15 -> 0 | D25: =ST1C!AN15 -> 0 | N25: =EQUAT!A28 -> 22 | O25: =EQUAT!B28 -> D | P25: ='Class Results'!C27 -> 0 | Q25: =IF(P25=O25,1,0) -> 0 | R25: =IF(EQUAT!D28=0, "",EQUAT!D28) -> matching analytical technique | S25: =IF(EQUAT!E28=0, "",EQUAT!E28) -> HPLC | T25: =IF(EQUAT!F28=0, "",EQUAT!F28)
A26: =ST1C!AJ16 -> organic reaction pathways | B26: =ST1C!AL16 -> 10 | C26: =ST1C!AM16 -> 0 | D26: =ST1C!AN16 -> 0 | N26: =EQUAT!A29 -> 23 | O26: =EQUAT!B29 -> D | P26: ='Class Results'!C28 -> 0 | Q26: =IF(P26=O26,1,0) -> 0 | R26: =IF(EQUAT!D29=0, "",EQUAT!D29) -> vol - experimental technique | S26: =IF(EQUAT!E29=0, "",EQUAT!E29) | T26: =IF(EQUAT!F29=0, "",EQUAT!F29)
... A28: =ST1C!AJ18 -> medicine synthesis | B28: =ST1C!AL18 -> 1 | C28: =ST1C!AM18 -> 0 | D28: =ST1C!AN18 -> 0 | N28: =EQUAT!A31 -> 25 | O28: =EQUAT!B31 -> B | P28: ='Class Results'!C30 -> 0 | Q28: =IF(P28=O28,1,0) -> 0 | R28: =IF(EQUAT!D31=0, "",EQUAT!D31) -> mass spectrometry | S28: =IF(EQUAT!E31=0, "",EQUAT!E31) -> IR | T28: =IF(EQUAT!F31=0, "",EQUAT!F31) -> C13NMR
N29: =EQUAT!A32 -> 26 | O29: =EQUAT!B32 -> C | P29: ='Class Results'!C31 -> 0 | Q29: =IF(P29=O29,1,0) -> 0 | R29: =IF(EQUAT!D32=0, "",EQUAT!D32) -> Le Chatelier principle | S29: =IF(EQUAT!E32=0, "",EQUAT!E32) | T29: =IF(EQUAT!F32=0, "",EQUAT!F32)
N30: =EQUAT!A33 -> 27 | O30: =EQUAT!B33 -> B | P30: ='Class Results'!C32 -> 0 | Q30: =IF(P30=O30,1,0) -> 0 | R30: =IF(EQUAT!D33=0, "",EQUAT!D33) -> chemical principles fuel cell | S30: =IF(EQUAT!E33=0, "",EQUAT!E33) -> chemical principles electrolytic cell | T30: =IF(EQUAT!F33=0, "",EQUAT!F33)
N31: =EQUAT!A34 -> 28 | O31: =EQUAT!B34 -> A | P31: ='Class Results'!C33 -> 0 | Q31: =IF(P31=O31,1,0) -> 0 | R31: =IF(EQUAT!D34=0, "",EQUAT!D34) -> chemical principles electrolytic cell | S31: =IF(EQUAT!E34=0, "",EQUAT!E34) -> molten vs aqueous electrolytic cell | T31: =IF(EQUAT!F34=0, "",EQUAT!F34)
N32: =EQUAT!A35 -> 29 | O32: =EQUAT!B35 -> B | P32: ='Class Results'!C34 -> 0 | Q32: =IF(P32=O32,1,0) -> 0 | R32: =IF(EQUAT!D35=0, "",EQUAT!D35) -> amount of solids, liquids, gases | S32: =IF(EQUAT!E35=0, "",EQUAT!E35) -> excess and limiting reagents | T32: =IF(EQUAT!F35=0, "",EQUAT!F35)
N33: =EQUAT!A36 -> 30 | O33: =EQUAT!B36 -> C | P33: ='Class Results'!C35 -> 0 | Q33: =IF(P33=O33,1,0) -> 0 | R33: =IF(EQUAT!D36=0, "",EQUAT!D36) -> solution calorimetry | S33: =IF(EQUAT!E36=0, "",EQUAT!E36) | T33: =IF(EQUAT!F36=0, "",EQUAT!F36)
O34: Exam Name: | P34: =B3 -> LisaChem 2013 | S34: Name: | T34: =B5 -> Student 1
A35: Exam Name: | B35: =B3 -> LisaChem 2013 | O35: Total | P35: Marks Gained | Q35: Marks Lost
N36: Qu | S36: Key Knowledge Descriptor
A37: Name | B37: =B5 -> Student 1 | N37: =EQUAT!H7 -> 1a | O37: =EQUAT!I7 -> 1 | P37: =ST1C!B34 -> 0 | Q37: =O37-P37 -> 1 | R37: =IF(EQUAT!J7=0," ",EQUAT!J7) -> organic structure | S37: =IF(EQUAT!K7=0," ",EQUAT!K7) | T37: =IF(EQUAT!L7=0," ",EQUAT!L7)
N38: =EQUAT!H8 -> 1b | O38: =EQUAT!I8 -> 1 | P38: =ST1C!B35 -> 0 | Q38: =O38-P38 -> 1 | R38: =IF(EQUAT!J8=0," ",EQUAT!J8) -> mass spectrometry | S38: =IF(EQUAT!K8=0," ",EQUAT!K8) | T38: =IF(EQUAT!L8=0," ",EQUAT!L8)
B39: Value | C39: Gained | D39: % | N39: =EQUAT!H9 -> 1c | O39: =EQUAT!I9 -> 2 | P39: =ST1C!B36 -> 0 | Q39: =O39-P39 -> 2 | R39: =IF(EQUAT!J9=0," ",EQUAT!J9) -> IR | S39: =IF(EQUAT!K9=0," ",EQUAT!K9) | T39: =IF(EQUAT!L9=0," ",EQUAT!L9)
A40: Unit 4 AOS 1 | B40: =ST1C!AL20 -> 33 | C40: =ST1C!AM20 -> 0 | D40: =ST1C!AN20 -> 0 | N40: =EQUAT!H10 -> 1d | O40: =EQUAT!I10 -> 2 | P40: =ST1C!B37 -> 0 | Q40: =O40-P40 -> 2 | R40: =IF(EQUAT!J10=0," ",EQUAT!J10) -> organic structure | S40: =IF(EQUAT!K10=0," ",EQUAT!K10) -> C13NMR | T40: =IF(EQUAT!L10=0," ",EQUAT!L10) -> carbon environment
A41: Unit 4 AOS 2 | B41: =ST1C!AL21 -> 48 | C41: =ST1C!AM21 -> 0 | D41: =ST1C!AN21 -> 0 | N41: =EQUAT!H11 -> 1e | O41: =EQUAT!I11 -> 5 | P41: =ST1C!B38 -> 0 | Q41: =O41-P41 -> 5 | R41: =IF(EQUAT!J11=0," ",EQUAT!J11) -> common organic reactions | S41: =IF(EQUAT!K11=0," ",EQUAT!K11) -> esters from alkenes | T41: =IF(EQUAT!L11=0," ",EQUAT!L11)
...

Sheet ST2
A1: Student Summary | O1: Exam Name: | P1: =B3 -> LisaChem 2013 | S1: Name: | T1: =B5 -> Student 2
O2: Exam Solution | P2: Student Ans | Q2: Marks Gained | R2: Total Marks Gained MC: | S2: =SUM(Q4:Q33) -> 0
A3: Exam Name: | B3: =EQUAT!C3 -> LisaChem 2013 | H3: Total | I3: Achievement | J3: % | N3: Qu | R3: Key Knowledge Descriptor
G4: Multiple Choice | H4: =ST2C!AK38 -> 30 | I4: =ST2C!AL38 -> 0 | J4: =ST2C!AM38 -> 0 | N4: =EQUAT!A7 -> 1 | O4: =EQUAT!B7 -> D | P4: ='Class Results'!D6 -> 0 | Q4: =IF(P4=O4,1,0) -> 0 | R4: =IF(EQUAT!D7=0, "",EQUAT!D7) -> IR | S4: =IF(EQUAT!E7=0, "",EQUAT!E7) -> C13NMR | T4: =IF(EQUAT!F7=0, "",EQUAT!F7) -> systematic name
A5: Name | B5: ='Class Results'!D4 -> Student 2 | G5: Short Answer | H5: =ST2C!AK39 -> 94 | I5: =ST2C!AL39 -> 0 | J5: =ST2C!AM39 -> 0 | N5: =EQUAT!A8 -> 2 | O5: =EQUAT!B8 -> C | P5: ='Class Results'!D7 -> 0 | Q5: =IF(P5=O5,1,0) -> 0 | R5: =IF(EQUAT!D8=0, "",EQUAT!D8) -> amount of solids, liquids, gases | S5: =IF(EQUAT!E8=0, "",EQUAT!E8) | T5: =IF(EQUAT!F8=0, "",EQUAT!F8)
G6: Overall | H6: =SUM(H4:H5) -> 124 | I6: =SUM(I4:I5) -> 0 | J6: =(I6/H6)*100 -> 0 | N6: =EQUAT!A9 -> 3 | O6: =EQUAT!B9 -> C | P6: ='Class Results'!D8 -> 0 | Q6: =IF(P6=O6,1,0) -> 0 | R6: =IF(EQUAT!D9=0, "",EQUAT!D9) -> titration curves | S6: =IF(EQUAT!E9=0, "",EQUAT!E9) | T6: =IF(EQUAT!F9=0, "",EQUAT!F9)
N7: =EQUAT!A10 -> 4 | O7: =EQUAT!B10 -> A | P7: ='Class Results'!D9 -> 0 | Q7: =IF(P7=O7,1,0) -> 0 | R7: =IF(EQUAT!D10=0, "",EQUAT!D10) -> acid-base titrations | S7: =IF(EQUAT!E10=0, "",EQUAT!E10) -> data book | T7: =IF(EQUAT!F10=0, "",EQUAT!F10)
B8: Value | C8: Gained | D8: % | N8: =EQUAT!A11 -> 5 | O8: =EQUAT!B11 -> A | P8: ='Class Results'!D10 -> 0 | Q8: =IF(P8=O8,1,0) -> 0 | R8: =IF(EQUAT!D11=0, "",EQUAT!D11) -> galvanic primary, principles | S8: =IF(EQUAT!E11=0, "",EQUAT!E11) -> electrochemical series | T8: =IF(EQUAT!F11=0, "",EQUAT!F11) -> data book
