Workbook

Sheet Instructions

Sheet Class Results
B1: Class:
C2: Class Multiple Choice | AH2: Class Multiple Choice Summary
B4: Name | C4: Student 1 | D4: Student 2 | E4: Student 3 | F4: Student 4 | G4: Student 5 | H4: Student 6 | I4: Student 7 | J4: Student 8 | K4: Student 9 | L4: Student 10 | M4: Student 11 | N4: Student 12 | O4: Student 13 | P4: Student 14 | Q4: Student 15 | R4: Student 16 | S4: Student 17 | T4: Student 18 | U4: Student 19 | V4: Student 20 | AH4: No. of students | AM4: =COUNTA(C4:AF4) -> 20
B5: Multiple Choice | C5: ST1 | D5: ST2 | E5: ST3 | F5: ST4 | G5: ST5 | H5: ST6 | I5: ST7 | J5: ST8 | K5: ST9 | L5: ST10 | M5: ST11 | N5: ST12 | O5: ST13 | P5: ST14 | Q5: ST15 | R5: ST16 | S5: ST17 | T5: ST18 | U5: ST19 | V5: ST20 | W5: ST21 | X5: ST22 | Y5: ST23 | Z5: ST24 | AA5: ST25 | AB5: ST26 | AC5: ST27 | AD5: ST28 | AE5: ST29 | AF5: ST30 | AH5: A | AI5: B | AJ5: C | AK5: D | AL5: no answer | AM5: Total | AN5: Blank | AO5: Multiple Choice | AP5: Exam Answer | AQ5: %A | AR5: %B | AS5: %C | AT5: %D | AU5: % no answer | AV5: Key Knowledge Descriptors
B6: 1 | AH6: =COUNTIF($C6:$AF6,"A") -> 0 | AI6: =COUNTIF($C6:$AF6,"B") -> 0 | AJ6: =COUNTIF($C6:$AF6,"C") -> 0 | AK6: =COUNTIF($C6:$AF6,"D") -> 0 | AL6: =COUNTBLANK($C6:$AF6) -> 30 | AM6: =30-AM$4 -> 10 | AN6: =AL6-AM6 -> 20 | AO6: 1 | AP6: =EQUAT!B7 -> D | AQ6: =(AH6/$AM$4)*100 -> 0 | AR6: =(AI6/$AM$4)*100 -> 0 | AS6: =(AJ6/$AM$4)*100 -> 0 | AT6: =(AK6/$AM$4)*100 -> 0 | AU6: =(AN6/$AM$4)*100 -> 100 | AV6: =EQUAT!D7 -> amino acid | AW6: =EQUAT!E7 -> systematic name | AX6: =EQUAT!F7 -> 0
B7: 2 | AH7: =COUNTIF($C7:$AF7,"A") -> 0 | AI7: =COUNTIF($C7:$AF7,"B") -> 0 | AJ7: =COUNTIF($C7:$AF7,"C") -> 0 | AK7: =COUNTIF($C7:$AF7,"D") -> 0 | AL7: =COUNTBLANK($C7:$AF7) -> 30 | AM7: =30-AM$4 -> 10 | AN7: =AL7-AM7 -> 20 | AO7: 2 | AP7: =EQUAT!B8 -> A | AQ7: =(AH7/$AM$4)*100 -> 0 | AR7: =(AI7/$AM$4)*100 -> 0 | AS7: =(AJ7/$AM$4)*100 -> 0 | AT7: =(AK7/$AM$4)*100 -> 0 | AU7: =(AN7/$AM$4)*100 -> 100 | AV7: =EQUAT!D8 -> calc delta H from chemical equations | AW7: =EQUAT!E8 -> calculations | AX7: =EQUAT!F8 -> 0
B8: 3 | AH8: =COUNTIF($C8:$AF8,"A") -> 0 | AI8: =COUNTIF($C8:$AF8,"B") -> 0 | AJ8: =COUNTIF($C8:$AF8,"C") -> 0 | AK8: =COUNTIF($C8:$AF8,"D") -> 0 | AL8: =COUNTBLANK($C8:$AF8) -> 30 | AM8: =30-AM$4 -> 10 | AN8: =AL8-AM8 -> 20 | AO8: 3 | AP8: =EQUAT!B9 -> B | AQ8: =(AH8/$AM$4)*100 -> 0 | AR8: =(AI8/$AM$4)*100 -> 0 | AS8: =(AJ8/$AM$4)*100 -> 0 | AT8: =(AK8/$AM$4)*100 -> 0 | AU8: =(AN8/$AM$4)*100 -> 100 | AV8: =EQUAT!D9 -> esters from alkenes | AW8: =EQUAT!E9 -> 0 | AX8: =EQUAT!F9 -> 0
B9: 4 | AH9: =COUNTIF($C9:$AF9,"A") -> 0 | AI9: =COUNTIF($C9:$AF9,"B") -> 0 | AJ9: =COUNTIF($C9:$AF9,"C") -> 0 | AK9: =COUNTIF($C9:$AF9,"D") -> 0 | AL9: =COUNTBLANK($C9:$AF9) -> 30 | AM9: =30-AM$4 -> 10 | AN9: =AL9-AM9 -> 20 | AO9: 4 | AP9: =EQUAT!B10 -> C | AQ9: =(AH9/$AM$4)*100 -> 0 | AR9: =(AI9/$AM$4)*100 -> 0 | AS9: =(AJ9/$AM$4)*100 -> 0 | AT9: =(AK9/$AM$4)*100 -> 0 | AU9: =(AN9/$AM$4)*100 -> 100 | AV9: =EQUAT!D10 -> calculations | AW9: =EQUAT!E10 -> 0 | AX9: =EQUAT!F10 -> 0
B10: 5 | AH10: =COUNTIF($C10:$AF10,"A") -> 0 | AI10: =COUNTIF($C10:$AF10,"B") -> 0 | AJ10: =COUNTIF($C10:$AF10,"C") -> 0 | AK10: =COUNTIF($C10:$AF10,"D") -> 0 | AL10: =COUNTBLANK($C10:$AF10) -> 30 | AM10: =30-AM$4 -> 10 | AN10: =AL10-AM10 -> 20 | AO10: 5 | AP10: =EQUAT!B11 -> D | AQ10: =(AH10/$AM$4)*100 -> 0 | AR10: =(AI10/$AM$4)*100 -> 0 | AS10: =(AJ10/$AM$4)*100 -> 0 | AT10: =(AK10/$AM$4)*100 -> 0 | AU10: =(AN10/$AM$4)*100 -> 100 | AV10: =EQUAT!D11 -> IR | AW10: =EQUAT!E11 -> C13NMR | AX10: =EQUAT!F11 -> calculations
B11: 6 | AH11: =COUNTIF($C11:$AF11,"A") -> 0 | AI11: =COUNTIF($C11:$AF11,"B") -> 0 | AJ11: =COUNTIF($C11:$AF11,"C") -> 0 | AK11: =COUNTIF($C11:$AF11,"D") -> 0 | AL11: =COUNTBLANK($C11:$AF11) -> 30 | AM11: =30-AM$4 -> 10 | AN11: =AL11-AM11 -> 20 | AO11: 6 | AP11: =EQUAT!B12 -> A | AQ11: =(AH11/$AM$4)*100 -> 0 | AR11: =(AI11/$AM$4)*100 -> 0 | AS11: =(AJ11/$AM$4)*100 -> 0 | AT11: =(AK11/$AM$4)*100 -> 0 | AU11: =(AN11/$AM$4)*100 -> 100 | AV11: =EQUAT!D12 -> redox titrations | AW11: =EQUAT!E12 -> vol - experimental technique | AX11: =EQUAT!F12 -> 0
B12: 7 | AH12: =COUNTIF($C12:$AF12,"A") -> 0 | AI12: =COUNTIF($C12:$AF12,"B") -> 0 | AJ12: =COUNTIF($C12:$AF12,"C") -> 0 | AK12: =COUNTIF($C12:$AF12,"D") -> 0 | AL12: =COUNTBLANK($C12:$AF12) -> 30 | AM12: =30-AM$4 -> 10 | AN12: =AL12-AM12 -> 20 | AO12: 7 | AP12: =EQUAT!B13 -> C | AQ12: =(AH12/$AM$4)*100 -> 0 | AR12: =(AI12/$AM$4)*100 -> 0 | AS12: =(AJ12/$AM$4)*100 -> 0 | AT12: =(AK12/$AM$4)*100 -> 0 | AU12: =(AN12/$AM$4)*100 -> 100 | AV12: =EQUAT!D13 -> chemical equations | AW12: =EQUAT!E13 -> calculations | AX12: =EQUAT!F13 -> 0
B13: 8 | AH13: =COUNTIF($C13:$AF13,"A") -> 0 | AI13: =COUNTIF($C13:$AF13,"B") -> 0 | AJ13: =COUNTIF($C13:$AF13,"C") -> 0 | AK13: =COUNTIF($C13:$AF13,"D") -> 0 | AL13: =COUNTBLANK($C13:$AF13) -> 30 | AM13: =30-AM$4 -> 10 | AN13: =AL13-AM13 -> 20 | AO13: 8 | AP13: =EQUAT!B14 -> B | AQ13: =(AH13/$AM$4)*100 -> 0 | AR13: =(AI13/$AM$4)*100 -> 0 | AS13: =(AJ13/$AM$4)*100 -> 0 | AT13: =(AK13/$AM$4)*100 -> 0 | AU13: =(AN13/$AM$4)*100 -> 100 | AV13: =EQUAT!D14 -> galvanic cells - primary, secondary | AW13: =EQUAT!E14 -> electrochemical series | AX13: =EQUAT!F14 -> data book
B14: 9 | AH14: =COUNTIF($C14:$AF14,"A") -> 0 | AI14: =COUNTIF($C14:$AF14,"B") -> 0 | AJ14: =COUNTIF($C14:$AF14,"C") -> 0 | AK14: =COUNTIF($C14:$AF14,"D") -> 0 | AL14: =COUNTBLANK($C14:$AF14) -> 30 | AM14: =30-AM$4 -> 10 | AN14: =AL14-AM14 -> 20 | AO14: 9 | AP14: =EQUAT!B15 -> B | AQ14: =(AH14/$AM$4)*100 -> 0 | AR14: =(AI14/$AM$4)*100 -> 0 | AS14: =(AJ14/$AM$4)*100 -> 0 | AT14: =(AK14/$AM$4)*100 -> 0 | AU14: =(AN14/$AM$4)*100 -> 100 | AV14: =EQUAT!D15 -> vol - experimental technique | AW14: =EQUAT!E15 -> 0 | AX14: =EQUAT!F15 -> 0
B15: 10 | AH15: =COUNTIF($C15:$AF15,"A") -> 0 | AI15: =COUNTIF($C15:$AF15,"B") -> 0 | AJ15: =COUNTIF($C15:$AF15,"C") -> 0 | AK15: =COUNTIF($C15:$AF15,"D") -> 0 | AL15: =COUNTBLANK($C15:$AF15) -> 30 | AM15: =30-AM$4 -> 10 | AN15: =AL15-AM15 -> 20 | AO15: 10 | AP15: =EQUAT!B16 -> B | AQ15: =(AH15/$AM$4)*100 -> 0 | AR15: =(AI15/$AM$4)*100 -> 0 | AS15: =(AJ15/$AM$4)*100 -> 0 | AT15: =(AK15/$AM$4)*100 -> 0 | AU15: =(AN15/$AM$4)*100 -> 100 | AV15: =EQUAT!D16 -> GC | AW15: =EQUAT!E16 -> mass spectrometry | AX15: =EQUAT!F16 -> alkanols
B16: 11 | AH16: =COUNTIF($C16:$AF16,"A") -> 0 | AI16: =COUNTIF($C16:$AF16,"B") -> 0 | AJ16: =COUNTIF($C16:$AF16,"C") -> 0 | AK16: =COUNTIF($C16:$AF16,"D") -> 0 | AL16: =COUNTBLANK($C16:$AF16) -> 30 | AM16: =30-AM$4 -> 10 | AN16: =AL16-AM16 -> 20 | AO16: 11 | AP16: =EQUAT!B17 -> B | AQ16: =(AH16/$AM$4)*100 -> 0 | AR16: =(AI16/$AM$4)*100 -> 0 | AS16: =(AJ16/$AM$4)*100 -> 0 | AT16: =(AK16/$AM$4)*100 -> 0 | AU16: =(AN16/$AM$4)*100 -> 100 | AV16: =EQUAT!D17 -> calibration graph AAS or UV | AW16: =EQUAT!E17 -> unit conversion | AX16: =EQUAT!F17 -> 0
B17: 12 | AH17: =COUNTIF($C17:$AF17,"A") -> 0 | AI17: =COUNTIF($C17:$AF17,"B") -> 0 | AJ17: =COUNTIF($C17:$AF17,"C") -> 0 | AK17: =COUNTIF($C17:$AF17,"D") -> 0 | AL17: =COUNTBLANK($C17:$AF17) -> 30 | AM17: =30-AM$4 -> 10 | AN17: =AL17-AM17 -> 20 | AO17: 12 | AP17: =EQUAT!B18 -> B | AQ17: =(AH17/$AM$4)*100 -> 0 | AR17: =(AI17/$AM$4)*100 -> 0 | AS17: =(AJ17/$AM$4)*100 -> 0 | AT17: =(AK17/$AM$4)*100 -> 0 | AU17: =(AN17/$AM$4)*100 -> 100 | AV17: =EQUAT!D18 -> volume, temperature, pressure of gases | AW17: =EQUAT!E18 -> 0 | AX17: =EQUAT!F18 -> 0
... B35: 30 | AH35: =COUNTIF($C35:$AF35,"A") -> 0 | AI35: =COUNTIF($C35:$AF35,"B") -> 0 | AJ35: =COUNTIF($C35:$AF35,"C") -> 0 | AK35: =COUNTIF($C35:$AF35,"D") -> 0 | AL35: =COUNTBLANK($C35:$AF35) -> 30 | AM35: =30-AM$4 -> 10 | AN35: =AL35-AM35 -> 20 | AO35: 30 | AP35: =EQUAT!B36 -> D | AQ35: =(AH35/$AM$4)*100 -> 0 | AR35: =(AI35/$AM$4)*100 -> 0 | AS35: =(AJ35/$AM$4)*100 -> 0 | AT35: =(AK35/$AM$4)*100 -> 0 | AU35: =(AN35/$AM$4)*100 -> 100 | AV35: =EQUAT!D36 -> grav - experimental technique | AW35: =EQUAT!E36 -> 0 | AX35: =EQUAT!F36 -> 0
B36: Question | M36: Class Short Answer | AR36: Short Answer | AS36: Exam Mark | AT36: Class Average | AU36: Class % Correct | AV36: Key Knowledge Descriptors
B37: =EQUAT!H7 -> 1a | AR37: =$B37 -> 1a | AS37: =EQUAT!$I7 -> 2 | AT37: =(SUM($C37:$AC37))/$AM$4 -> 0 | AU37: =($AT37/$AS37)*100 -> 0 | AV37: =EQUAT!J7 -> amino acid | AW37: =EQUAT!K7 -> cond & poly - proteins | AX37: =EQUAT!L7 -> amide
B38: =EQUAT!H8 -> 1b | AR38: =$B38 -> 1b | AS38: =EQUAT!$I8 -> 1 | AT38: =(SUM($C38:$AC38))/$AM$4 -> 0 | AU38: =($AT38/$AS38)*100 -> 0 | AV38: =EQUAT!J8 -> TLC | AW38: =EQUAT!K8 -> cond & poly - proteins | AX38: =EQUAT!L8 -> amide
B39: =EQUAT!H9 -> 1c | AR39: =$B39 -> 1c | AS39: =EQUAT!$I9 -> 2 | AT39: =(SUM($C39:$AC39))/$AM$4 -> 0 | AU39: =($AT39/$AS39)*100 -> 0 | AV39: =EQUAT!J9 -> structural formula | AW39: =EQUAT!K9 -> cond & poly - proteins | AX39: =EQUAT!L9 -> amide
B40: =EQUAT!H10 -> 1d | AR40: =$B40 -> 1d | AS40: =EQUAT!$I10 -> 2 | AT40: =(SUM($C40:$AC40))/$AM$4 -> 0 | AU40: =($AT40/$AS40)*100 -> 0 | AV40: =EQUAT!J10 -> amino acid | AW40: =EQUAT!K10 -> properties of organic compounds | AX40: =EQUAT!L10 -> 0
B41: =EQUAT!H11 -> 1e | AR41: =$B41 -> 1e | AS41: =EQUAT!$I11 -> 3 | AT41: =(SUM($C41:$AC41))/$AM$4 -> 0 | AU41: =($AT41/$AS41)*100 -> 0 | AV41: =EQUAT!J11 -> TLC | AW41: =EQUAT!K11 -> chromatographic techniques | AX41: =EQUAT!L11 -> 0
B42: =EQUAT!H12 -> 1f | AR42: =$B42 -> 1f | AS42: =EQUAT!$I12 -> 6 | AT42: =(SUM($C42:$AC42))/$AM$4 -> 0 | AU42: =($AT42/$AS42)*100 -> 0 | AV42: =EQUAT!J12 -> protein- primary, secondary, tertiary structure | AW42: =EQUAT!K12 -> DNA primary structure | AX42: =EQUAT!L12 -> DNA secondary structure
B43: =EQUAT!H13 -> 2ai | AR43: =$B43 -> 2ai | AS43: =EQUAT!$I13 -> 2 | AT43: =(SUM($C43:$AC43))/$AM$4 -> 0 | AU43: =($AT43/$AS43)*100 -> 0 | AV43: =EQUAT!J13 -> unit conversion | AW43: =EQUAT!K13 -> 0 | AX43: =EQUAT!L13 -> 0
B44: =EQUAT!H14 -> 2aii | AR44: =$B44 -> 2aii | AS44: =EQUAT!$I14 -> 1 | AT44: =(SUM($C44:$AC44))/$AM$4 -> 0 | AU44: =($AT44/$AS44)*100 -> 0 | AV44: =EQUAT!J14 -> concentration | AW44: =EQUAT!K14 -> 0 | AX44: =EQUAT!L14 -> 0
B45: =EQUAT!H15 -> 2b | AR45: =$B45 -> 2b | AS45: =EQUAT!$I15 -> 2 | AT45: =(SUM($C45:$AC45))/$AM$4 -> 0 | AU45: =($AT45/$AS45)*100 -> 0 | AV45: =EQUAT!J15 -> Key Skills | AW45: =EQUAT!K15 -> 0 | AX45: =EQUAT!L15 -> 0
B46: =EQUAT!H16 -> 2c | AR46: =$B46 -> 2c | AS46: =EQUAT!$I16 -> 1 | AT46: =(SUM($C46:$AC46))/$AM$4 -> 0 | AU46: =($AT46/$AS46)*100 -> 0 | AV46: =EQUAT!J16 -> HNMR | AW46: =EQUAT!K16 -> 0 | AX46: =EQUAT!L16 -> 0
B47: =EQUAT!H17 -> 2di | AR47: =$B47 -> 2di | AS47: =EQUAT!$I17 -> 1 | AT47: =(SUM($C47:$AC47))/$AM$4 -> 0 | AU47: =($AT47/$AS47)*100 -> 0 | AV47: =EQUAT!J17 -> oxidation primary alkanols | AW47: =EQUAT!K17 -> structural formula | AX47: =EQUAT!L17 -> 0
B48: =EQUAT!H18 -> 2dii | AR48: =$B48 -> 2dii | AS48: =EQUAT!$I18 -> 1 | AT48: =(SUM($C48:$AC48))/$AM$4 -> 0 | AU48: =($AT48/$AS48)*100 -> 0 | AV48: =EQUAT!J18 -> redox equations | AW48: =EQUAT!K18 -> 0 | AX48: =EQUAT!L18 -> 0
... B96: =EQUAT!H66 -> 0 | AR96: =$B96 -> 0 | AS96: =EQUAT!$I66 -> 0 | AT96: =(SUM($C96:$AC96))/$AM$4 -> 0 | AU96: =($AT96/$AS96)*100 -> #DIV/0! | AV96: =EQUAT!J66 -> 0 | AW96: =EQUAT!K66 -> 0 | AX96: =EQUAT!L66 -> 0
B97: =EQUAT!H77 -> 0 | AR97: =$B97 -> 0 | AS97: =EQUAT!$I67 -> 0 | AT97: =(SUM($C97:$AC97))/$AM$4 -> 0 | AU97: =($AT97/$AS97)*100 -> #DIV/0! | AV97: =EQUAT!J67 -> 0 | AW97: =EQUAT!K67 -> 0 | AX97: =EQUAT!L67 -> 0
B98: =EQUAT!H78 -> 0 | AR98: =$B98 -> 0 | AS98: =EQUAT!$I68 -> 0 | AT98: =(SUM($C98:$AC98))/$AM$4 -> 0 | AU98: =($AT98/$AS98)*100 -> #DIV/0! | AV98: =EQUAT!J68 -> 0 | AW98: =EQUAT!K68 -> 0 | AX98: =EQUAT!L68 -> 0
B99: =EQUAT!H79 -> 0 | AR99: =$B99 -> 0 | AS99: =EQUAT!$I69 -> 0 | AT99: =(SUM($C99:$AC99))/$AM$4 -> 0 | AU99: =($AT99/$AS99)*100 -> #DIV/0! | AV99: =EQUAT!J69 -> 0 | AW99: =EQUAT!K69 -> 0 | AX99: =EQUAT!L69 -> 0
B100: =EQUAT!H80 -> 0 | AR100: =$B100 -> 0 | AS100: =EQUAT!$I70 -> 0 | AT100: =(SUM($C100:$AC100))/$AM$4 -> 0 | AU100: =($AT100/$AS100)*100 -> #DIV/0! | AV100: =EQUAT!J70 -> 0 | AW100: =EQUAT!K70 -> 0 | AX100: =EQUAT!L70 -> 0

Sheet % class results 
D1: Multiple Choice: Class Summary
C3: Exam Name: | D3: =EQUAT!C3 -> LisaChem 2014
A4: Multiple Choice | L4: Short Answer
A5: Question | B5: Exam Answer | C5: %A | D5: %B | E5: %C | F5: %D | G5: % no answer | H5: Key Knowledge Descriptors | L5: Question | M5: ='Class Results'!AS36 -> Exam Mark | N5: ='Class Results'!AT36 -> Class Average | O5: ='Class Results'!AU36 -> Class % Correct | P5: ='Class Results'!AV36 -> Key Knowledge Descriptors
A6: 1 | B6: =EQUAT!B7 -> D | C6: ='Class Results'!AQ6 -> 0 | D6: ='Class Results'!AR6 -> 0 | E6: ='Class Results'!AS6 -> 0 | F6: ='Class Results'!AT6 -> 0 | G6: ='Class Results'!AU6 -> 100 | H6: =EQUAT!D7 -> amino acid | I6: =EQUAT!E7 -> systematic name | J6: =EQUAT!F7 -> 0 | L6: ='Class Results'!AR37 -> 1a | M6: ='Class Results'!AS37 -> 2 | N6: ='Class Results'!AT37 -> 0 | O6: ='Class Results'!AU37 -> 0 | P6: ='Class Results'!AV37 -> amino acid | Q6: ='Class Results'!AW37 -> cond & poly - proteins | R6: ='Class Results'!AX37 -> amide
A7: 2 | B7: =EQUAT!B8 -> A | C7: ='Class Results'!AQ7 -> 0 | D7: ='Class Results'!AR7 -> 0 | E7: ='Class Results'!AS7 -> 0 | F7: ='Class Results'!AT7 -> 0 | G7: ='Class Results'!AU7 -> 100 | H7: =EQUAT!D8 -> calc delta H from chemical equations | I7: =EQUAT!E8 -> calculations | J7: =EQUAT!F8 -> 0 | L7: ='Class Results'!AR38 -> 1b | M7: ='Class Results'!AS38 -> 1 | N7: ='Class Results'!AT38 -> 0 | O7: ='Class Results'!AU38 -> 0 | P7: ='Class Results'!AV38 -> TLC | Q7: ='Class Results'!AW38 -> cond & poly - proteins | R7: ='Class Results'!AX38 -> amide
A8: 3 | B8: =EQUAT!B9 -> B | C8: ='Class Results'!AQ8 -> 0 | D8: ='Class Results'!AR8 -> 0 | E8: ='Class Results'!AS8 -> 0 | F8: ='Class Results'!AT8 -> 0 | G8: ='Class Results'!AU8 -> 100 | H8: =EQUAT!D9 -> esters from alkenes | I8: =EQUAT!E9 -> 0 | J8: =EQUAT!F9 -> 0 | L8: ='Class Results'!AR39 -> 1c | M8: ='Class Results'!AS39 -> 2 | N8: ='Class Results'!AT39 -> 0 | O8: ='Class Results'!AU39 -> 0 | P8: ='Class Results'!AV39 -> structural formula | Q8: ='Class Results'!AW39 -> cond & poly - proteins | R8: ='Class Results'!AX39 -> amide
A9: 4 | B9: =EQUAT!B10 -> C | C9: ='Class Results'!AQ9 -> 0 | D9: ='Class Results'!AR9 -> 0 | E9: ='Class Results'!AS9 -> 0 | F9: ='Class Results'!AT9 -> 0 | G9: ='Class Results'!AU9 -> 100 | H9: =EQUAT!D10 -> calculations | I9: =EQUAT!E10 -> 0 | J9: =EQUAT!F10 -> 0 | L9: ='Class Results'!AR40 -> 1d | M9: ='Class Results'!AS40 -> 2 | N9: ='Class Results'!AT40 -> 0 | O9: ='Class Results'!AU40 -> 0 | P9: ='Class Results'!AV40 -> amino acid | Q9: ='Class Results'!AW40 -> properties of organic compounds | R9: ='Class Results'!AX40 -> 0
A10: 5 | B10: =EQUAT!B11 -> D | C10: ='Class Results'!AQ10 -> 0 | D10: ='Class Results'!AR10 -> 0 | E10: ='Class Results'!AS10 -> 0 | F10: ='Class Results'!AT10 -> 0 | G10: ='Class Results'!AU10 -> 100 | H10: =EQUAT!D11 -> IR | I10: =EQUAT!E11 -> C13NMR | J10: =EQUAT!F11 -> calculations | L10: ='Class Results'!AR41 -> 1e | M10: ='Class Results'!AS41 -> 3 | N10: ='Class Results'!AT41 -> 0 | O10: ='Class Results'!AU41 -> 0 | P10: ='Class Results'!AV41 -> TLC | Q10: ='Class Results'!AW41 -> chromatographic techniques | R10: ='Class Results'!AX41 -> 0
A11: 6 | B11: =EQUAT!B12 -> A | C11: ='Class Results'!AQ11 -> 0 | D11: ='Class Results'!AR11 -> 0 | E11: ='Class Results'!AS11 -> 0 | F11: ='Class Results'!AT11 -> 0 | G11: ='Class Results'!AU11 -> 100 | H11: =EQUAT!D12 -> redox titrations | I11: =EQUAT!E12 -> vol - experimental technique | J11: =EQUAT!F12 -> 0 | L11: ='Class Results'!AR42 -> 1f | M11: ='Class Results'!AS42 -> 6 | N11: ='Class Results'!AT42 -> 0 | O11: ='Class Results'!AU42 -> 0 | P11: ='Class Results'!AV42 -> protein- primary, secondary, tertiary structure | Q11: ='Class Results'!AW42 -> DNA primary structure | R11: ='Class Results'!AX42 -> DNA secondary structure
A12: 7 | B12: =EQUAT!B13 -> C | C12: ='Class Results'!AQ12 -> 0 | D12: ='Class Results'!AR12 -> 0 | E12: ='Class Results'!AS12 -> 0 | F12: ='Class Results'!AT12 -> 0 | G12: ='Class Results'!AU12 -> 100 | H12: =EQUAT!D13 -> chemical equations | I12: =EQUAT!E13 -> calculations | J12: =EQUAT!F13 -> 0 | L12: ='Class Results'!AR43 -> 2ai | M12: ='Class Results'!AS43 -> 2 | N12: ='Class Results'!AT43 -> 0 | O12: ='Class Results'!AU43 -> 0 | P12: ='Class Results'!AV43 -> unit conversion | Q12: ='Class Results'!AW43 -> 0 | R12: ='Class Results'!AX43 -> 0
A13: 8 | B13: =EQUAT!B14 -> B | C13: ='Class Results'!AQ13 -> 0 | D13: ='Class Results'!AR13 -> 0 | E13: ='Class Results'!AS13 -> 0 | F13: ='Class Results'!AT13 -> 0 | G13: ='Class Results'!AU13 -> 100 | H13: =EQUAT!D14 -> galvanic cells - primary, secondary | I13: =EQUAT!E14 -> electrochemical series | J13: =EQUAT!F14 -> data book | L13: ='Class Results'!AR44 -> 2aii | M13: ='Class Results'!AS44 -> 1 | N13: ='Class Results'!AT44 -> 0 | O13: ='Class Results'!AU44 -> 0 | P13: ='Class Results'!AV44 -> concentration | Q13: ='Class Results'!AW44 -> 0 | R13: ='Class Results'!AX44 -> 0
A14: 9 | B14: =EQUAT!B15 -> B | C14: ='Class Results'!AQ14 -> 0 | D14: ='Class Results'!AR14 -> 0 | E14: ='Class Results'!AS14 -> 0 | F14: ='Class Results'!AT14 -> 0 | G14: ='Class Results'!AU14 -> 100 | H14: =EQUAT!D15 -> vol - experimental technique | I14: =EQUAT!E15 -> 0 | J14: =EQUAT!F15 -> 0 | L14: ='Class Results'!AR45 -> 2b | M14: ='Class Results'!AS45 -> 2 | N14: ='Class Results'!AT45 -> 0 | O14: ='Class Results'!AU45 -> 0 | P14: ='Class Results'!AV45 -> Key Skills | Q14: ='Class Results'!AW45 -> 0 | R14: ='Class Results'!AX45 -> 0
A15: 10 | B15: =EQUAT!B16 -> B | C15: ='Class Results'!AQ15 -> 0 | D15: ='Class Results'!AR15 -> 0 | E15: ='Class Results'!AS15 -> 0 | F15: ='Class Results'!AT15 -> 0 | G15: ='Class Results'!AU15 -> 100 | H15: =EQUAT!D16 -> GC | I15: =EQUAT!E16 -> mass spectrometry | J15: =EQUAT!F16 -> alkanols | L15: ='Class Results'!AR46 -> 2c | M15: ='Class Results'!AS46 -> 1 | N15: ='Class Results'!AT46 -> 0 | O15: ='Class Results'!AU46 -> 0 | P15: ='Class Results'!AV46 -> HNMR | Q15: ='Class Results'!AW46 -> 0 | R15: ='Class Results'!AX46 -> 0
A16: 11 | B16: =EQUAT!B17 -> B | C16: ='Class Results'!AQ16 -> 0 | D16: ='Class Results'!AR16 -> 0 | E16: ='Class Results'!AS16 -> 0 | F16: ='Class Results'!AT16 -> 0 | G16: ='Class Results'!AU16 -> 100 | H16: =EQUAT!D17 -> calibration graph AAS or UV | I16: =EQUAT!E17 -> unit conversion | J16: =EQUAT!F17 -> 0 | L16: ='Class Results'!AR47 -> 2di | M16: ='Class Results'!AS47 -> 1 | N16: ='Class Results'!AT47 -> 0 | O16: ='Class Results'!AU47 -> 0 | P16: ='Class Results'!AV47 -> oxidation primary alkanols | Q16: ='Class Results'!AW47 -> structural formula | R16: ='Class Results'!AX47 -> 0
A17: 12 | B17: =EQUAT!B18 -> B | C17: ='Class Results'!AQ17 -> 0 | D17: ='Class Results'!AR17 -> 0 | E17: ='Class Results'!AS17 -> 0 | F17: ='Class Results'!AT17 -> 0 | G17: ='Class Results'!AU17 -> 100 | H17: =EQUAT!D18 -> volume, temperature, pressure of gases | I17: =EQUAT!E18 -> 0 | J17: =EQUAT!F18 -> 0 | L17: ='Class Results'!AR48 -> 2dii | M17: ='Class Results'!AS48 -> 1 | N17: ='Class Results'!AT48 -> 0 | O17: ='Class Results'!AU48 -> 0 | P17: ='Class Results'!AV48 -> redox equations | Q17: ='Class Results'!AW48 -> 0 | R17: ='Class Results'!AX48 -> 0
... A35: 30 | B35: =EQUAT!B36 -> D | C35: ='Class Results'!AQ35 -> 0 | D35: ='Class Results'!AR35 -> 0 | E35: ='Class Results'!AS35 -> 0 | F35: ='Class Results'!AT35 -> 0 | G35: ='Class Results'!AU35 -> 100 | H35: =EQUAT!D36 -> grav - experimental technique | I35: =EQUAT!E36 -> 0 | J35: =EQUAT!F36 -> 0 | L35: ='Class Results'!AR66 -> 5di | M35: ='Class Results'!AS66 -> 3 | N35: ='Class Results'!AT66 -> 0 | O35: ='Class Results'!AU66 -> 0 | P35: ='Class Results'!AV66 -> Calorimetry | Q35: ='Class Results'!AW66 -> 0 | R35: ='Class Results'!AX66 -> 0
L36: ='Class Results'!AR67 -> 5dii | M36: ='Class Results'!AS67 -> 1 | N36: ='Class Results'!AT67 -> 0 | O36: ='Class Results'!AU67 -> 0 | P36: ='Class Results'!AV67 -> Calorimetry | Q36: ='Class Results'!AW67 -> excess and limiting reagents | R36: ='Class Results'!AX67 -> 0
L37: ='Class Results'!AR68 -> 6a | M37: ='Class Results'!AS68 -> 1 | N37: ='Class Results'!AT68 -> 0 | O37: ='Class Results'!AU68 -> 0 | P37: ='Class Results'!AV68 -> chemical equations | Q37: ='Class Results'!AW68 -> organic reaction pathways | R37: ='Class Results'!AX68 -> 0
L38: ='Class Results'!AR69 -> 6b | M38: ='Class Results'!AS69 -> 2 | N38: ='Class Results'!AT69 -> 0 | O38: ='Class Results'!AU69 -> 0 | P38: ='Class Results'!AV69 -> calc delta H from chemical equations | Q38: ='Class Results'!AW69 -> calculations | R38: ='Class Results'!AX69 -> 0
L39: ='Class Results'!AR70 -> 6c | M39: ='Class Results'!AS70 -> 4 | N39: ='Class Results'!AT70 -> 0 | O39: ='Class Results'!AU70 -> 0 | P39: ='Class Results'!AV70 -> volume, temperature, pressure of gases | Q39: ='Class Results'!AW70 -> 0 | R39: ='Class Results'!AX70 -> 0
L40: ='Class Results'!AR71 -> 6d | M40: ='Class Results'!AS71 -> 3 | N40: ='Class Results'!AT71 -> 0 | O40: ='Class Results'!AU71 -> 0 | P40: ='Class Results'!AV71 -> Le Chatelier principle | Q40: ='Class Results'!AW71 -> 0 | R40: ='Class Results'!AX71 -> 0
L41: ='Class Results'!AR72 -> 6e | M41: ='Class Results'!AS72 -> 3 | N41: ='Class Results'!AT72 -> 0 | O41: ='Class Results'!AU72 -> 0 | P41: ='Class Results'!AV72 -> collision theory | Q41: ='Class Results'!AW72 -> 0 | R41: ='Class Results'!AX72 -> 0
L42: ='Class Results'!AR73 -> 6fi | M42: ='Class Results'!AS73 -> 6 | N42: ='Class Results'!AT73 -> 0 | O42: ='Class Results'!AU73 -> 0 | P42: ='Class Results'!AV73 -> IR | Q42: ='Class Results'!AW73 -> HNMR | R42: ='Class Results'!AX73 -> semi-structural formula
L43: ='Class Results'!AR74 -> 6fii | M43: ='Class Results'!AS74 -> 2 | N43: ='Class Results'!AT74 -> 0 | O43: ='Class Results'!AU74 -> 0 | P43: ='Class Results'!AV74 -> organic reaction pathways | Q43: ='Class Results'!AW74 -> 0 | R43: ='Class Results'!AX74 -> 0
L44: ='Class Results'!AR75 -> 6gi | M44: ='Class Results'!AS75 -> 1 | N44: ='Class Results'!AT75 -> 0 | O44: ='Class Results'!AU75 -> 0 | P44: ='Class Results'!AV75 -> chemical equations | Q44: ='Class Results'!AW75 -> ethanol production | R44: ='Class Results'!AX75 -> 0
L45: ='Class Results'!AR76 -> 6gii | M45: ='Class Results'!AS76 -> 3 | N45: ='Class Results'!AT76 -> 0 | O45: ='Class Results'!AU76 -> 0 | P45: ='Class Results'!AV76 -> properties of organic compounds | Q45: ='Class Results'!AW76 -> ethanol production | R45: ='Class Results'!AX76 -> 0
L46: ='Class Results'!AR77 -> 6giii | M46: ='Class Results'!AS77 -> 1 | N46: ='Class Results'!AT77 -> 0 | O46: ='Class Results'!AU77 -> 0 | P46: ='Class Results'!AV77 -> chemical equations | Q46: ='Class Results'!AW77 -> ethanol production | R46: ='Class Results'!AX77 -> 0
L47: ='Class Results'!AR78 -> 6hi | M47: ='Class Results'!AS78 -> 1 | N47: ='Class Results'!AT78 -> 0 | O47: ='Class Results'!AU78 -> 0 | P47: ='Class Results'!AV78 -> chemical principles fuel cell | Q47: ='Class Results'!AW78 -> 0 | R47: ='Class Results'!AX78 -> 0
... L67: ='Class Results'!AR98 -> 0 | M67: ='Class Results'!AS98 -> 0 | N67: ='Class Results'!AT98 -> 0 | O67: ='Class Results'!AU98 -> #DIV/0! | P67: ='Class Results'!AV98 -> 0 | Q67: ='Class Results'!AW98 -> 0 | R67: ='Class Results'!AX98 -> 0

Sheet Class Summary
A1: Class Summary
A3: Exam Name: | B3: =EQUAT!C3 -> LisaChem 2014 | H3: Total | I3: Achievement | J3: %
G4: Multiple Choice | H4: =ST1C!AK38 -> 30 | I4: =(ST1C!AL38+ST2C!AL38+ST3C!AL38+ST4C!AL38+ST5C!AL38+ST6C!AL38+ST7C!AL38+ST8C!AL38+ST9C!AL38+ST10C!AL38+ST11C!AL38+ST12C!AL38+ST13C!AL38+ST14C!AL38+ST15C!AL38+ST16C!AL38+ST17C!AL38+ST18C!AL38+ST19C!AL38+ST20C!AL38)/'Class Results'!$AM$4 -> 0 | J4: =(I4/H4)*100 -> 0 | K4: =(I4/H4)*100 -> 0
A5: Name | B5: Class Summary | G5: Short Answer | H5: =ST1C!AK39 -> 112 | I5: =(ST1C!AL39+ST2C!AL39+ST3C!AL39+ST4C!AL39+ST5C!AL39+ST6C!AL39+ST7C!AL39+ST8C!AL39+ST9C!AL39+ST10C!AL39+ST11C!AL39+ST12C!AL39+ST13C!AL39+ST14C!AL39+ST15C!AL39+ST16C!AL39+ST17C!AL39+ST18C!AL39+ST19C!AL39+ST20C!AL39)/'Class Results'!$AM$4 -> 0 | J5: =(I5/H5)*100 -> 0
G6: Overall | H6: =SUM(H4:H5) -> 142 | I6: =SUM(I4:I5) -> 0 | J6: =(I6/H6)*100 -> 0
B8: Value | C8: Gained | D8: %
A9: Unit 3 AOS 1 | B9: =(ST1C!AL3+ST2C!AL3+ST3C!AL3+ST4C!AL3+ST5C!AL3+ST6C!AL3+ST7C!AL3+ST8C!AL3+ST9C!AL3+ST10C!AL3+ST11C!AL3+ST12C!AL3+ST13C!AL3+ST14C!AL3+ST15C!AL3+ST16C!AL3+ST17C!AL3+ST18C!AL3+ST19C!AL3+ST20C!AL3)/'Class Results'!$AM$4 -> 73 | C9: =(ST1C!AM3+ST2C!AM3+ST3C!AM3+ST4C!AM3+ST5C!AM3+ST6C!AM3+ST7C!AM3+ST8C!AM3+ST9C!AM3+ST10C!AM3+ST11C!AM3+ST12C!AM3+ST13C!AM3+ST14C!AM3+ST15C!AM3+ST16C!AM3+ST17C!AM3+ST18C!AM3+ST19C!AM3+ST20C!AM3)/'Class Results'!$AM$4 -> 0 | D9: =(C9/B9)*100 -> 0
A10: Unit 3 AOS 2 | B10: =(ST1C!AL4+ST2C!AL4+ST3C!AL4+ST4C!AL4+ST5C!AL4+ST6C!AL4+ST7C!AL4+ST8C!AL4+ST9C!AL4+ST10C!AL4+ST11C!AL4+ST12C!AL4+ST13C!AL4+ST14C!AL4+ST15C!AL4+ST16C!AL4+ST17C!AL4+ST18C!AL4+ST19C!AL4+ST20C!AL4)/'Class Results'!$AM$4 -> 75 | C10: =(ST1C!AM4+ST2C!AM4+ST3C!AM4+ST4C!AM4+ST5C!AM4+ST6C!AM4+ST7C!AM4+ST8C!AM4+ST9C!AM4+ST10C!AM4+ST11C!AM4+ST12C!AM4+ST13C!AM4+ST14C!AM4+ST15C!AM4+ST16C!AM4+ST17C!AM4+ST18C!AM4+ST19C!AM4+ST20C!AM4)/'Class Results'!$AM$4 -> 0 | D10: =(C10/B10)*100 -> 0
B14: Unit 3
A15: =ST1C!AJ5 -> volumetric | B15: =(ST1C!AL5+ST2C!AL5+ST3C!AL5+ST4C!AL5+ST5C!AL5+ST6C!AL5+ST7C!AL5+ST8C!AL5+ST9C!AL5+ST10C!AL5+ST11C!AL5+ST12C!AL5+ST13C!AL5+ST14C!AL5+ST15C!AL5+ST16C!AL5+ST17C!AL5+ST18C!AL5+ST19C!AL5+ST20C!AL5)/'Class Results'!$AM$4 -> 8 | C15: =(ST1C!AM5+ST2C!AM5+ST3C!AM5+ST4C!AM5+ST5C!AM5+ST6C!AM5+ST7C!AM5+ST8C!AM5+ST9C!AM5+ST10C!AM5+ST11C!AM5+ST12C!AM5+ST13C!AM5+ST14C!AM5+ST15C!AM5+ST16C!AM5+ST17C!AM5+ST18C!AM5+ST19C!AM5+ST20C!AM5)/'Class Results'!$AM$4 -> 0 | D15: =(C15/B15)*100 -> 0
A16: =ST1C!AJ6 -> gravimetric analysis | B16: =(ST1C!AL6+ST2C!AL6+ST3C!AL6+ST4C!AL6+ST5C!AL6+ST6C!AL6+ST7C!AL6+ST8C!AL6+ST9C!AL6+ST10C!AL6+ST11C!AL6+ST12C!AL6+ST13C!AL6+ST14C!AL6+ST15C!AL6+ST16C!AL6+ST17C!AL6+ST18C!AL6+ST19C!AL6+ST20C!AL6)/'Class Results'!$AM$4 -> 1 | C16: =(ST1C!AM6+ST2C!AM6+ST3C!AM6+ST4C!AM6+ST5C!AM6+ST6C!AM6+ST7C!AM6+ST8C!AM6+ST9C!AM6+ST10C!AM6+ST11C!AM6+ST12C!AM6+ST13C!AM6+ST14C!AM6+ST15C!AM6+ST16C!AM6+ST17C!AM6+ST18C!AM6+ST19C!AM6+ST20C!AM6)/'Class Results'!$AM$4 -> 0 | D16: =(C16/B16)*100 -> 0
A17: =ST1C!AJ7 -> calculations | B17: =(ST1C!AL7+ST2C!AL7+ST3C!AL7+ST4C!AL7+ST5C!AL7+ST6C!AL7+ST7C!AL7+ST8C!AL7+ST9C!AL7+ST10C!AL7+ST11C!AL7+ST12C!AL7+ST13C!AL7+ST14C!AL7+ST15C!AL7+ST16C!AL7+ST17C!AL7+ST18C!AL7+ST19C!AL7+ST20C!AL7)/'Class Results'!$AM$4 -> 29 | C17: =(ST1C!AM7+ST2C!AM7+ST3C!AM7+ST4C!AM7+ST5C!AM7+ST6C!AM7+ST7C!AM7+ST8C!AM7+ST9C!AM7+ST10C!AM7+ST11C!AM7+ST12C!AM7+ST13C!AM7+ST14C!AM7+ST15C!AM7+ST16C!AM7+ST17C!AM7+ST18C!AM7+ST19C!AM7+ST20C!AM7)/'Class Results'!$AM$4 -> 0 | D17: =(C17/B17)*100 -> 0
A18: =ST1C!AJ8 -> chemical equations | B18: =(ST1C!AL8+ST2C!AL8+ST3C!AL8+ST4C!AL8+ST5C!AL8+ST6C!AL8+ST7C!AL8+ST8C!AL8+ST9C!AL8+ST10C!AL8+ST11C!AL8+ST12C!AL8+ST13C!AL8+ST14C!AL8+ST15C!AL8+ST16C!AL8+ST17C!AL8+ST18C!AL8+ST19C!AL8+ST20C!AL8)/'Class Results'!$AM$4 -> 10 | C18: =(ST1C!AM8+ST2C!AM8+ST3C!AM8+ST4C!AM8+ST5C!AM8+ST6C!AM8+ST7C!AM8+ST8C!AM8+ST9C!AM8+ST10C!AM8+ST11C!AM8+ST12C!AM8+ST13C!AM8+ST14C!AM8+ST15C!AM8+ST16C!AM8+ST17C!AM8+ST18C!AM8+ST19C!AM8+ST20C!AM8)/'Class Results'!$AM$4 -> 0 | D18: =(C18/B18)*100 -> 0
A19: =ST1C!AJ9 -> chromatographic techniques | B19: =(ST1C!AL9+ST2C!AL9+ST3C!AL9+ST4C!AL9+ST5C!AL9+ST6C!AL9+ST7C!AL9+ST8C!AL9+ST9C!AL9+ST10C!AL9+ST11C!AL9+ST12C!AL9+ST13C!AL9+ST14C!AL9+ST15C!AL9+ST16C!AL9+ST17C!AL9+ST18C!AL9+ST19C!AL9+ST20C!AL9)/'Class Results'!$AM$4 -> 8 | C19: =(ST1C!AM9+ST2C!AM9+ST3C!AM9+ST4C!AM9+ST5C!AM9+ST6C!AM9+ST7C!AM9+ST8C!AM9+ST9C!AM9+ST10C!AM9+ST11C!AM9+ST12C!AM9+ST13C!AM9+ST14C!AM9+ST15C!AM9+ST16C!AM9+ST17C!AM9+ST18C!AM9+ST19C!AM9+ST20C!AM9)/'Class Results'!$AM$4 -> 0 | D19: =(C19/B19)*100 -> 0
A20: =ST1C!AJ10 -> spectroscopic techniques | B20: =(ST1C!AL10+ST2C!AL10+ST3C!AL10+ST4C!AL10+ST5C!AL10+ST6C!AL10+ST7C!AL10+ST8C!AL10+ST9C!AL10+ST10C!AL10+ST11C!AL10+ST12C!AL10+ST13C!AL10+ST14C!AL10+ST15C!AL10+ST16C!AL10+ST17C!AL10+ST18C!AL10+ST19C!AL10+ST20C!AL10)/'Class Results'!$AM$4 -> 16 | C20: =(ST1C!AM10+ST2C!AM10+ST3C!AM10+ST4C!AM10+ST5C!AM10+ST6C!AM10+ST7C!AM10+ST8C!AM10+ST9C!AM10+ST10C!AM10+ST11C!AM10+ST12C!AM10+ST13C!AM10+ST14C!AM10+ST15C!AM10+ST16C!AM10+ST17C!AM10+ST18C!AM10+ST19C!AM10+ST20C!AM10)/'Class Results'!$AM$4 -> 0 | D20: =(C20/B20)*100 -> 0
A21: =ST1C!AJ11 -> matching analytical techniques | B21: =(ST1C!AL11+ST2C!AL11+ST3C!AL11+ST4C!AL11+ST5C!AL11+ST6C!AL11+ST7C!AL11+ST8C!AL11+ST9C!AL11+ST10C!AL11+ST11C!AL11+ST12C!AL11+ST13C!AL11+ST14C!AL11+ST15C!AL11+ST16C!AL11+ST17C!AL11+ST18C!AL11+ST19C!AL11+ST20C!AL11)/'Class Results'!$AM$4 -> 1 | C21: =(ST1C!AM11+ST2C!AM11+ST3C!AM11+ST4C!AM11+ST5C!AM11+ST6C!AM11+ST7C!AM11+ST8C!AM11+ST9C!AM11+ST10C!AM11+ST11C!AM11+ST12C!AM11+ST13C!AM11+ST14C!AM11+ST15C!AM11+ST16C!AM11+ST17C!AM11+ST18C!AM11+ST19C!AM11+ST20C!AM11)/'Class Results'!$AM$4 -> 0 | D21: =(C21/B21)*100 -> 0
A22: =ST1C!AJ12 -> organic structures | B22: =(ST1C!AL12+ST2C!AL12+ST3C!AL12+ST4C!AL12+ST5C!AL12+ST6C!AL12+ST7C!AL12+ST8C!AL12+ST9C!AL12+ST10C!AL12+ST11C!AL12+ST12C!AL12+ST13C!AL12+ST14C!AL12+ST15C!AL12+ST16C!AL12+ST17C!AL12+ST18C!AL12+ST19C!AL12+ST20C!AL12)/'Class Results'!$AM$4 -> 33 | C22: =(ST1C!AM12+ST2C!AM12+ST3C!AM12+ST4C!AM12+ST5C!AM12+ST6C!AM12+ST7C!AM12+ST8C!AM12+ST9C!AM12+ST10C!AM12+ST11C!AM12+ST12C!AM12+ST13C!AM12+ST14C!AM12+ST15C!AM12+ST16C!AM12+ST17C!AM12+ST18C!AM12+ST19C!AM12+ST20C!AM12)/'Class Results'!$AM$4 -> 0 | D22: =(C22/B22)*100 -> 0
A23: =ST1C!AJ13 -> common organic reactions | B23: =(ST1C!AL13+ST2C!AL13+ST3C!AL13+ST4C!AL13+ST5C!AL13+ST6C!AL13+ST7C!AL13+ST8C!AL13+ST9C!AL13+ST10C!AL13+ST11C!AL13+ST12C!AL13+ST13C!AL13+ST14C!AL13+ST15C!AL13+ST16C!AL13+ST17C!AL13+ST18C!AL13+ST19C!AL13+ST20C!AL13)/'Class Results'!$AM$4 -> 7 | C23: =(ST1C!AM13+ST2C!AM13+ST3C!AM13+ST4C!AM13+ST5C!AM13+ST6C!AM13+ST7C!AM13+ST8C!AM13+ST9C!AM13+ST10C!AM13+ST11C!AM13+ST12C!AM13+ST13C!AM13+ST14C!AM13+ST15C!AM13+ST16C!AM13+ST17C!AM13+ST18C!AM13+ST19C!AM13+ST20C!AM13)/'Class Results'!$AM$4 -> 0 | D23: =(C23/B23)*100 -> 0
A24: =ST1C!AJ14 -> chemical bonding proteins | B24: =(ST1C!AL14+ST2C!AL14+ST3C!AL14+ST4C!AL14+ST5C!AL14+ST6C!AL14+ST7C!AL14+ST8C!AL14+ST9C!AL14+ST10C!AL14+ST11C!AL14+ST12C!AL14+ST13C!AL14+ST14C!AL14+ST15C!AL14+ST16C!AL14+ST17C!AL14+ST18C!AL14+ST19C!AL14+ST20C!AL14)/'Class Results'!$AM$4 -> 5 | C24: =(ST1C!AM14+ST2C!AM14+ST3C!AM14+ST4C!AM14+ST5C!AM14+ST6C!AM14+ST7C!AM14+ST8C!AM14+ST9C!AM14+ST10C!AM14+ST11C!AM14+ST12C!AM14+ST13C!AM14+ST14C!AM14+ST15C!AM14+ST16C!AM14+ST17C!AM14+ST18C!AM14+ST19C!AM14+ST20C!AM14)/'Class Results'!$AM$4 -> 0 | D24: =(C24/B24)*100 -> 0
A25: =ST1C!AJ15 -> DNA | B25: =(ST1C!AL15+ST2C!AL15+ST3C!AL15+ST4C!AL15+ST5C!AL15+ST6C!AL15+ST7C!AL15+ST8C!AL15+ST9C!AL15+ST10C!AL15+ST11C!AL15+ST12C!AL15+ST13C!AL15+ST14C!AL15+ST15C!AL15+ST16C!AL15+ST17C!AL15+ST18C!AL15+ST19C!AL15+ST20C!AL15)/'Class Results'!$AM$4 -> 8 | C25: =(ST1C!AM15+ST2C!AM15+ST3C!AM15+ST4C!AM15+ST5C!AM15+ST6C!AM15+ST7C!AM15+ST8C!AM15+ST9C!AM15+ST10C!AM15+ST11C!AM15+ST12C!AM15+ST13C!AM15+ST14C!AM15+ST15C!AM15+ST16C!AM15+ST17C!AM15+ST18C!AM15+ST19C!AM15+ST20C!AM15)/'Class Results'!$AM$4 -> 0 | D25: =(C25/B25)*100 -> 0
A26: =ST1C!AJ16 -> organic reaction pathways | B26: =(ST1C!AL16+ST2C!AL16+ST3C!AL16+ST4C!AL16+ST5C!AL16+ST6C!AL16+ST7C!AL16+ST8C!AL16+ST9C!AL16+ST10C!AL16+ST11C!AL16+ST12C!AL16+ST13C!AL16+ST14C!AL16+ST15C!AL16+ST16C!AL16+ST17C!AL16+ST18C!AL16+ST19C!AL16+ST20C!AL16)/'Class Results'!$AM$4 -> 10 | C26: =(ST1C!AM16+ST2C!AM16+ST3C!AM16+ST4C!AM16+ST5C!AM16+ST6C!AM16+ST7C!AM16+ST8C!AM16+ST9C!AM16+ST10C!AM16+ST11C!AM16+ST12C!AM16+ST13C!AM16+ST14C!AM16+ST15C!AM16+ST16C!AM16+ST17C!AM16+ST18C!AM16+ST19C!AM16+ST20C!AM16)/'Class Results'!$AM$4 -> 0 | D26: =(C26/B26)*100 -> 0
... A28: =ST1C!AJ18 -> medicine synthesis | B28: =(ST1C!AL18+ST2C!AL18+ST3C!AL18+ST4C!AL18+ST5C!AL18+ST6C!AL18+ST7C!AL18+ST8C!AL18+ST9C!AL18+ST10C!AL18+ST11C!AL18+ST12C!AL18+ST13C!AL18+ST14C!AL18+ST15C!AL18+ST16C!AL18+ST17C!AL18+ST18C!AL18+ST19C!AL18+ST20C!AL18)/'Class Results'!$AM$4 -> 1 | C28: =(ST1C!AM18+ST2C!AM18+ST3C!AM18+ST4C!AM18+ST5C!AM18+ST6C!AM18+ST7C!AM18+ST8C!AM18+ST9C!AM18+ST10C!AM18+ST11C!AM18+ST12C!AM18+ST13C!AM18+ST14C!AM18+ST15C!AM18+ST16C!AM18+ST17C!AM18+ST18C!AM18+ST19C!AM18+ST20C!AM18)/'Class Results'!$AM$4 -> 0 | D28: =(C28/B28)*100 -> 0
A35: Exam Name: | B35: =B3 -> LisaChem 2014
A37: Name | B37: =B5 -> Class Summary
B39: Value | C39: Gained | D39: %
A40: Unit 4 AOS 1 | B40: =(ST1C!AL20+ST2C!AL20+ST3C!AL20+ST4C!AL20+ST5C!AL20+ST6C!AL20+ST7C!AL20+ST8C!AL20+ST9C!AL20+ST10C!AL20+ST11C!AL20+ST12C!AL20+ST13C!AL20+ST14C!AL20+ST15C!AL20+ST16C!AL20+ST17C!AL20+ST18C!AL20+ST19C!AL20+ST20C!AL20)/'Class Results'!$AM$4 -> 32 | C40: =(ST1C!AM20+ST2C!AM20+ST3C!AM20+ST4C!AM20+ST5C!AM20+ST6C!AM20+ST7C!AM20+ST8C!AM20+ST9C!AM20+ST10C!AM20+ST11C!AM20+ST12C!AM20+ST13C!AM20+ST14C!AM20+ST15C!AM20+ST16C!AM20+ST17C!AM20+ST18C!AM20+ST19C!AM20+ST20C!AM20)/'Class Results'!$AM$4 -> 0 | D40: =(C40/B40)*100 -> 0
A41: Unit 4 AOS 2 | B41: =(ST1C!AL21+ST2C!AL21+ST3C!AL21+ST4C!AL21+ST5C!AL21+ST6C!AL21+ST7C!AL21+ST8C!AL21+ST9C!AL21+ST10C!AL21+ST11C!AL21+ST12C!AL21+ST13C!AL21+ST14C!AL21+ST15C!AL21+ST16C!AL21+ST17C!AL21+ST18C!AL21+ST19C!AL21+ST20C!AL21)/'Class Results'!$AM$4 -> 58 | C41: =(ST1C!AM21+ST2C!AM21+ST3C!AM21+ST4C!AM21+ST5C!AM21+ST6C!AM21+ST7C!AM21+ST8C!AM21+ST9C!AM21+ST10C!AM21+ST11C!AM21+ST12C!AM21+ST13C!AM21+ST14C!AM21+ST15C!AM21+ST16C!AM21+ST17C!AM21+ST18C!AM21+ST19C!AM21+ST20C!AM21)/'Class Results'!$AM$4 -> 0 | D41: =(C41/B41)*100 -> 0
B44: Unit 4
A45: =ST1C!AJ22 -> Rates of reaction | B45: =(ST1C!AL22+ST2C!AL22+ST3C!AL22+ST4C!AL22+ST5C!AL22+ST6C!AL22+ST7C!AL22+ST8C!AL22+ST9C!AL22+ST10C!AL22+ST11C!AL22+ST12C!AL22+ST13C!AL22+ST14C!AL22+ST15C!AL22+ST16C!AL22+ST17C!AL22+ST18C!AL22+ST19C!AL22+ST20C!AL22)/'Class Results'!$AM$4 -> 5 | C45: =(ST1C!AM22+ST2C!AM22+ST3C!AM22+ST4C!AM22+ST5C!AM22+ST6C!AM22+ST7C!AM22+ST8C!AM22+ST9C!AM22+ST10C!AM22+ST11C!AM22+ST12C!AM22+ST13C!AM22+ST14C!AM22+ST15C!AM22+ST16C!AM22+ST17C!AM22+ST18C!AM22+ST19C!AM22+ST20C!AM22)/'Class Results'!$AM$4 -> 0 | D45: =(C45/B45)*100 -> 0
A46: =ST1C!AJ23 -> Energy of reactions | B46: =(ST1C!AL23+ST2C!AL23+ST3C!AL23+ST4C!AL23+ST5C!AL23+ST6C!AL23+ST7C!AL23+ST8C!AL23+ST9C!AL23+ST10C!AL23+ST11C!AL23+ST12C!AL23+ST13C!AL23+ST14C!AL23+ST15C!AL23+ST16C!AL23+ST17C!AL23+ST18C!AL23+ST19C!AL23+ST20C!AL23)/'Class Results'!$AM$4 -> 12 | C46: =(ST1C!AM23+ST2C!AM23+ST3C!AM23+ST4C!AM23+ST5C!AM23+ST6C!AM23+ST7C!AM23+ST8C!AM23+ST9C!AM23+ST10C!AM23+ST11C!AM23+ST12C!AM23+ST13C!AM23+ST14C!AM23+ST15C!AM23+ST16C!AM23+ST17C!AM23+ST18C!AM23+ST19C!AM23+ST20C!AM23)/'Class Results'!$AM$4 -> 0 | D46: =(C46/B46)*100 -> 0
A47: =ST1C!AJ24 -> Equilibrium | B47: =(ST1C!AL24+ST2C!AL24+ST3C!AL24+ST4C!AL24+ST5C!AL24+ST6C!AL24+ST7C!AL24+ST8C!AL24+ST9C!AL24+ST10C!AL24+ST11C!AL24+ST12C!AL24+ST13C!AL24+ST14C!AL24+ST15C!AL24+ST16C!AL24+ST17C!AL24+ST18C!AL24+ST19C!AL24+ST20C!AL24)/'Class Results'!$AM$4 -> 15 | C47: =(ST1C!AM24+ST2C!AM24+ST3C!AM24+ST4C!AM24+ST5C!AM24+ST6C!AM24+ST7C!AM24+ST8C!AM24+ST9C!AM24+ST10C!AM24+ST11C!AM24+ST12C!AM24+ST13C!AM24+ST14C!AM24+ST15C!AM24+ST16C!AM24+ST17C!AM24+ST18C!AM24+ST19C!AM24+ST20C!AM24)/'Class Results'!$AM$4 -> 0 | D47: =(C47/B47)*100 -> 0
A48: =ST1C!AJ25 -> Application of equil & rates | B48: =(ST1C!AL25+ST2C!AL25+ST3C!AL25+ST4C!AL25+ST5C!AL25+ST6C!AL25+ST7C!AL25+ST8C!AL25+ST9C!AL25+ST10C!AL25+ST11C!AL25+ST12C!AL25+ST13C!AL25+ST14C!AL25+ST15C!AL25+ST16C!AL25+ST17C!AL25+ST18C!AL25+ST19C!AL25+ST20C!AL25)/'Class Results'!$AM$4 -> 0 | C48: =(ST1C!AM25+ST2C!AM25+ST3C!AM25+ST4C!AM25+ST5C!AM25+ST6C!AM25+ST7C!AM25+ST8C!AM25+ST9C!AM25+ST10C!AM25+ST11C!AM25+ST12C!AM25+ST13C!AM25+ST14C!AM25+ST15C!AM25+ST16C!AM25+ST17C!AM25+ST18C!AM25+ST19C!AM25+ST20C!AM25)/'Class Results'!$AM$4 -> 0 | D48: =(C48/B48)*100 -> #DIV/0!
A49: =ST1C!AJ26 -> Energy sources renewability | B49: =(ST1C!AL26+ST2C!AL26+ST3C!AL26+ST4C!AL26+ST5C!AL26+ST6C!AL26+ST7C!AL26+ST8C!AL26+ST9C!AL26+ST10C!AL26+ST11C!AL26+ST12C!AL26+ST13C!AL26+ST14C!AL26+ST15C!AL26+ST16C!AL26+ST17C!AL26+ST18C!AL26+ST19C!AL26+ST20C!AL26)/'Class Results'!$AM$4 -> 8 | C49: =(ST1C!AM26+ST2C!AM26+ST3C!AM26+ST4C!AM26+ST5C!AM26+ST6C!AM26+ST7C!AM26+ST8C!AM26+ST9C!AM26+ST10C!AM26+ST11C!AM26+ST12C!AM26+ST13C!AM26+ST14C!AM26+ST15C!AM26+ST16C!AM26+ST17C!AM26+ST18C!AM26+ST19C!AM26+ST20C!AM26)/'Class Results'!$AM$4 -> 0 | D49: =(C49/B49)*100 -> 0
A50: =ST1C!AJ27 -> Calorimetry | B50: =(ST1C!AL27+ST2C!AL27+ST3C!AL27+ST4C!AL27+ST5C!AL27+ST6C!AL27+ST7C!AL27+ST8C!AL27+ST9C!AL27+ST10C!AL27+ST11C!AL27+ST12C!AL27+ST13C!AL27+ST14C!AL27+ST15C!AL27+ST16C!AL27+ST17C!AL27+ST18C!AL27+ST19C!AL27+ST20C!AL27)/'Class Results'!$AM$4 -> 18 | C50: =(ST1C!AM27+ST2C!AM27+ST3C!AM27+ST4C!AM27+ST5C!AM27+ST6C!AM27+ST7C!AM27+ST8C!AM27+ST9C!AM27+ST10C!AM27+ST11C!AM27+ST12C!AM27+ST13C!AM27+ST14C!AM27+ST15C!AM27+ST16C!AM27+ST17C!AM27+ST18C!AM27+ST19C!AM27+ST20C!AM27)/'Class Results'!$AM$4 -> 0 | D50: =(C50/B50)*100 -> 0
A51: =ST1C!AJ28 -> Electrochemical Series | B51: =(ST1C!AL28+ST2C!AL28+ST3C!AL28+ST4C!AL28+ST5C!AL28+ST6C!AL28+ST7C!AL28+ST8C!AL28+ST9C!AL28+ST10C!AL28+ST11C!AL28+ST12C!AL28+ST13C!AL28+ST14C!AL28+ST15C!AL28+ST16C!AL28+ST17C!AL28+ST18C!AL28+ST19C!AL28+ST20C!AL28)/'Class Results'!$AM$4 -> 17 | C51: =(ST1C!AM28+ST2C!AM28+ST3C!AM28+ST4C!AM28+ST5C!AM28+ST6C!AM28+ST7C!AM28+ST8C!AM28+ST9C!AM28+ST10C!AM28+ST11C!AM28+ST12C!AM28+ST13C!AM28+ST14C!AM28+ST15C!AM28+ST16C!AM28+ST17C!AM28+ST18C!AM28+ST19C!AM28+ST20C!AM28)/'Class Results'!$AM$4 -> 0 | D51: =(C51/B51)*100 -> 0
A52: =ST1C!AJ29 -> Galvanic Cells | B52: =(ST1C!AL29+ST2C!AL29+ST3C!AL29+ST4C!AL29+ST5C!AL29+ST6C!AL29+ST7C!AL29+ST8C!AL29+ST9C!AL29+ST10C!AL29+ST11C!AL29+ST12C!AL29+ST13C!AL29+ST14C!AL29+ST15C!AL29+ST16C!AL29+ST17C!AL29+ST18C!AL29+ST19C!AL29+ST20C!AL29)/'Class Results'!$AM$4 -> 4 | C52: =(ST1C!AM29+ST2C!AM29+ST3C!AM29+ST4C!AM29+ST5C!AM29+ST6C!AM29+ST7C!AM29+ST8C!AM29+ST9C!AM29+ST10C!AM29+ST11C!AM29+ST12C!AM29+ST13C!AM29+ST14C!AM29+ST15C!AM29+ST16C!AM29+ST17C!AM29+ST18C!AM29+ST19C!AM29+ST20C!AM29)/'Class Results'!$AM$4 -> 0 | D52: =(C52/B52)*100 -> 0
A53: =ST1C!AJ30 -> Fuel Cells | B53: =(ST1C!AL30+ST2C!AL30+ST3C!AL30+ST4C!AL30+ST5C!AL30+ST6C!AL30+ST7C!AL30+ST8C!AL30+ST9C!AL30+ST10C!AL30+ST11C!AL30+ST12C!AL30+ST13C!AL30+ST14C!AL30+ST15C!AL30+ST16C!AL30+ST17C!AL30+ST18C!AL30+ST19C!AL30+ST20C!AL30)/'Class Results'!$AM$4 -> 2 | C53: =(ST1C!AM30+ST2C!AM30+ST3C!AM30+ST4C!AM30+ST5C!AM30+ST6C!AM30+ST7C!AM30+ST8C!AM30+ST9C!AM30+ST10C!AM30+ST11C!AM30+ST12C!AM30+ST13C!AM30+ST14C!AM30+ST15C!AM30+ST16C!AM30+ST17C!AM30+ST18C!AM30+ST19C!AM30+ST20C!AM30)/'Class Results'!$AM$4 -> 0 | D53: =(C53/B53)*100 -> 0
A54: =ST1C!AJ31 -> Electrolytic Cells | B54: =(ST1C!AL31+ST2C!AL31+ST3C!AL31+ST4C!AL31+ST5C!AL31+ST6C!AL31+ST7C!AL31+ST8C!AL31+ST9C!AL31+ST10C!AL31+ST11C!AL31+ST12C!AL31+ST13C!AL31+ST14C!AL31+ST15C!AL31+ST16C!AL31+ST17C!AL31+ST18C!AL31+ST19C!AL31+ST20C!AL31)/'Class Results'!$AM$4 -> 6 | C54: =(ST1C!AM31+ST2C!AM31+ST3C!AM31+ST4C!AM31+ST5C!AM31+ST6C!AM31+ST7C!AM31+ST8C!AM31+ST9C!AM31+ST10C!AM31+ST11C!AM31+ST12C!AM31+ST13C!AM31+ST14C!AM31+ST15C!AM31+ST16C!AM31+ST17C!AM31+ST18C!AM31+ST19C!AM31+ST20C!AM31)/'Class Results'!$AM$4 -> 0 | D54: =(C54/B54)*100 -> 0
A55: =ST1C!AJ32 -> Faradays Laws | B55: =(ST1C!AL32+ST2C!AL32+ST3C!AL32+ST4C!AL32+ST5C!AL32+ST6C!AL32+ST7C!AL32+ST8C!AL32+ST9C!AL32+ST10C!AL32+ST11C!AL32+ST12C!AL32+ST13C!AL32+ST14C!AL32+ST15C!AL32+ST16C!AL32+ST17C!AL32+ST18C!AL32+ST19C!AL32+ST20C!AL32)/'Class Results'!$AM$4 -> 3 | C55: =(ST1C!AM32+ST2C!AM32+ST3C!AM32+ST4C!AM32+ST5C!AM32+ST6C!AM32+ST7C!AM32+ST8C!AM32+ST9C!AM32+ST10C!AM32+ST11C!AM32+ST12C!AM32+ST13C!AM32+ST14C!AM32+ST15C!AM32+ST16C!AM32+ST17C!AM32+ST18C!AM32+ST19C!AM32+ST20C!AM32)/'Class Results'!$AM$4 -> 0 | D55: =(C55/B55)*100 -> 0
A56: =ST1C!AJ33 -> Key Skills | B56: =(ST1C!AL33+ST2C!AL33+ST3C!AL33+ST4C!AL33+ST5C!AL33+ST6C!AL33+ST7C!AL33+ST8C!AL33+ST9C!AL33+ST10C!AL33+ST11C!AL33+ST12C!AL33+ST13C!AL33+ST14C!AL33+ST15C!AL33+ST16C!AL33+ST17C!AL33+ST18C!AL33+ST19C!AL33+ST20C!AL33)/'Class Results'!$AM$4 -> 10 | C56: =(ST1C!AM33+ST2C!AM33+ST3C!AM33+ST4C!AM33+ST5C!AM33+ST6C!AM33+ST7C!AM33+ST8C!AM33+ST9C!AM33+ST10C!AM33+ST11C!AM33+ST12C!AM33+ST13C!AM33+ST14C!AM33+ST15C!AM33+ST16C!AM33+ST17C!AM33+ST18C!AM33+ST19C!AM33+ST20C!AM33)/'Class Results'!$AM$4 -> 0 | D56: =(C56/B56)*100 -> 0

Sheet EQUAT
A1: EQUAT
A3: Exam: | C3: LisaChem 2014
A5: Multiple Choice | H5: Short Answer
A6: Qu | B6: Ans | C6: Total Marks | E6: Key Knowledge Descriptor | H6: Qu | I6: Total Marks | K6: Key Knowledge Descriptor
A7: 1 | B7: D | C7: 1 | D7: amino acid | E7: systematic name | H7: 1a | I7: 2 | J7: amino acid | K7: cond & poly - proteins | L7: amide
A8: 2 | B8: A | C8: 1 | D8: calc delta H from chemical equations | E8: calculations | H8: 1b | I8: 1 | J8: TLC | K8: cond & poly - proteins | L8: amide
A9: 3 | B9: B | C9: 1 | D9: esters from alkenes | H9: 1c | I9: 2 | J9: structural formula | K9: cond & poly - proteins | L9: amide
A10: 4 | B10: C | C10: 1 | D10: calculations | H10: 1d | I10: 2 | J10: amino acid | K10: properties of organic compounds
A11: 5 | B11: D | C11: 1 | D11: IR | E11: C13NMR | F11: calculations | H11: 1e | I11: 3 | J11: TLC | K11: chromatographic techniques
A12: 6 | B12: A | C12: 1 | D12: redox titrations | E12: vol - experimental technique | H12: 1f | I12: 6 | J12: protein- primary, secondary, tertiary structure | K12: DNA primary structure | L12: DNA secondary structure
A13: 7 | B13: C | C13: 1 | D13: chemical equations | E13: calculations | H13: 2ai | I13: 2 | J13: unit conversion
A14: 8 | B14: B | C14: 1 | D14: galvanic cells - primary, secondary | E14: electrochemical series | F14: data book | H14: 2aii | I14: 1 | J14: concentration
A15: 9 | B15: B | C15: 1 | D15: vol - experimental technique | H15: 2b | I15: 2 | J15: Key Skills
A16: 10 | B16: B | C16: 1 | D16: GC | E16: mass spectrometry | F16: alkanols | H16: 2c | I16: 1 | J16: HNMR
A17: 11 | B17: B | C17: 1 | D17: calibration graph AAS or UV | E17: unit conversion | H17: 2di | I17: 1 | J17: oxidation primary alkanols | K17: structural formula
A18: 12 | B18: B | C18: 1 | D18: volume, temperature, pressure of gases | H18: 2dii | I18: 1 | J18: redox equations
A19: 13 | B19: A | C19: 1 | D19: HNMR | E19: aspirin | H19: 2ei | I19: 5 | J19: Calorimetry | K19: unit conversion | L19: Energy sources - renewability
A20: 14 | B20: B | C20: 1 | D20: titration curves | E20: calculations | H20: 2eii | I20: 2 | J20: Energy sources - renewability
A21: 15 | B21: D | C21: 1 | D21: organic reaction pathways | E21: esterification | H21: 2eiii | I21: 1 | J21: protein- primary, secondary, tertiary structure | K21: amino acid
A22: 16 | B22: A | C22: 1 | D22: matching analytical technique | E22: AAS | H22: 3ai | I22: 1 | J22: chemical principles electrolytic cell
A23: 17 | B23: D | C23: 1 | D23: galvanic primary, half & overall equations | E23: electrochemical series | F23: data book | H23: 3aii | I23: 2 | J23: molten vs aqueous electrolytic cell | K23: electrochemical series | L23: data book
A24: 18 | B24: B | C24: 1 | D24: Ka weak acids | E24: Le Chatelier principle | H24: 3bi | I24: 3 | J24: Faradays laws
A25: 19 | B25: C | C25: 1 | D25: galcanic secondary, half & overall equations | H25: 3bii | I25: 1 | J25: chemical principles electrolytic cell | K25: electrochemical series | L25: data book
A26: 20 | B26: D | C26: 1 | D26: galvanic secondary, principles | H26: 3c | I26: 2 | J26: molten vs aqueous electrolytic cell | K26: electrochemical series | L26: data book
A27: 21 | B27: A | C27: 1 | D27: Le Chatelier principle | E27: calc delta H from chemical equations | H27: 4a | I27: 1 | J27: Energy of reactions
A28: 22 | B28: D | C28: 1 | D28: Equilibrium law | E28: calculations | H28: 4b | I28: 6 | J28: Energy of reactions
A29: 23 | B29: B | C29: 1 | D29: electrochemical series | E29: data book | H29: 4ci | I29: 1 | J29: chemical equations
A30: 24 | B30: D | C30: 1 | D30: systematic name | E30: semi-structural formula | F30: alkanols | H30: 4cii | I30: 2 | J30: collision theory
A31: 25 | B31: B | C31: 1 | D31: acid-base titrations | E31: molecular ion peak | F31: calculations | H31: 5a | I31: 1 | J31: chemical equations
A32: 26 | B32: C | C32: 1 | D32: vol - experimental technique | H32: 5bi | I32: 1 | J32: Equilibrium law
A33: 27 | B33: B | C33: 1 | D33: Le Chatelier principle | H33: 5bii | I33: 3 | J33: pH | K33: Ka weak acids | L33: calculations
A34: 28 | B34: C | C34: 1 | D34: amines | E34: structural formula | F34: unit conversion | H34: 5ci | I34: 3 | J34: bomb calorimetry | K34: calibration calorimetry | L34: calculations
A35: 29 | B35: D | C35: 1 | D35: titration curves | H35: 5cii | I35: 2 | J35: bomb calorimetry | K35: calibration calorimetry
A36: 30 | B36: D | C36: 1 | D36: grav - experimental technique | H36: 5di | I36: 3 | J36: Calorimetry
H37: 5dii | I37: 1 | J37: Calorimetry | K37: excess and limiting reagents
H38: 6a | I38: 1 | J38: chemical equations | K38: organic reaction pathways
H39: 6b | I39: 2 | J39: calc delta H from chemical equations | K39: calculations
H40: 6c | I40: 4 | J40: volume, temperature, pressure of gases
H41: 6d | I41: 3 | J41: Le Chatelier principle
H42: 6e | I42: 3 | J42: collision theory
H43: 6fi | I43: 6 | J43: IR | K43: HNMR | L43: semi-structural formula
H44: 6fii | I44: 2 | J44: organic reaction pathways
H45: 6gi | I45: 1 | J45: chemical equations | K45: ethanol production
H46: 6gii | I46: 3 | J46: properties of organic compounds | K46: ethanol production
H47: 6giii | I47: 1 | J47: chemical equations | K47: ethanol production
H48: 6hi | I48: 1 | J48: chemical principles fuel cell
H49: 6hii | I49: 1 | J49: half, overall equations fuel cell
H50: 7a | I50: 5 | J50: predicting redox products
H51: 7b | I51: 2 | J51: predicting redox products | K51: electrochemical series
H52: 7c | I52: 1 | J52: limitations of predictions
H53: 8ai | I53: 1 | J53: biochemical fuel production
H54: 8aii | I54: 1 | J54: biochemical fuel production
H55: 8bi | I55: 1 | J55: biodiesel | K55: systematic name | L55: semi-structural formula
H56: 8bii | I56: 1 | J56: biodiesel | K56: systematic name | L56: molecular formula
H57: 8biii | I57: 2 | J57: biodiesel | K57: semi-structural formula | L57: semi-structural formula
H58: 8c | I58: 3 | J58: calc delta H from chemical equations | K58: chemical equations
H59: 8di | I59: 1 | J59: Energy sources - renewability
H60: 8dii | I60: 1 | J60: Energy sources - renewability

Sheet KKD
A1: Key Knowledge Descriptors
B2: List of Terms used in EQUAT
B3: Unit 3 | F3: Unit 4
B4: Volumetric | F4: Rates of reaction
B5: vol - experimental technique | F5: collision theory
B6: excess and limiting reagents | F6: temperature effect on rate
B7: titration curves | F7: pressure effect on rate
B8: simple titrations | F8: concentration effect on rate
B9: back titrations | F9: catalyst effect on rate
B10: acid-base titrations | F10: Energy of reactions
B11: redox titrations | F11: Energy profile diagrams
B12: acid-base, pH | F12: activation energy
B13: gravimetric analysis | F13: calc delta H from energy profile
B14: grav - experimental technique | F14: calc delta H from chemical equations
F15: catalysts-alternative pathway
B16: calculations | F16: Equiibrium
B17: amount of solids, liquids, gases | F17: Equilibrium law
B18: concentration | F18: Le Chatelier principle
B19: volume, temperature, pressure of gases | F19: pH
B20: unit conversion | F20: Kw
B21: chemical equations | F21: Ka weak acids
B22: ox numbers | F22: Appl of equil & and rate principles
B23: redox equations | F23: Energy sources - renewability
F24: Calorimetry
B25: chromatographic techniques | F25: solution calorimetry
B26: TLC | F26: bomb calorimetry
B27: Rf | F27: calibration calorimetry
B28: HPLC | F28: Effect of heat loss- calorimetry
B29: GC | F29: electrochemical series
B30: Rt | F30: predicting redox products
B31: calibration graph GC | F31: overall redox equations
B32: area under the peak | F32: limitations of predictions
B33: spectroscopic techniques | F33: galvanic cells - primary, secondary
B34: AAS | F34: chemical principles galvanic
B35: IR | F35: half, overall equations galvanic
B36: HNMR | F36: fuel cells
... B47: molecular ion peak | F47: data book
B48: relative molecular mass
B50: matching analytical technique
B53: organic structure
B54: molecular formula
B55: structural formula
B56: semi-structural formula
B57: systematic name
B58: isomers
B59: alkanes
B60: alkenes
B61: amines
B62: haloalkanes
... B155: experimental design

Sheet ST1
A1: Student Summary | O1: Exam Name: | P1: =B3 -> LisaChem 2014 | S1: Name: | T1: =B5 -> Student 1
O2: Exam Solution | P2: Student Ans | Q2: Marks Gained | R2: Total Marks Gained MC: | S2: =SUM(Q4:Q33) -> 0
A3: Exam Name: | B3: =EQUAT!C3 -> LisaChem 2014 | H3: Total | I3: Achievement | J3: % | N3: Qu | R3: Key Knowledge Descriptor
G4: Multiple Choice | H4: =ST1C!AK38 -> 30 | I4: =ST1C!AL38 -> 0 | J4: =ST1C!AM38 -> 0 | K4: =(I4/H4)*100 -> 0 | N4: =EQUAT!A7 -> 1 | O4: =EQUAT!B7 -> D | P4: ='Class Results'!C6 -> 0 | Q4: =IF(P4=O4,1,0) -> 0 | R4: =IF(EQUAT!D7=0, "",EQUAT!D7) -> amino acid | S4: =IF(EQUAT!E7=0, "",EQUAT!E7) -> systematic name | T4: =IF(EQUAT!F7=0, "",EQUAT!F7)
A5: Name | B5: ='Class Results'!C4 -> Student 1 | G5: Short Answer | H5: =ST1C!AK39 -> 112 | I5: =ST1C!AL39 -> 0 | J5: =ST1C!AM39 -> 0 | N5: =EQUAT!A8 -> 2 | O5: =EQUAT!B8 -> A | P5: ='Class Results'!C7 -> 0 | Q5: =IF(P5=O5,1,0) -> 0 | R5: =IF(EQUAT!D8=0, "",EQUAT!D8) -> calc delta H from chemical equations | S5: =IF(EQUAT!E8=0, "",EQUAT!E8) -> calculations | T5: =IF(EQUAT!F8=0, "",EQUAT!F8)
G6: Overall | H6: =SUM(H4:H5) -> 142 | I6: =SUM(I4:I5) -> 0 | J6: =(I6/H6)*100 -> 0 | N6: =EQUAT!A9 -> 3 | O6: =EQUAT!B9 -> B | P6: ='Class Results'!C8 -> 0 | Q6: =IF(P6=O6,1,0) -> 0 | R6: =IF(EQUAT!D9=0, "",EQUAT!D9) -> esters from alkenes | S6: =IF(EQUAT!E9=0, "",EQUAT!E9) | T6: =IF(EQUAT!F9=0, "",EQUAT!F9)
N7: =EQUAT!A10 -> 4 | O7: =EQUAT!B10 -> C | P7: ='Class Results'!C9 -> 0 | Q7: =IF(P7=O7,1,0) -> 0 | R7: =IF(EQUAT!D10=0, "",EQUAT!D10) -> calculations | S7: =IF(EQUAT!E10=0, "",EQUAT!E10) | T7: =IF(EQUAT!F10=0, "",EQUAT!F10)
B8: Value | C8: Gained | D8: % | N8: =EQUAT!A11 -> 5 | O8: =EQUAT!B11 -> D | P8: ='Class Results'!C10 -> 0 | Q8: =IF(P8=O8,1,0) -> 0 | R8: =IF(EQUAT!D11=0, "",EQUAT!D11) -> IR | S8: =IF(EQUAT!E11=0, "",EQUAT!E11) -> C13NMR | T8: =IF(EQUAT!F11=0, "",EQUAT!F11) -> calculations
A9: Unit 3 AOS 1 | B9: =ST1C!AL3 -> 73 | C9: =ST1C!AM3 -> 0 | D9: =ST1C!AN3 -> 0 | N9: =EQUAT!A12 -> 6 | O9: =EQUAT!B12 -> A | P9: ='Class Results'!C11 -> 0 | Q9: =IF(P9=O9,1,0) -> 0 | R9: =IF(EQUAT!D12=0, "",EQUAT!D12) -> redox titrations | S9: =IF(EQUAT!E12=0, "",EQUAT!E12) -> vol - experimental technique | T9: =IF(EQUAT!F12=0, "",EQUAT!F12)
A10: Unit 3 AOS 2 | B10: =ST1C!AL4 -> 75 | C10: =ST1C!AM4 -> 0 | D10: =ST1C!AN4 -> 0 | N10: =EQUAT!A13 -> 7 | O10: =EQUAT!B13 -> C | P10: ='Class Results'!C12 -> 0 | Q10: =IF(P10=O10,1,0) -> 0 | R10: =IF(EQUAT!D13=0, "",EQUAT!D13) -> chemical equations | S10: =IF(EQUAT!E13=0, "",EQUAT!E13) -> calculations | T10: =IF(EQUAT!F13=0, "",EQUAT!F13)
N11: =EQUAT!A14 -> 8 | O11: =EQUAT!B14 -> B | P11: ='Class Results'!C13 -> 0 | Q11: =IF(P11=O11,1,0) -> 0 | R11: =IF(EQUAT!D14=0, "",EQUAT!D14) -> galvanic cells - primary, secondary | S11: =IF(EQUAT!E14=0, "",EQUAT!E14) -> electrochemical series | T11: =IF(EQUAT!F14=0, "",EQUAT!F14) -> data book
N12: =EQUAT!A15 -> 9 | O12: =EQUAT!B15 -> B | P12: ='Class Results'!C14 -> 0 | Q12: =IF(P12=O12,1,0) -> 0 | R12: =IF(EQUAT!D15=0, "",EQUAT!D15) -> vol - experimental technique | S12: =IF(EQUAT!E15=0, "",EQUAT!E15) | T12: =IF(EQUAT!F15=0, "",EQUAT!F15)
N13: =EQUAT!A16 -> 10 | O13: =EQUAT!B16 -> B | P13: ='Class Results'!C15 -> 0 | Q13: =IF(P13=O13,1,0) -> 0 | R13: =IF(EQUAT!D16=0, "",EQUAT!D16) -> GC | S13: =IF(EQUAT!E16=0, "",EQUAT!E16) -> mass spectrometry | T13: =IF(EQUAT!F16=0, "",EQUAT!F16) -> alkanols
B14: Unit 3 | N14: =EQUAT!A17 -> 11 | O14: =EQUAT!B17 -> B | P14: ='Class Results'!C16 -> 0 | Q14: =IF(P14=O14,1,0) -> 0 | R14: =IF(EQUAT!D17=0, "",EQUAT!D17) -> calibration graph AAS or UV | S14: =IF(EQUAT!E17=0, "",EQUAT!E17) -> unit conversion | T14: =IF(EQUAT!F17=0, "",EQUAT!F17)
A15: =ST1C!AJ5 -> volumetric | B15: =ST1C!AL5 -> 8 | C15: =ST1C!AM5 -> 0 | D15: =ST1C!AN5 -> 0 | N15: =EQUAT!A18 -> 12 | O15: =EQUAT!B18 -> B | P15: ='Class Results'!C17 -> 0 | Q15: =IF(P15=O15,1,0) -> 0 | R15: =IF(EQUAT!D18=0, "",EQUAT!D18) -> volume, temperature, pressure of gases | S15: =IF(EQUAT!E18=0, "",EQUAT!E18) | T15: =IF(EQUAT!F18=0, "",EQUAT!F18)
A16: =ST1C!AJ6 -> gravimetric analysis | B16: =ST1C!AL6 -> 1 | C16: =ST1C!AM6 -> 0 | D16: =ST1C!AN6 -> 0 | N16: =EQUAT!A19 -> 13 | O16: =EQUAT!B19 -> A | P16: ='Class Results'!C18 -> 0 | Q16: =IF(P16=O16,1,0) -> 0 | R16: =IF(EQUAT!D19=0, "",EQUAT!D19) -> HNMR | S16: =IF(EQUAT!E19=0, "",EQUAT!E19) -> aspirin | T16: =IF(EQUAT!F19=0, "",EQUAT!F19)
A17: =ST1C!AJ7 -> calculations | B17: =ST1C!AL7 -> 29 | C17: =ST1C!AM7 -> 0 | D17: =ST1C!AN7 -> 0 | N17: =EQUAT!A20 -> 14 | O17: =EQUAT!B20 -> B | P17: ='Class Results'!C19 -> 0 | Q17: =IF(P17=O17,1,0) -> 0 | R17: =IF(EQUAT!D20=0, "",EQUAT!D20) -> titration curves | S17: =IF(EQUAT!E20=0, "",EQUAT!E20) -> calculations | T17: =IF(EQUAT!F20=0, "",EQUAT!F20)
A18: =ST1C!AJ8 -> chemical equations | B18: =ST1C!AL8 -> 10 | C18: =ST1C!AM8 -> 0 | D18: =ST1C!AN8 -> 0 | N18: =EQUAT!A21 -> 15 | O18: =EQUAT!B21 -> D | P18: ='Class Results'!C20 -> 0 | Q18: =IF(P18=O18,1,0) -> 0 | R18: =IF(EQUAT!D21=0, "",EQUAT!D21) -> organic reaction pathways | S18: =IF(EQUAT!E21=0, "",EQUAT!E21) -> esterification | T18: =IF(EQUAT!F21=0, "",EQUAT!F21)
A19: =ST1C!AJ9 -> chromatographic techniques | B19: =ST1C!AL9 -> 8 | C19: =ST1C!AM9 -> 0 | D19: =ST1C!AN9 -> 0 | N19: =EQUAT!A22 -> 16 | O19: =EQUAT!B22 -> A | P19: ='Class Results'!C21 -> 0 | Q19: =IF(P19=O19,1,0) -> 0 | R19: =IF(EQUAT!D22=0, "",EQUAT!D22) -> matching analytical technique | S19: =IF(EQUAT!E22=0, "",EQUAT!E22) -> AAS | T19: =IF(EQUAT!F22=0, "",EQUAT!F22)
A20: =ST1C!AJ10 -> spectroscopic techniques | B20: =ST1C!AL10 -> 16 | C20: =ST1C!AM10 -> 0 | D20: =ST1C!AN10 -> 0 | N20: =EQUAT!A23 -> 17 | O20: =EQUAT!B23 -> D | P20: ='Class Results'!C22 -> 0 | Q20: =IF(P20=O20,1,0) -> 0 | R20: =IF(EQUAT!D23=0, "",EQUAT!D23) -> galvanic primary, half & overall equations | S20: =IF(EQUAT!E23=0, "",EQUAT!E23) -> electrochemical series | T20: =IF(EQUAT!F23=0, "",EQUAT!F23) -> data book
A21: =ST1C!AJ11 -> matching analytical techniques | B21: =ST1C!AL11 -> 1 | C21: =ST1C!AM11 -> 0 | D21: =ST1C!AN11 -> 0 | N21: =EQUAT!A24 -> 18 | O21: =EQUAT!B24 -> B | P21: ='Class Results'!C23 -> 0 | Q21: =IF(P21=O21,1,0) -> 0 | R21: =IF(EQUAT!D24=0, "",EQUAT!D24) -> Ka weak acids | S21: =IF(EQUAT!E24=0, "",EQUAT!E24) -> Le Chatelier principle | T21: =IF(EQUAT!F24=0, "",EQUAT!F24)
A22: =ST1C!AJ12 -> organic structures | B22: =ST1C!AL12 -> 33 | C22: =ST1C!AM12 -> 0 | D22: =ST1C!AN12 -> 0 | N22: =EQUAT!A25 -> 19 | O22: =EQUAT!B25 -> C | P22: ='Class Results'!C24 -> 0 | Q22: =IF(P22=O22,1,0) -> 0 | R22: =IF(EQUAT!D25=0, "",EQUAT!D25) -> galcanic secondary, half & overall equations | S22: =IF(EQUAT!E25=0, "",EQUAT!E25) | T22: =IF(EQUAT!F25=0, "",EQUAT!F25)
A23: =ST1C!AJ13 -> common organic reactions | B23: =ST1C!AL13 -> 7 | C23: =ST1C!AM13 -> 0 | D23: =ST1C!AN13 -> 0 | N23: =EQUAT!A26 -> 20 | O23: =EQUAT!B26 -> D | P23: ='Class Results'!C25 -> 0 | Q23: =IF(P23=O23,1,0) -> 0 | R23: =IF(EQUAT!D26=0, "",EQUAT!D26) -> galvanic secondary, principles | S23: =IF(EQUAT!E26=0, "",EQUAT!E26) | T23: =IF(EQUAT!F26=0, "",EQUAT!F26)
A24: =ST1C!AJ14 -> chemical bonding proteins | B24: =ST1C!AL14 -> 5 | C24: =ST1C!AM14 -> 0 | D24: =ST1C!AN14 -> 0 | N24: =EQUAT!A27 -> 21 | O24: =EQUAT!B27 -> A | P24: ='Class Results'!C26 -> 0 | Q24: =IF(P24=O24,1,0) -> 0 | R24: =IF(EQUAT!D27=0, "",EQUAT!D27) -> Le Chatelier principle | S24: =IF(EQUAT!E27=0, "",EQUAT!E27) -> calc delta H from chemical equations | T24: =IF(EQUAT!F27=0, "",EQUAT!F27)
A25: =ST1C!AJ15 -> DNA | B25: =ST1C!AL15 -> 8 | C25: =ST1C!AM15 -> 0 | D25: =ST1C!AN15 -> 0 | N25: =EQUAT!A28 -> 22 | O25: =EQUAT!B28 -> D | P25: ='Class Results'!C27 -> 0 | Q25: =IF(P25=O25,1,0) -> 0 | R25: =IF(EQUAT!D28=0, "",EQUAT!D28) -> Equilibrium law | S25: =IF(EQUAT!E28=0, "",EQUAT!E28) -> calculations | T25: =IF(EQUAT!F28=0, "",EQUAT!F28)
A26: =ST1C!AJ16 -> organic reaction pathways | B26: =ST1C!AL16 -> 10 | C26: =ST1C!AM16 -> 0 | D26: =ST1C!AN16 -> 0 | N26: =EQUAT!A29 -> 23 | O26: =EQUAT!B29 -> B | P26: ='Class Results'!C28 -> 0 | Q26: =IF(P26=O26,1,0) -> 0 | R26: =IF(EQUAT!D29=0, "",EQUAT!D29) -> electrochemical series | S26: =IF(EQUAT!E29=0, "",EQUAT!E29) -> data book | T26: =IF(EQUAT!F29=0, "",EQUAT!F29)
... A28: =ST1C!AJ18 -> medicine synthesis | B28: =ST1C!AL18 -> 1 | C28: =ST1C!AM18 -> 0 | D28: =ST1C!AN18 -> 0 | N28: =EQUAT!A31 -> 25 | O28: =EQUAT!B31 -> B | P28: ='Class Results'!C30 -> 0 | Q28: =IF(P28=O28,1,0) -> 0 | R28: =IF(EQUAT!D31=0, "",EQUAT!D31) -> acid-base titrations | S28: =IF(EQUAT!E31=0, "",EQUAT!E31) -> molecular ion peak | T28: =IF(EQUAT!F31=0, "",EQUAT!F31) -> calculations
N29: =EQUAT!A32 -> 26 | O29: =EQUAT!B32 -> C | P29: ='Class Results'!C31 -> 0 | Q29: =IF(P29=O29,1,0) -> 0 | R29: =IF(EQUAT!D32=0, "",EQUAT!D32) -> vol - experimental technique | S29: =IF(EQUAT!E32=0, "",EQUAT!E32) | T29: =IF(EQUAT!F32=0, "",EQUAT!F32)
N30: =EQUAT!A33 -> 27 | O30: =EQUAT!B33 -> B | P30: ='Class Results'!C32 -> 0 | Q30: =IF(P30=O30,1,0) -> 0 | R30: =IF(EQUAT!D33=0, "",EQUAT!D33) -> Le Chatelier principle | S30: =IF(EQUAT!E33=0, "",EQUAT!E33) | T30: =IF(EQUAT!F33=0, "",EQUAT!F33)
N31: =EQUAT!A34 -> 28 | O31: =EQUAT!B34 -> C | P31: ='Class Results'!C33 -> 0 | Q31: =IF(P31=O31,1,0) -> 0 | R31: =IF(EQUAT!D34=0, "",EQUAT!D34) -> amines | S31: =IF(EQUAT!E34=0, "",EQUAT!E34) -> structural formula | T31: =IF(EQUAT!F34=0, "",EQUAT!F34) -> unit conversion
N32: =EQUAT!A35 -> 29 | O32: =EQUAT!B35 -> D | P32: ='Class Results'!C34 -> 0 | Q32: =IF(P32=O32,1,0) -> 0 | R32: =IF(EQUAT!D35=0, "",EQUAT!D35) -> titration curves | S32: =IF(EQUAT!E35=0, "",EQUAT!E35) | T32: =IF(EQUAT!F35=0, "",EQUAT!F35)
N33: =EQUAT!A36 -> 30 | O33: =EQUAT!B36 -> D | P33: ='Class Results'!C35 -> 0 | Q33: =IF(P33=O33,1,0) -> 0 | R33: =IF(EQUAT!D36=0, "",EQUAT!D36) -> grav - experimental technique | S33: =IF(EQUAT!E36=0, "",EQUAT!E36) | T33: =IF(EQUAT!F36=0, "",EQUAT!F36)
O34: Exam Name: | P34: =B3 -> LisaChem 2014 | S34: Name: | T34: =B5 -> Student 1
A35: Exam Name: | B35: =B3 -> LisaChem 2014 | O35: Total | P35: Marks Gained | Q35: Marks Lost
N36: Qu | S36: Key Knowledge Descriptor
A37: Name | B37: =B5 -> Student 1 | N37: =EQUAT!H7 -> 1a | O37: =EQUAT!I7 -> 2 | P37: =ST1C!B34 -> 0 | Q37: =O37-P37 -> 2 | R37: =IF(EQUAT!J7=0," ",EQUAT!J7) -> amino acid | S37: =IF(EQUAT!K7=0," ",EQUAT!K7) -> cond & poly - proteins | T37: =IF(EQUAT!L7=0," ",EQUAT!L7) -> amide
N38: =EQUAT!H8 -> 1b | O38: =EQUAT!I8 -> 1 | P38: =ST1C!B35 -> 0 | Q38: =O38-P38 -> 1 | R38: =IF(EQUAT!J8=0," ",EQUAT!J8) -> TLC | S38: =IF(EQUAT!K8=0," ",EQUAT!K8) -> cond & poly - proteins | T38: =IF(EQUAT!L8=0," ",EQUAT!L8) -> amide
B39: Value | C39: Gained | D39: % | N39: =EQUAT!H9 -> 1c | O39: =EQUAT!I9 -> 2 | P39: =ST1C!B36 -> 0 | Q39: =O39-P39 -> 2 | R39: =IF(EQUAT!J9=0," ",EQUAT!J9) -> structural formula | S39: =IF(EQUAT!K9=0," ",EQUAT!K9) -> cond & poly - proteins | T39: =IF(EQUAT!L9=0," ",EQUAT!L9) -> amide
A40: Unit 4 AOS 1 | B40: =ST1C!AL20 -> 32 | C40: =ST1C!AM20 -> 0 | D40: =ST1C!AN20 -> 0 | N40: =EQUAT!H10 -> 1d | O40: =EQUAT!I10 -> 2 | P40: =ST1C!B37 -> 0 | Q40: =O40-P40 -> 2 | R40: =IF(EQUAT!J10=0," ",EQUAT!J10) -> amino acid | S40: =IF(EQUAT!K10=0," ",EQUAT!K10) -> properties of organic compounds | T40: =IF(EQUAT!L10=0," ",EQUAT!L10)
A41: Unit 4 AOS 2 | B41: =ST1C!AL21 -> 58 | C41: =ST1C!AM21 -> 0 | D41: =ST1C!AN21 -> 0 | N41: =EQUAT!H11 -> 1e | O41: =EQUAT!I11 -> 3 | P41: =ST1C!B38 -> 0 | Q41: =O41-P41 -> 3 | R41: =IF(EQUAT!J11=0," ",EQUAT!J11) -> TLC | S41: =IF(EQUAT!K11=0," ",EQUAT!K11) -> chromatographic techniques | T41: =IF(EQUAT!L11=0," ",EQUAT!L11)
N42: =EQUAT!H12 -> 1f | O42: =EQUAT!I12 -> 6 | P42: =ST1C!B39 -> 0 | Q42: =O42-P42 -> 6 | R42: =IF(EQUAT!J12=0," ",EQUAT!J12) -> protein- primary, secondary, tertiary structure | S42: =IF(EQUAT!K12=0," ",EQUAT!K12) -> DNA primary structure | T42: =IF(EQUAT!L12=0," ",EQUAT!L12) -> DNA secondary structure
N43: =EQUAT!H13 -> 2ai | O43: =EQUAT!I13 -> 2 | P43: =ST1C!B40 -> 0 | Q43: =O43-P43 -> 2 | R43: =IF(EQUAT!J13=0," ",EQUAT!J13) -> unit conversion | S43: =IF(EQUAT!K13=0," ",EQUAT!K13) | T43: =IF(EQUAT!L13=0," ",EQUAT!L13)
B44: Unit 4 | N44: =EQUAT!H14 -> 2aii | O44: =EQUAT!I14 -> 1 | P44: =ST1C!B41 -> 0 | Q44: =O44-P44 -> 1 | R44: =IF(EQUAT!J14=0," ",EQUAT!J14) -> concentration | S44: =IF(EQUAT!K14=0," ",EQUAT!K14) | T44: =IF(EQUAT!L14=0," ",EQUAT!L14)
A45: =ST1C!AJ22 -> Rates of reaction | B45: =ST1C!AL22 -> 5 | C45: =ST1C!AM22 -> 0 | D45: =ST1C!AN22 -> 0 | N45: =EQUAT!H15 -> 2b | O45: =EQUAT!I15 -> 2 | P45: =ST1C!B42 -> 0 | Q45: =O45-P45 -> 2 | R45: =IF(EQUAT!J15=0," ",EQUAT!J15) -> Key Skills | S45: =IF(EQUAT!K15=0," ",EQUAT!K15) | T45: =IF(EQUAT!L15=0," ",EQUAT!L15)
A46: =ST1C!AJ23 -> Energy of reactions | B46: =ST1C!AL23 -> 12 | C46: =ST1C!AM23 -> 0 | D46: =ST1C!AN23 -> 0 | N46: =EQUAT!H16 -> 2c | O46: =EQUAT!I16 -> 1 | P46: =ST1C!B43 -> 0 | Q46: =O46-P46 -> 1 | R46: =IF(EQUAT!J16=0," ",EQUAT!J16) -> HNMR | S46: =IF(EQUAT!K16=0," ",EQUAT!K16) | T46: =IF(EQUAT!L16=0," ",EQUAT!L16)
A47: =ST1C!AJ24 -> Equilibrium | B47: =ST1C!AL24 -> 15 | C47: =ST1C!AM24 -> 0 | D47: =ST1C!AN24 -> 0 | N47: =EQUAT!H17 -> 2di | O47: =EQUAT!I17 -> 1 | P47: =ST1C!B44 -> 0 | Q47: =O47-P47 -> 1 | R47: =IF(EQUAT!J17=0," ",EQUAT!J17) -> oxidation primary alkanols | S47: =IF(EQUAT!K17=0," ",EQUAT!K17) -> structural formula | T47: =IF(EQUAT!L17=0," ",EQUAT!L17)
A48: =ST1C!AJ25 -> Application of equil & rates | B48: =ST1C!AL25 -> 0 | C48: =ST1C!AM25 -> 0 | D48: =ST1C!AN25 -> -2 | N48: =EQUAT!H18 -> 2dii | O48: =EQUAT!I18 -> 1 | P48: =ST1C!B45 -> 0 | Q48: =O48-P48 -> 1 | R48: =IF(EQUAT!J18=0," ",EQUAT!J18) -> redox equations | S48: =IF(EQUAT!K18=0," ",EQUAT!K18) | T48: =IF(EQUAT!L18=0," ",EQUAT!L18)
A49: =ST1C!AJ26 -> Energy sources renewability | B49: =ST1C!AL26 -> 8 | C49: =ST1C!AM26 -> 0 | D49: =ST1C!AN26 -> 0 | N49: =EQUAT!H19 -> 2ei | O49: =EQUAT!I19 -> 5 | P49: =ST1C!B46 -> 0 | Q49: =O49-P49 -> 5 | R49: =IF(EQUAT!J19=0," ",EQUAT!J19) -> Calorimetry | S49: =IF(EQUAT!K19=0," ",EQUAT!K19) -> unit conversion | T49: =IF(EQUAT!L19=0," ",EQUAT!L19) -> Energy sources - renewability
A50: =ST1C!AJ27 -> Calorimetry | B50: =ST1C!AL27 -> 18 | C50: =ST1C!AM27 -> 0 | D50: =ST1C!AN27 -> 0 | N50: =EQUAT!H20 -> 2eii | O50: =EQUAT!I20 -> 2 | P50: =ST1C!B47 -> 0 | Q50: =O50-P50 -> 2 | R50: =IF(EQUAT!J20=0," ",EQUAT!J20) -> Energy sources - renewability | S50: =IF(EQUAT!K20=0," ",EQUAT!K20) | T50: =IF(EQUAT!L20=0," ",EQUAT!L20)
A51: =ST1C!AJ28 -> Electrochemical Series | B51: =ST1C!AL28 -> 17 | C51: =ST1C!AM28 -> 0 | D51: =ST1C!AN28 -> 0 | N51: =EQUAT!H21 -> 2eiii | O51: =EQUAT!I21 -> 1 | P51: =ST1C!B48 -> 0 | Q51: =O51-P51 -> 1 | R51: =IF(EQUAT!J21=0," ",EQUAT!J21) -> protein- primary, secondary, tertiary structure | S51: =IF(EQUAT!K21=0," ",EQUAT!K21) -> amino acid | T51: =IF(EQUAT!L21=0," ",EQUAT!L21)
A52: =ST1C!AJ29 -> Galvanic Cells | B52: =ST1C!AL29 -> 4 | C52: =ST1C!AM29 -> 0 | D52: =ST1C!AN29 -> 0 | N52: =EQUAT!H22 -> 3ai | O52: =EQUAT!I22 -> 1 | P52: =ST1C!B49 -> 0 | Q52: =O52-P52 -> 1 | R52: =IF(EQUAT!J22=0," ",EQUAT!J22) -> chemical principles electrolytic cell | S52: =IF(EQUAT!K22=0," ",EQUAT!K22) | T52: =IF(EQUAT!L22=0," ",EQUAT!L22)
A53: =ST1C!AJ30 -> Fuel Cells | B53: =ST1C!AL30 -> 2 | C53: =ST1C!AM30 -> 0 | D53: =ST1C!AN30 -> 0 | N53: =EQUAT!H23 -> 3aii | O53: =EQUAT!I23 -> 2 | P53: =ST1C!B50 -> 0 | Q53: =O53-P53 -> 2 | R53: =IF(EQUAT!J23=0," ",EQUAT!J23) -> molten vs aqueous electrolytic cell | S53: =IF(EQUAT!K23=0," ",EQUAT!K23) -> electrochemical series | T53: =IF(EQUAT!L23=0," ",EQUAT!L23) -> data book
A54: =ST1C!AJ31 -> Electrolytic Cells | B54: =ST1C!AL31 -> 6 | C54: =ST1C!AM31 -> 0 | D54: =ST1C!AN31 -> 0 | N54: =EQUAT!H24 -> 3bi | O54: =EQUAT!I24 -> 3 | P54: =ST1C!B51 -> 0 | Q54: =O54-P54 -> 3 | R54: =IF(EQUAT!J24=0," ",EQUAT!J24) -> Faradays laws | S54: =IF(EQUAT!K24=0," ",EQUAT!K24) | T54: =IF(EQUAT!L24=0," ",EQUAT!L24)
A55: =ST1C!AJ32 -> Faradays Laws | B55: =ST1C!AL32 -> 3 | C55: =ST1C!AM32 -> 0 | D55: =ST1C!AN32 -> 0 | N55: =EQUAT!H25 -> 3bii | O55: =EQUAT!I25 -> 1 | P55: =ST1C!B52 -> 0 | Q55: =O55-P55 -> 1 | R55: =IF(EQUAT!J25=0," ",EQUAT!J25) -> chemical principles electrolytic cell | S55: =IF(EQUAT!K25=0," ",EQUAT!K25) -> electrochemical series | T55: =IF(EQUAT!L25=0," ",EQUAT!L25) -> data book
A56: =ST1C!AJ33 -> Key Skills | B56: =ST1C!AL33 -> 10 | C56: =ST1C!AM33 -> 0 | D56: =ST1C!AN33 -> 0 | N56: =EQUAT!H26 -> 3c | O56: =EQUAT!I26 -> 2 | P56: =ST1C!B53 -> 0 | Q56: =O56-P56 -> 2 | R56: =IF(EQUAT!J26=0," ",EQUAT!J26) -> molten vs aqueous electrolytic cell | S56: =IF(EQUAT!K26=0," ",EQUAT!K26) -> electrochemical series | T56: =IF(EQUAT!L26=0," ",EQUAT!L26) -> data book
N57: =EQUAT!H27 -> 4a | O57: =EQUAT!I27 -> 1 | P57: =ST1C!B54 -> 0 | Q57: =O57-P57 -> 1 | R57: =IF(EQUAT!J27=0," ",EQUAT!J27) -> Energy of reactions | S57: =IF(EQUAT!K27=0," ",EQUAT!K27) | T57: =IF(EQUAT!L27=0," ",EQUAT!L27)
N58: =EQUAT!H28 -> 4b | O58: =EQUAT!I28 -> 6 | P58: =ST1C!B55 -> 0 | Q58: =O58-P58 -> 6 | R58: =IF(EQUAT!J28=0," ",EQUAT!J28) -> Energy of reactions | S58: =IF(EQUAT!K28=0," ",EQUAT!K28) | T58: =IF(EQUAT!L28=0," ",EQUAT!L28)
N59: =EQUAT!H29 -> 4ci | O59: =EQUAT!I29 -> 1 | P59: =ST1C!B56 -> 0 | Q59: =O59-P59 -> 1 | R59: =IF(EQUAT!J29=0," ",EQUAT!J29) -> chemical equations | S59: =IF(EQUAT!K29=0," ",EQUAT!K29) | T59: =IF(EQUAT!L29=0," ",EQUAT!L29)
N60: =EQUAT!H30 -> 4cii | O60: =EQUAT!I30 -> 2 | P60: =ST1C!B57 -> 0 | Q60: =O60-P60 -> 2 | R60: =IF(EQUAT!J30=0," ",EQUAT!J30) -> collision theory | S60: =IF(EQUAT!K30=0," ",EQUAT!K30) | T60: =IF(EQUAT!L30=0," ",EQUAT!L30)
N61: =EQUAT!H31 -> 5a | O61: =EQUAT!I31 -> 1 | P61: =ST1C!B58 -> 0 | Q61: =O61-P61 -> 1 | R61: =IF(EQUAT!J31=0," ",EQUAT!J31) -> chemical equations | S61: =IF(EQUAT!K31=0," ",EQUAT!K31) | T61: =IF(EQUAT!L31=0," ",EQUAT!L31)
N62: =EQUAT!H32 -> 5bi | O62: =EQUAT!I32 -> 1 | P62: =ST1C!B59 -> 0 | Q62: =O62-P62 -> 1 | R62: =IF(EQUAT!J32=0," ",EQUAT!J32) -> Equilibrium law | S62: =IF(EQUAT!K32=0," ",EQUAT!K32) | T62: =IF(EQUAT!L32=0," ",EQUAT!L32)
N63: =EQUAT!H33 -> 5bii | O63: =EQUAT!I33 -> 3 | P63: =ST1C!B60 -> 0 | Q63: =O63-P63 -> 3 | R63: =IF(EQUAT!J33=0," ",EQUAT!J33) -> pH | S63: =IF(EQUAT!K33=0," ",EQUAT!K33) -> Ka weak acids | T63: =IF(EQUAT!L33=0," ",EQUAT!L33) -> calculations
N64: =EQUAT!H34 -> 5ci | O64: =EQUAT!I34 -> 3 | P64: =ST1C!B61 -> 0 | Q64: =O64-P64 -> 3 | R64: =IF(EQUAT!J34=0," ",EQUAT!J34) -> bomb calorimetry | S64: =IF(EQUAT!K34=0," ",EQUAT!K34) -> calibration calorimetry | T64: =IF(EQUAT!L34=0," ",EQUAT!L34) -> calculations
N65: =EQUAT!H35 -> 5cii | O65: =EQUAT!I35 -> 2 | P65: =ST1C!B62 -> 0 | Q65: =O65-P65 -> 2 | R65: =IF(EQUAT!J35=0," ",EQUAT!J35) -> bomb calorimetry | S65: =IF(EQUAT!K35=0," ",EQUAT!K35) -> calibration calorimetry | T65: =IF(EQUAT!L35=0," ",EQUAT!L35)
N66: =EQUAT!H36 -> 5di | O66: =EQUAT!I36 -> 3 | P66: =ST1C!B63 -> 0 | Q66: =O66-P66 -> 3 | R66: =IF(EQUAT!J36=0," ",EQUAT!J36) -> Calorimetry | S66: =IF(EQUAT!K36=0," ",EQUAT!K36) | T66: =IF(EQUAT!L36=0," ",EQUAT!L36)
O68: Exam Name: | P68: =B3 -> LisaChem 2014 | S68: Name: | T68: =B5 -> Student 1
O69: Total | P69: Marks Gained | Q69: Marks Lost
N70: Qu | S70: Key Knowledge Descriptor
N71: =EQUAT!H37 -> 5dii | O71: =EQUAT!I37 -> 1 | P71: =ST1C!B64 -> 0 | Q71: =O71-P71 -> 1 | R71: =IF(EQUAT!J37=0," ",EQUAT!J37) -> Calorimetry | S71: =IF(EQUAT!K37=0," ",EQUAT!K37) -> excess and limiting reagents | T71: =IF(EQUAT!L37=0," ",EQUAT!L37)
N72: =EQUAT!H38 -> 6a | O72: =EQUAT!I38 -> 1 | P72: =ST1C!B65 -> 0 | Q72: =O72-P72 -> 1 | R72: =IF(EQUAT!J38=0," ",EQUAT!J38) -> chemical equations | S72: =IF(EQUAT!K38=0," ",EQUAT!K38) -> organic reaction pathways | T72: =IF(EQUAT!L38=0," ",EQUAT!L38)
N73: =EQUAT!H39 -> 6b | O73: =EQUAT!I39 -> 2 | P73: =ST1C!B66 -> 0 | Q73: =O73-P73 -> 2 | R73: =IF(EQUAT!J39=0," ",EQUAT!J39) -> calc delta H from chemical equations | S73: =IF(EQUAT!K39=0," ",EQUAT!K39) -> calculations | T73: =IF(EQUAT!L39=0," ",EQUAT!L39)
N74: =EQUAT!H40 -> 6c | O74: =EQUAT!I40 -> 4 | P74: =ST1C!B67 -> 0 | Q74: =O74-P74 -> 4 | R74: =IF(EQUAT!J40=0," ",EQUAT!J40) -> volume, temperature, pressure of gases | S74: =IF(EQUAT!K40=0," ",EQUAT!K40) | T74: =IF(EQUAT!L40=0," ",EQUAT!L40)
N75: =EQUAT!H41 -> 6d | O75: =EQUAT!I41 -> 3 | P75: =ST1C!B68 -> 0 | Q75: =O75-P75 -> 3 | R75: =IF(EQUAT!J41=0," ",EQUAT!J41) -> Le Chatelier principle | S75: =IF(EQUAT!K41=0," ",EQUAT!K41) | T75: =IF(EQUAT!L41=0," ",EQUAT!L41)
N76: =EQUAT!H42 -> 6e | O76: =EQUAT!I42 -> 3 | P76: =ST1C!B69 -> 0 | Q76: =O76-P76 -> 3 | R76: =IF(EQUAT!J42=0," ",EQUAT!J42) -> collision theory | S76: =IF(EQUAT!K42=0," ",EQUAT!K42) | T76: =IF(EQUAT!L42=0," ",EQUAT!L42)
N77: =EQUAT!H43 -> 6fi | O77: =EQUAT!I43 -> 6 | P77: =ST1C!B70 -> 0 | Q77: =O77-P77 -> 6 | R77: =IF(EQUAT!J43=0," ",EQUAT!J43) -> IR | S77: =IF(EQUAT!K43=0," ",EQUAT!K43) -> HNMR | T77: =IF(EQUAT!L43=0," ",EQUAT!L43) -> semi-structural formula
N78: =EQUAT!H44 -> 6fii | O78: =EQUAT!I44 -> 2 | P78: =ST1C!B71 -> 0 | Q78: =O78-P78 -> 2 | R78: =IF(EQUAT!J44=0," ",EQUAT!J44) -> organic reaction pathways | S78: =IF(EQUAT!K44=0," ",EQUAT!K44) | T78: =IF(EQUAT!L44=0," ",EQUAT!L44)
N79: =EQUAT!H45 -> 6gi | O79: =EQUAT!I45 -> 1 | P79: =ST1C!B72 -> 0 | Q79: =O79-P79 -> 1 | R79: =IF(EQUAT!J45=0," ",EQUAT!J45) -> chemical equations | S79: =IF(EQUAT!K45=0," ",EQUAT!K45) -> ethanol production | T79: =IF(EQUAT!L45=0," ",EQUAT!L45)
N80: =EQUAT!H46 -> 6gii | O80: =EQUAT!I46 -> 3 | P80: =ST1C!B73 -> 0 | Q80: =O80-P80 -> 3 | R80: =IF(EQUAT!J46=0," ",EQUAT!J46) -> properties of organic compounds | S80: =IF(EQUAT!K46=0," ",EQUAT!K46) -> ethanol production | T80: =IF(EQUAT!L46=0," ",EQUAT!L46)
N81: =EQUAT!H47 -> 6giii | O81: =EQUAT!I47 -> 1 | P81: =ST1C!B74 -> 0 | Q81: =O81-P81 -> 1 | R81: =IF(EQUAT!J47=0," ",EQUAT!J47) -> chemical equations | S81: =IF(EQUAT!K47=0," ",EQUAT!K47) -> ethanol production | T81: =IF(EQUAT!L47=0," ",EQUAT!L47)
N82: =EQUAT!H48 -> 6hi | O82: =EQUAT!I48 -> 1 | P82: =ST1C!B75 -> 0 | Q82: =O82-P82 -> 1 | R82: =IF(EQUAT!J48=0," ",EQUAT!J48) -> chemical principles fuel cell | S82: =IF(EQUAT!K48=0," ",EQUAT!K48) | T82: =IF(EQUAT!L48=0," ",EQUAT!L48)
... N95: =EQUAT!H61 -> 0 | O95: =EQUAT!I61 -> 0 | P95: =ST1C!B88 -> 0 | Q95: =O95-P95 -> 0 | R95: =IF(EQUAT!J61=0," ",EQUAT!J61) | S95: =IF(EQUAT!K61=0," ",EQUAT!K61) | T95: =IF(EQUAT!L61=0," ",EQUAT!L61)
N96: Total | O96: =SUM(O37:O95) -> 112 | P96: =SUM(P37:P95) -> 0 | Q96: =SUM(Q37:Q95) -> 112 | S96: =IF(EQUAT!K61=0," ",EQUAT!K61) | T96: =IF(EQUAT!L61=0," ",EQUAT!L61)

Sheet ST2
A1: Student Summary | O1: Exam Name: | P1: =B3 -> LisaChem 2014 | S1: Name: | T1: =B5 -> Student 2
O2: Exam Solution | P2: Student Ans | Q2: Marks Gained | R2: Total Marks Gained MC: | S2: =SUM(Q4:Q33) -> 0
A3: Exam Name: | B3: =EQUAT!C3 -> LisaChem 2014 | H3: Total | I3: Achievement | J3: % | N3: Qu | R3: Key Knowledge Descriptor
G4: Multiple Choice | H4: =ST2C!AK38 -> 30 | I4: =ST2C!AL38 -> 0 | J4: =ST2C!AM38 -> 0 | N4: =EQUAT!A7 -> 1 | O4: =EQUAT!B7 -> D | P4: ='Class Results'!D6 -> 0 | Q4: =IF(P4=O4,1,0) -> 0 | R4: =IF(EQUAT!D7=0, "",EQUAT!D7) -> amino acid | S4: =IF(EQUAT!E7=0, "",EQUAT!E7) -> systematic name | T4: =IF(EQUAT!F7=0, "",EQUAT!F7)
A5: Name | B5: ='Class Results'!D4 -> Student 2 | G5: Short Answer | H5: =ST2C!AK39 -> 112 | I5: =ST2C!AL39 -> 0 | J5: =ST2C!AM39 -> 0 | N5: =EQUAT!A8 -> 2 | O5: =EQUAT!B8 -> A | P5: ='Class Results'!D7 -> 0 | Q5: =IF(P5=O5,1,0) -> 0 | R5: =IF(EQUAT!D8=0, "",EQUAT!D8) -> calc delta H from chemical equations | S5: =IF(EQUAT!E8=0, "",EQUAT!E8) -> calculations | T5: =IF(EQUAT!F8=0, "",EQUAT!F8)
G6: Overall | H6: =SUM(H4:H5) -> 142 | I6: =SUM(I4:I5) -> 0 | J6: =(I6/H6)*100 -> 0 | N6: =EQUAT!A9 -> 3 | O6: =EQUAT!B9 -> B | P6: ='Class Results'!D8 -> 0 | Q6: =IF(P6=O6,1,0) -> 0 | R6: =IF(EQUAT!D9=0, "",EQUAT!D9) -> esters from alkenes | S6: =IF(EQUAT!E9=0, "",EQUAT!E9) | T6: =IF(EQUAT!F9=0, "",EQUAT!F9)
N7: =EQUAT!A10 -> 4 | O7: =EQUAT!B10 -> C | P7: ='Class Results'!D9 -> 0 | Q7: =IF(P7=O7,1,0) -> 0 | R7: =IF(EQUAT!D10=0, "",EQUAT!D10) -> calculations | S7: =IF(EQUAT!E10=0, "",EQUAT!E10) | T7: =IF(EQUAT!F10=0, "",EQUAT!F10)
B8: Value | C8: Gained | D8: % | N8: =EQUAT!A11 -> 5 | O8: =EQUAT!B11 -> D | P8: ='Class Results'!D10 -> 0 | Q8: =IF(P8=O8,1,0) -> 0 | R8: =IF(EQUAT!D11=0, "",EQUAT!D11) -> IR | S8: =IF(EQUAT!E11=0, "",EQUAT!E11) -> C13NMR | T8: =IF(EQUAT!F11=0, "",EQUAT!F11) -> calculations
A9: Unit 3 AOS 1 | B9: =ST2C!AL3 -> 73 | C9: =ST2C!AM3 -> 0 | D9: =ST2C!AN3 -> 0 | N9: =EQUAT!A12 -> 6 | O9: =EQUAT!B12 -> A | P9: ='Class Results'!D11 -> 0 | Q9: =IF(P9=O9,1,0) -> 0 | R9: =IF(EQUAT!D12=0, "",EQUAT!D12) -> redox titrations | S9: =IF(EQUAT!E12=0, "",EQUAT!E12) -> vol - experimental technique | T9: =IF(EQUAT!F12=0, "",EQUAT!F12)
A10: Unit 3 AOS 2 | B10: =ST2C!AL4 -> 75 | C10: =ST2C!AM4 -> 0 | D10: =ST2C!AN4 -> 0 | N10: =EQUAT!A13 -> 7 | O10: =EQUAT!B13 -> C | P10: ='Class Results'!D12 -> 0 | Q10: =IF(P10=O10,1,0) -> 0 | R10: =IF(EQUAT!D13=0, "",EQUAT!D13) -> chemical equations | S10: =IF(EQUAT!E13=0, "",EQUAT!E13) -> calculations | T10: =IF(EQUAT!F13=0, "",EQUAT!F13)
N11: =EQUAT!A14 -> 8 | O11: =EQUAT!B14 -> B | P11: ='Class Results'!D13 -> 0 | Q11: =IF(P11=O11,1,0) -> 0 | R11: =IF(EQUAT!D14=0, "",EQUAT!D14) -> galvanic cells - primary, secondary | S11: =IF(EQUAT!E14=0, "",EQUAT!E14) -> electrochemical series | T11: =IF(EQUAT!F14=0, "",EQUAT!F14) -> data book
N12: =EQUAT!A15 -> 9 | O12: =EQUAT!B15 -> B | P12: ='Class Results'!D14 -> 0 | Q12: =IF(P12=O12,1,0) -> 0 | R12: =IF(EQUAT!D15=0, "",EQUAT!D15) -> vol - experimental technique | S12: =IF(EQUAT!E15=0, "",EQUAT!E15) | T12: =IF(EQUAT!F15=0, "",EQUAT!F15)
N13: =EQUAT!A16 -> 10 | O13: =EQUAT!B16 -> B | P13: ='Class Results'!D15 -> 0 | Q13: =IF(P13=O13,1,0) -> 0 | R13: =IF(EQUAT!D16=0, "",EQUAT!D16) -> GC | S13: =IF(EQUAT!E16=0, "",EQUAT!E16) -> mass spectrometry | T13: =IF(EQUAT!F16=0, "",EQUAT!F16) -> alkanols
B14: Unit 3 | N14: =EQUAT!A17 -> 11 | O14: =EQUAT!B17 -> B | P14: ='Class Results'!D16 -> 0 | Q14: =IF(P14=O14,1,0) -> 0 | R14: =IF(EQUAT!D17=0, "",EQUAT!D17) -> calibration graph AAS or UV | S14: =IF(EQUAT!E17=0, "",EQUAT!E17) -> unit conversion | T14: =IF(EQUAT!F17=0, "",EQUAT!F17)
A15: =ST1C!AJ5 -> volumetric | B15: =ST2C!AL5 -> 8 | C15: =ST2C!AM5 -> 0 | D15: =ST2C!AN5 -> 0 | N15: =EQUAT!A18 -> 12 | O15: =EQUAT!B18 -> B | P15: ='Class Results'!D17 -> 0 | Q15: =IF(P15=O15,1,0) -> 0 | R15: =IF(EQUAT!D18=0, "",EQUAT!D18) -> volume, temperature, pressure of gases | S15: =IF(EQUAT!E18=0, "",EQUAT!E18) | T15: =IF(EQUAT!F18=0, "",EQUAT!F18)
A16: =ST1C!AJ6 -> gravimetric analysis | B16: =ST2C!AL6 -> 1 | C16: =ST2C!AM6 -> 0 | D16: =ST2C!AN6 -> 0 | N16: =EQUAT!A19 -> 13 | O16: =EQUAT!B19 -> A | P16: ='Class Results'!D18 -> 0 | Q16: =IF(P16=O16,1,0) -> 0 | R16: =IF(EQUAT!D19=0, "",EQUAT!D19) -> HNMR | S16: =IF(EQUAT!E19=0, "",EQUAT!E19) -> aspirin | T16: =IF(EQUAT!F19=0, "",EQUAT!F19)
A17: =ST1C!AJ7 -> calculations | B17: =ST2C!AL7 -> 29 | C17: =ST2C!AM7 -> 0 | D17: =ST2C!AN7 -> 0 | N17: =EQUAT!A20 -> 14 | O17: =EQUAT!B20 -> B | P17: ='Class Results'!D19 -> 0 | Q17: =IF(P17=O17,1,0) -> 0 | R17: =IF(EQUAT!D20=0, "",EQUAT!D20) -> titration curves | S17: =IF(EQUAT!E20=0, "",EQUAT!E20) -> calculations | T17: =IF(EQUAT!F20=0, "",EQUAT!F20)
A18: =ST1C!AJ8 -> chemical equations | B18: =ST2C!AL8 -> 10 | C18: =ST2C!AM8 -> 0 | D18: =ST2C!AN8 -> 0 | N18: =EQUAT!A21 -> 15 | O18: =EQUAT!B21 -> D | P18: ='Class Results'!D20 -> 0 | Q18: =IF(P18=O18,1,0) -> 0 | R18: =IF(EQUAT!D21=0, "",EQUAT!D21) -> organic reaction pathways | S18: =IF(EQUAT!E21=0, "",EQUAT!E21) -> esterification | T18: =IF(EQUAT!F21=0, "",EQUAT!F21)
A19: =ST1C!AJ9 -> chromatographic techniques | B19: =ST2C!AL9 -> 8 | C19: =ST2C!AM9 -> 0 | D19: =ST2C!AN9 -> 0 | N19: =EQUAT!A22 -> 16 | O19: =EQUAT!B22 -> A | P19: ='Class Results'!D21 -> 0 | Q19: =IF(P19=O19,1,0) -> 0 | R19: =IF(EQUAT!D22=0, "",EQUAT!D22) -> matching analytical technique | S19: =IF(EQUAT!E22=0, "",EQUAT!E22) -> AAS | T19: =IF(EQUAT!F22=0, "",EQUAT!F22)
A20: =ST1C!AJ10 -> spectroscopic techniques | B20: =ST2C!AL10 -> 16 | C20: =ST2C!AM10 -> 0 | D20: =ST2C!AN10 -> 0 | N20: =EQUAT!A23 -> 17 | O20: =EQUAT!B23 -> D | P20: ='Class Results'!D22 -> 0 | Q20: =IF(P20=O20,1,0) -> 0 | R20: =IF(EQUAT!D23=0, "",EQUAT!D23) -> galvanic primary, half & overall equations | S20: =IF(EQUAT!E23=0, "",EQUAT!E23) -> electrochemical series | T20: =IF(EQUAT!F23=0, "",EQUAT!F23) -> data book
A21: =ST1C!AJ11 -> matching analytical techniques | B21: =ST2C!AL11 -> 1 | C21: =ST2C!AM11 -> 0 | D21: =ST2C!AN11 -> 0 | N21: =EQUAT!A24 -> 18 | O21: =EQUAT!B24 -> B | P21: ='Class Results'!D23 -> 0 | Q21: =IF(P21=O21,1,0) -> 0 | R21: =IF(EQUAT!D24=0, "",EQUAT!D24) -> Ka weak acids | S21: =IF(EQUAT!E24=0, "",EQUAT!E24) -> Le Chatelier principle | T21: =IF(EQUAT!F24=0, "",EQUAT!F24)
A22: =ST1C!AJ12 -> organic structures | B22: =ST2C!AL12 -> 33 | C22: =ST2C!AM12 -> 0 | D22: =ST2C!AN12 -> 0 | N22: =EQUAT!A25 -> 19 | O22: =EQUAT!B25 -> C | P22: ='Class Results'!D24 -> 0 | Q22: =IF(P22=O22,1,0) -> 0 | R22: =IF(EQUAT!D25=0, "",EQUAT!D25) -> galcanic secondary, half & overall equations | S22: =IF(EQUAT!E25=0, "",EQUAT!E25) | T22: =IF(EQUAT!F25=0, "",EQUAT!F25)
A23: =ST1C!AJ13 -> common organic reactions | B23: =ST2C!AL13 -> 7 | C23: =ST2C!AM13 -> 0 | D23: =ST2C!AN13 -> 0 | N23: =EQUAT!A26 -> 20 | O23: =EQUAT!B26 -> D | P23: ='Class Results'!D25 -> 0 | Q23: =IF(P23=O23,1,0) -> 0 | R23: =IF(EQUAT!D26=0, "",EQUAT!D26) -> galvanic secondary, principles | S23: =IF(EQUAT!E26=0, "",EQUAT!E26) | T23: =IF(EQUAT!F26=0, "",EQUAT!F26)
A24: =ST1C!AJ14 -> chemical bonding proteins | B24: =ST2C!AL14 -> 5 | C24: =ST2C!AM14 -> 0 | D24: =ST2C!AN14 -> 0 | N24: =EQUAT!A27 -> 21 | O24: =EQUAT!B27 -> A | P24: ='Class Results'!D26 -> 0 | Q24: =IF(P24=O24,1,0) -> 0 | R24: =IF(EQUAT!D27=0, "",EQUAT!D27) -> Le Chatelier principle | S24: =IF(EQUAT!E27=0, "",EQUAT!E27) -> calc delta H from chemical equations | T24: =IF(EQUAT!F27=0, "",EQUAT!F27)
A25: =ST1C!AJ15 -> DNA | B25: =ST2C!AL15 -> 8 | C25: =ST2C!AM15 -> 0 | D25: =ST2C!AN15 -> 0 | N25: =EQUAT!A28 -> 22 | O25: =EQUAT!B28 -> D | P25: ='Class Results'!D27 -> 0 | Q25: =IF(P25=O25,1,0) -> 0 | R25: =IF(EQUAT!D28=0, "",EQUAT!D28) -> Equilibrium law | S25: =IF(EQUAT!E28=0, "",EQUAT!E28) -> calculations | T25: =IF(EQUAT!F28=0, "",EQUAT!F28)
A26: =ST1C!AJ16 -> organic reaction pathways | B26: =ST2C!AL16 -> 10 | C26: =ST2C!AM16 -> 0 | D26: =ST2C!AN16 -> 0 | N26: =EQUAT!A29 -> 23 | O26: =EQUAT!B29 -> B | P26: ='Class Results'!D28 -> 0 | Q26: =IF(P26=O26,1,0) -> 0 | R26: =IF(EQUAT!D29=0, "",EQUAT!D29) -> electrochemical series | S26: =IF(EQUAT!E29=0, "",EQUAT!E29) -> data book | T26: =IF(EQUAT!F29=0, "",EQUAT!F29)
... A28: =ST1C!AJ18 -> medicine synthesis | B28: =ST2C!AL18 -> 1 | C28: =ST2C!AM18 -> 0 | D28: =ST2C!AN18 -> 0 | N28: =EQUAT!A31 -> 25 | O28: =EQUAT!B31 -> B | P28: ='Class Results'!D30 -> 0 | Q28: =IF(P28=O28,1,0) -> 0 | R28: =IF(EQUAT!D31=0, "",EQUAT!D31) -> acid-base titrations | S28: =IF(EQUAT!E31=0, "",EQUAT!E31) -> molecular ion peak | T28: =IF(EQUAT!F31=0, "",EQUAT!F31) -> calculations
N29: =EQUAT!A32 -> 26 | O29: =EQUAT!B32 -> C | P29: ='Class Results'!D31 -> 0 | Q29: =IF(P29=O29,1,0) -> 0 | R29: =IF(EQUAT!D32=0, "",EQUAT!D32) -> vol - experimental technique | S29: =IF(EQUAT!E32=0, "",EQUAT!E32) | T29: =IF(EQUAT!F32=0, "",EQUAT!F32)
N30: =EQUAT!A33 -> 27 | O30: =EQUAT!B33 -> B | P30: ='Class Results'!D32 -> 0 | Q30: =IF(P30=O30,1,0) -> 0 | R30: =IF(EQUAT!D33=0, "",EQUAT!D33) -> Le Chatelier principle | S30: =IF(EQUAT!E33=0, "",EQUAT!E33) | T30: =IF(EQUAT!F33=0, "",EQUAT!F33)
N31: =EQUAT!A34 -> 28 | O31: =EQUAT!B34 -> C | P31: ='Class Results'!D33 -> 0 | Q31: =IF(P31=O31,1,0) -> 0 | R31: =IF(EQUAT!D34=0, "",EQUAT!D34) -> amines | S31: =IF(EQUAT!E34=0, "",EQUAT!E34) -> structural formula | T31: =IF(EQUAT!F34=0, "",EQUAT!F34) -> unit conversion
N32: =EQUAT!A35 -> 29 | O32: =EQUAT!B35 -> D | P32: ='Class Results'!D34 -> 0 | Q32: =IF(P32=O32,1,0) -> 0 | R32: =IF(EQUAT!D35=0, "",EQUAT!D35) -> titration curves | S32: =IF(EQUAT!E35=0, "",EQUAT!E35) | T32: =IF(EQUAT!F35=0, "",EQUAT!F35)
N33: =EQUAT!A36 -> 30 | O33: =EQUAT!B36 -> D | P33: ='Class Results'!D35 -> 0 | Q33: =IF(P33=O33,1,0) -> 0 | R33: =IF(EQUAT!D36=0, "",EQUAT!D36) -> grav - experimental technique | S33: =IF(EQUAT!E36=0, "",EQUAT!E36) | T33: =IF(EQUAT!F36=0, "",EQUAT!F36)
O34: Exam Name: | P34: =B3 -> LisaChem 2014 | S34: Name: | T34: =B5 -> Student 2
A35: Exam Name: | B35: =B3 -> LisaChem 2014 | O35: Total Marks | P35: Marks Gained | Q35: Marks Lost
N36: Qu | S36: Key Knowledge Descriptor
A37: Name | B37: =B5 -> Student 2 | N37: =EQUAT!H7 -> 1a | O37: =EQUAT!I7 -> 2 | P37: =ST2C!B34 -> 0 | Q37: =O37-P37 -> 2 | R37: =IF(EQUAT!J7=0," ",EQUAT!J7) -> amino acid | S37: =IF(EQUAT!K7=0," ",EQUAT!K7) -> cond & poly - proteins | T37: =IF(EQUAT!L7=0," ",EQUAT!L7) -> amide
N38: =EQUAT!H8 -> 1b | O38: =EQUAT!I8 -> 1 | P38: =ST2C!B35 -> 0 | Q38: =O38-P38 -> 1 | R38: =IF(EQUAT!J8=0," ",EQUAT!J8) -> TLC | S38: =IF(EQUAT!K8=0," ",EQUAT!K8) -> cond & poly - proteins | T38: =IF(EQUAT!L8=0," ",EQUAT!L8) -> amide
B39: Value | C39: Gained | D39: % | N39: =EQUAT!H9 -> 1c | O39: =EQUAT!I9 -> 2 | P39: =ST2C!B36 -> 0 | Q39: =O39-P39 -> 2 | R39: =IF(EQUAT!J9=0," ",EQUAT!J9) -> structural formula | S39: =IF(EQUAT!K9=0," ",EQUAT!K9) -> cond & poly - proteins | T39: =IF(EQUAT!L9=0," ",EQUAT!L9) -> amide
A40: Unit 4 AOS 1 | B40: =ST2C!AL20 -> 32 | C40: =ST2C!AM20 -> 0 | D40: =ST2C!AN20 -> 0 | N40: =EQUAT!H10 -> 1d | O40: =EQUAT!I10 -> 2 | P40: =ST2C!B37 -> 0 | Q40: =O40-P40 -> 2 | R40: =IF(EQUAT!J10=0," ",EQUAT!J10) -> amino acid | S40: =IF(EQUAT!K10=0," ",EQUAT!K10) -> properties of organic compounds | T40: =IF(EQUAT!L10=0," ",EQUAT!L10)
A41: Unit 4 AOS 2 | B41: =ST2C!AL21 -> 58 | C41: =ST2C!AM21 -> 0 | D41: =ST2C!AN21 -> 0 | N41: =EQUAT!H11 -> 1e | O41: =EQUAT!I11 -> 3 | P41: =ST2C!B38 -> 0 | Q41: =O41-P41 -> 3 | R41: =IF(EQUAT!J11=0," ",EQUAT!J11) -> TLC | S41: =IF(EQUAT!K11=0," ",EQUAT!K11) -> chromatographic techniques | T41: =IF(EQUAT!L11=0," ",EQUAT!L11)
N42: =EQUAT!H12 -> 1f | O42: =EQUAT!I12 -> 6 | P42: =ST2C!B39 -> 0 | Q42: =O42-P42 -> 6 | R42: =IF(EQUAT!J12=0," ",EQUAT!J12) -> protein- primary, secondary, tertiary structure | S42: =IF(EQUAT!K12=0," ",EQUAT!K12) -> DNA primary structure | T42: =IF(EQUAT!L12=0," ",EQUAT!L12) -> DNA secondary structure
N43: =EQUAT!H13 -> 2ai | O43: =EQUAT!I13 -> 2 | P43: =ST2C!B40 -> 0 | Q43: =O43-P43 -> 2 | R43: =IF(EQUAT!J13=0," ",EQUAT!J13) -> unit conversion | S43: =IF(EQUAT!K13=0," ",EQUAT!K13) | T43: =IF(EQUAT!L13=0," ",EQUAT!L13)
B44: Unit 4 | N44: =EQUAT!H14 -> 2aii | O44: =EQUAT!I14 -> 1 | P44: =ST2C!B41 -> 0 | Q44: =O44-P44 -> 1 | R44: =IF(EQUAT!J14=0," ",EQUAT!J14) -> concentration | S44: =IF(EQUAT!K14=0," ",EQUAT!K14) | T44: =IF(EQUAT!L14=0," ",EQUAT!L14)
A45: =ST1C!AJ22 -> Rates of reaction | B45: =ST2C!AL22 -> 5 | C45: =ST2C!AM22 -> 0 | D45: =ST2C!AN22 -> 0 | N45: =EQUAT!H15 -> 2b | O45: =EQUAT!I15 -> 2 | P45: =ST2C!B42 -> 0 | Q45: =O45-P45 -> 2 | R45: =IF(EQUAT!J15=0," ",EQUAT!J15) -> Key Skills | S45: =IF(EQUAT!K15=0," ",EQUAT!K15) | T45: =IF(EQUAT!L15=0," ",EQUAT!L15)
A46: =ST1C!AJ23 -> Energy of reactions | B46: =ST2C!AL23 -> 12 | C46: =ST2C!AM23 -> 0 | D46: =ST2C!AN23 -> 0 | N46: =EQUAT!H16 -> 2c | O46: =EQUAT!I16 -> 1 | P46: =ST2C!B43 -> 0 | Q46: =O46-P46 -> 1 | R46: =IF(EQUAT!J16=0," ",EQUAT!J16) -> HNMR | S46: =IF(EQUAT!K16=0," ",EQUAT!K16) | T46: =IF(EQUAT!L16=0," ",EQUAT!L16)
A47: =ST1C!AJ24 -> Equilibrium | B47: =ST2C!AL24 -> 15 | C47: =ST2C!AM24 -> 0 | D47: =ST2C!AN24 -> 0 | N47: =EQUAT!H17 -> 2di | O47: =EQUAT!I17 -> 1 | P47: =ST2C!B44 -> 0 | Q47: =O47-P47 -> 1 | R47: =IF(EQUAT!J17=0," ",EQUAT!J17) -> oxidation primary alkanols | S47: =IF(EQUAT!K17=0," ",EQUAT!K17) -> structural formula | T47: =IF(EQUAT!L17=0," ",EQUAT!L17)
A48: =ST1C!AJ25 -> Application of equil & rates | B48: =ST2C!AL25 -> 0 | C48: =ST2C!AM25 -> 0 | D48: =ST2C!AN25 -> -2 | N48: =EQUAT!H18 -> 2dii | O48: =EQUAT!I18 -> 1 | P48: =ST2C!B45 -> 0 | Q48: =O48-P48 -> 1 | R48: =IF(EQUAT!J18=0," ",EQUAT!J18) -> redox equations | S48: =IF(EQUAT!K18=0," ",EQUAT!K18) | T48: =IF(EQUAT!L18=0," ",EQUAT!L18)
A49: =ST1C!AJ26 -> Energy sources renewability | B49: =ST2C!AL26 -> 8 | C49: =ST2C!AM26 -> 0 | D49: =ST2C!AN26 -> 0 | N49: =EQUAT!H19 -> 2ei | O49: =EQUAT!I19 -> 5 | P49: =ST2C!B46 -> 0 | Q49: =O49-P49 -> 5 | R49: =IF(EQUAT!J19=0," ",EQUAT!J19) -> Calorimetry | S49: =IF(EQUAT!K19=0," ",EQUAT!K19) -> unit conversion | T49: =IF(EQUAT!L19=0," ",EQUAT!L19) -> Energy sources - renewability
A50: =ST1C!AJ27 -> Calorimetry | B50: =ST2C!AL27 -> 18 | C50: =ST2C!AM27 -> 0 | D50: =ST2C!AN27 -> 0 | N50: =EQUAT!H20 -> 2eii | O50: =EQUAT!I20 -> 2 | P50: =ST2C!B47 -> 0 | Q50: =O50-P50 -> 2 | R50: =IF(EQUAT!J20=0," ",EQUAT!J20) -> Energy sources - renewability | S50: =IF(EQUAT!K20=0," ",EQUAT!K20) | T50: =IF(EQUAT!L20=0," ",EQUAT!L20)
A51: =ST1C!AJ28 -> Electrochemical Series | B51: =ST2C!AL28 -> 17 | C51: =ST2C!AM28 -> 0 | D51: =ST2C!AN28 -> 0 | N51: =EQUAT!H21 -> 2eiii | O51: =EQUAT!I21 -> 1 | P51: =ST2C!B48 -> 0 | Q51: =O51-P51 -> 1 | R51: =IF(EQUAT!J21=0," ",EQUAT!J21) -> protein- primary, secondary, tertiary structure | S51: =IF(EQUAT!K21=0," ",EQUAT!K21) -> amino acid | T51: =IF(EQUAT!L21=0," ",EQUAT!L21)
A52: =ST1C!AJ29 -> Galvanic Cells | B52: =ST2C!AL29 -> 4 | C52: =ST2C!AM29 -> 0 | D52: =ST2C!AN29 -> 0 | N52: =EQUAT!H22 -> 3ai | O52: =EQUAT!I22 -> 1 | P52: =ST2C!B49 -> 0 | Q52: =O52-P52 -> 1 | R52: =IF(EQUAT!J22=0," ",EQUAT!J22) -> chemical principles electrolytic cell | S52: =IF(EQUAT!K22=0," ",EQUAT!K22) | T52: =IF(EQUAT!L22=0," ",EQUAT!L22)
A53: =ST1C!AJ30 -> Fuel Cells | B53: =ST2C!AL30 -> 2 | C53: =ST2C!AM30 -> 0 | D53: =ST2C!AN30 -> 0 | N53: =EQUAT!H23 -> 3aii | O53: =EQUAT!I23 -> 2 | P53: =ST2C!B50 -> 0 | Q53: =O53-P53 -> 2 | R53: =IF(EQUAT!J23=0," ",EQUAT!J23) -> molten vs aqueous electrolytic cell | S53: =IF(EQUAT!K23=0," ",EQUAT!K23) -> electrochemical series | T53: =IF(EQUAT!L23=0," ",EQUAT!L23) -> data book
A54: =ST1C!AJ31 -> Electrolytic Cells | B54: =ST2C!AL31 -> 6 | C54: =ST2C!AM31 -> 0 | D54: =ST2C!AN31 -> 0 | N54: =EQUAT!H24 -> 3bi | O54: =EQUAT!I24 -> 3 | P54: =ST2C!B51 -> 0 | Q54: =O54-P54 -> 3 | R54: =IF(EQUAT!J24=0," ",EQUAT!J24) -> Faradays laws | S54: =IF(EQUAT!K24=0," ",EQUAT!K24) | T54: =IF(EQUAT!L24=0," ",EQUAT!L24)
A55: =ST1C!AJ32 -> Faradays Laws | B55: =ST2C!AL32 -> 3 | C55: =ST2C!AM32 -> 0 | D55: =ST2C!AN32 -> 0 | N55: =EQUAT!H25 -> 3bii | O55: =EQUAT!I25 -> 1 | P55: =ST2C!B52 -> 0 | Q55: =O55-P55 -> 1 | R55: =IF(EQUAT!J25=0," ",EQUAT!J25) -> chemical principles electrolytic cell | S55: =IF(EQUAT!K25=0," ",EQUAT!K25) -> electrochemical series | T55: =IF(EQUAT!L25=0," ",EQUAT!L25) -> data book
A56: =ST1C!AJ33 -> Key Skills | B56: =ST2C!AL33 -> 10 | C56: =ST2C!AM33 -> 0 | D56: =ST2C!AN33 -> 0 | N56: =EQUAT!H26 -> 3c | O56: =EQUAT!I26 -> 2 | P56: =ST2C!B53 -> 0 | Q56: =O56-P56 -> 2 | R56: =IF(EQUAT!J26=0," ",EQUAT!J26) -> molten vs aqueous electrolytic cell | S56: =IF(EQUAT!K26=0," ",EQUAT!K26) -> electrochemical series | T56: =IF(EQUAT!L26=0," ",EQUAT!L26) -> data book
N57: =EQUAT!H27 -> 4a | O57: =EQUAT!I27 -> 1 | P57: =ST2C!B54 -> 0 | Q57: =O57-P57 -> 1 | R57: =IF(EQUAT!J27=0," ",EQUAT!J27) -> Energy of reactions | S57: =IF(EQUAT!K27=0," ",EQUAT!K27) | T57: =IF(EQUAT!L27=0," ",EQUAT!L27)
N58: =EQUAT!H28 -> 4b | O58: =EQUAT!I28 -> 6 | P58: =ST2C!B55 -> 0 | Q58: =O58-P58 -> 6 | R58: =IF(EQUAT!J28=0," ",EQUAT!J28) -> Energy of reactions | S58: =IF(EQUAT!K28=0," ",EQUAT!K28) | T58: =IF(EQUAT!L28=0," ",EQUAT!L28)
N59: =EQUAT!H29 -> 4ci | O59: =EQUAT!I29 -> 1 | P59: =ST2C!B56 -> 0 | Q59: =O59-P59 -> 1 | R59: =IF(EQUAT!J29=0," ",EQUAT!J29) -> chemical equations | S59: =IF(EQUAT!K29=0," ",EQUAT!K29) | T59: =IF(EQUAT!L29=0," ",EQUAT!L29)
N60: =EQUAT!H30 -> 4cii | O60: =EQUAT!I30 -> 2 | P60: =ST2C!B57 -> 0 | Q60: =O60-P60 -> 2 | R60: =IF(EQUAT!J30=0," ",EQUAT!J30) -> collision theory | S60: =IF(EQUAT!K30=0," ",EQUAT!K30) | T60: =IF(EQUAT!L30=0," ",EQUAT!L30)
N61: =EQUAT!H31 -> 5a | O61: =EQUAT!I31 -> 1 | P61: =ST2C!B58 -> 0 | Q61: =O61-P61 -> 1 | R61: =IF(EQUAT!J31=0," ",EQUAT!J31) -> chemical equations | S61: =IF(EQUAT!K31=0," ",EQUAT!K31) | T61: =IF(EQUAT!L31=0," ",EQUAT!L31)
N62: =EQUAT!H32 -> 5bi | O62: =EQUAT!I32 -> 1 | P62: =ST2C!B59 -> 0 | Q62: =O62-P62 -> 1 | R62: =IF(EQUAT!J32=0," ",EQUAT!J32) -> Equilibrium law | S62: =IF(EQUAT!K32=0," ",EQUAT!K32) | T62: =IF(EQUAT!L32=0," ",EQUAT!L32)
N63: =EQUAT!H33 -> 5bii | O63: =EQUAT!I33 -> 3 | P63: =ST2C!B60 -> 0 | Q63: =O63-P63 -> 3 | R63: =IF(EQUAT!J33=0," ",EQUAT!J33) -> pH | S63: =IF(EQUAT!K33=0," ",EQUAT!K33) -> Ka weak acids | T63: =IF(EQUAT!L33=0," ",EQUAT!L33) -> calculations
N64: =EQUAT!H34 -> 5ci | O64: =EQUAT!I34 -> 3 | P64: =ST2C!B61 -> 0 | Q64: =O64-P64 -> 3 | R64: =IF(EQUAT!J34=0," ",EQUAT!J34) -> bomb calorimetry | S64: =IF(EQUAT!K34=0," ",EQUAT!K34) -> calibration calorimetry | T64: =IF(EQUAT!L34=0," ",EQUAT!L34) -> calculations
N65: =EQUAT!H35 -> 5cii | O65: =EQUAT!I35 -> 2 | P65: =ST2C!B62 -> 0 | Q65: =O65-P65 -> 2 | R65: =IF(EQUAT!J35=0," ",EQUAT!J35) -> bomb calorimetry | S65: =IF(EQUAT!K35=0," ",EQUAT!K35) -> calibration calorimetry | T65: =IF(EQUAT!L35=0," ",EQUAT!L35)
N66: =EQUAT!H36 -> 5di | O66: =EQUAT!I36 -> 3 | P66: =ST2C!B63 -> 0 | Q66: =O66-P66 -> 3 | R66: =IF(EQUAT!J36=0," ",EQUAT!J36) -> Calorimetry | S66: =IF(EQUAT!K36=0," ",EQUAT!K36) | T66: =IF(EQUAT!L36=0," ",EQUAT!L36)
O68: Exam Name: | P68: =B3 -> LisaChem 2014 | S68: Name: | T68: =B5 -> Student 2
O69: Total Marks | P69: Marks Gained | Q69: Marks Lost
N70: Qu | S70: Key Knowledge Descriptor
N71: =EQUAT!H37 -> 5dii | O71: =EQUAT!I37 -> 1 | P71: =ST2C!B64 -> 0 | Q71: =O71-P71 -> 1 | R71: =IF(EQUAT!J37=0," ",EQUAT!J37) -> Calorimetry | S71: =IF(EQUAT!K37=0," ",EQUAT!K37) -> excess and limiting reagents | T71: =IF(EQUAT!L37=0," ",EQUAT!L37)
N72: =EQUAT!H38 -> 6a | O72: =EQUAT!I38 -> 1 | P72: =ST2C!B65 -> 0 | Q72: =O72-P72 -> 1 | R72: =IF(EQUAT!J38=0," ",EQUAT!J38) -> chemical equations | S72: =IF(EQUAT!K38=0," ",EQUAT!K38) -> organic reaction pathways | T72: =IF(EQUAT!L38=0," ",EQUAT!L38)
N73: =EQUAT!H39 -> 6b | O73: =EQUAT!I39 -> 2 | P73: =ST2C!B66 -> 0 | Q73: =O73-P73 -> 2 | R73: =IF(EQUAT!J39=0," ",EQUAT!J39) -> calc delta H from chemical equations | S73: =IF(EQUAT!K39=0," ",EQUAT!K39) -> calculations | T73: =IF(EQUAT!L39=0," ",EQUAT!L39)
N74: =EQUAT!H40 -> 6c | O74: =EQUAT!I40 -> 4 | P74: =ST2C!B67 -> 0 | Q74: =O74-P74 -> 4 | R74: =IF(EQUAT!J40=0," ",EQUAT!J40) -> volume, temperature, pressure of gases | S74: =IF(EQUAT!K40=0," ",EQUAT!K40) | T74: =IF(EQUAT!L40=0," ",EQUAT!L40)
N75: =EQUAT!H41 -> 6d | O75: =EQUAT!I41 -> 3 | P75: =ST2C!B68 -> 0 | Q75: =O75-P75 -> 3 | R75: =IF(EQUAT!J41=0," ",EQUAT!J41) -> Le Chatelier principle | S75: =IF(EQUAT!K41=0," ",EQUAT!K41) | T75: =IF(EQUAT!L41=0," ",EQUAT!L41)
N76: =EQUAT!H42 -> 6e | O76: =EQUAT!I42 -> 3 | P76: =ST2C!B69 -> 0 | Q76: =O76-P76 -> 3 | R76: =IF(EQUAT!J42=0," ",EQUAT!J42) -> collision theory | S76: =IF(EQUAT!K42=0," ",EQUAT!K42) | T76: =IF(EQUAT!L42=0," ",EQUAT!L42)
N77: =EQUAT!H43 -> 6fi | O77: =EQUAT!I43 -> 6 | P77: =ST2C!B70 -> 0 | Q77: =O77-P77 -> 6 | R77: =IF(EQUAT!J43=0," ",EQUAT!J43) -> IR | S77: =IF(EQUAT!K43=0," ",EQUAT!K43) -> HNMR | T77: =IF(EQUAT!L43=0," ",EQUAT!L43) -> semi-structural formula
N78: =EQUAT!H44 -> 6fii | O78: =EQUAT!I44 -> 2 | P78: =ST2C!B71 -> 0 | Q78: =O78-P78 -> 2 | R78: =IF(EQUAT!J44=0," ",EQUAT!J44) -> organic reaction pathways | S78: =IF(EQUAT!K44=0," ",EQUAT!K44) | T78: =IF(EQUAT!L44=0," ",EQUAT!L44)
N79: =EQUAT!H45 -> 6gi | O79: =EQUAT!I45 -> 1 | P79: =ST2C!B72 -> 0 | Q79: =O79-P79 -> 1 | R79: =IF(EQUAT!J45=0," ",EQUAT!J45) -> chemical equations | S79: =IF(EQUAT!K45=0," ",EQUAT!K45) -> ethanol production | T79: =IF(EQUAT!L45=0," ",EQUAT!L45)
N80: =EQUAT!H46 -> 6gii | O80: =EQUAT!I46 -> 3 | P80: =ST2C!B73 -> 0 | Q80: =O80-P80 -> 3 | R80: =IF(EQUAT!J46=0," ",EQUAT!J46) -> properties of organic compounds | S80: =IF(EQUAT!K46=0," ",EQUAT!K46) -> ethanol production | T80: =IF(EQUAT!L46=0," ",EQUAT!L46)
N81: =EQUAT!H47 -> 6giii | O81: =EQUAT!I47 -> 1 | P81: =ST2C!B74 -> 0 | Q81: =O81-P81 -> 1 | R81: =IF(EQUAT!J47=0," ",EQUAT!J47) -> chemical equations | S81: =IF(EQUAT!K47=0," ",EQUAT!K47) -> ethanol production | T81: =IF(EQUAT!L47=0," ",EQUAT!L47)
N82: =EQUAT!H48 -> 6hi | O82: =EQUAT!I48 -> 1 | P82: =ST2C!B75 -> 0 | Q82: =O82-P82 -> 1 | R82: =IF(EQUAT!J48=0," ",EQUAT!J48) -> chemical principles fuel cell | S82: =IF(EQUAT!K48=0," ",EQUAT!K48) | T82: =IF(EQUAT!L48=0," ",EQUAT!L48)
... N93: =EQUAT!H59 -> 8di | O93: =EQUAT!I59 -> 1 | P93: =ST2C!B86 -> 0 | Q93: =O93-P93 -> 1 | R93: =IF(EQUAT!J59=0," ",EQUAT!J59) -> Energy sources - renewability | S93: =IF(EQUAT!K59=0," ",EQUAT!K59) | T93: =IF(EQUAT!L59=0," ",EQUAT!L59)
N94: =EQUAT!H60 -> 8dii | O94: =EQUAT!I60 -> 1 | P94: =ST2C!B87 -> 0 | Q94: =O94-P94 -> 1 | R94: =IF(EQUAT!J60=0," ",EQUAT!J60) -> Energy sources - renewability | S94: =IF(EQUAT!K60=0," ",EQUAT!K60) | T94: =IF(EQUAT!L59=0," ",EQUAT!L59)
N95: =EQUAT!H61 -> 0 | O95: =EQUAT!I61 -> 0 | P95: =ST2C!B88 -> 0 | Q95: =O95-P95 -> 0 | R95: =IF(EQUAT!J61=0," ",EQUAT!J61) | S95: =IF(EQUAT!K61=0," ",EQUAT!K61) | T95: =IF(EQUAT!L60=0," ",EQUAT!L60)
N96: Total | O96: =SUM(O37:O95) -> 112 | P96: =SUM(P37:P95) -> 0 | Q96: =SUM(Q37:Q95) -> 112

Sheet ST3
A1: Student Summary | O1: Exam Name: | P1: =B3 -> LisaChem 2014 | S1: Name: | T1: =B5 -> Student 3
O2: Exam Solution | P2: Student Ans | Q2: Marks Gained | R2: Total Marks Gained MC: | S2: =SUM(Q4:Q33) -> 0
A3: Exam Name: | B3: =EQUAT!C3 -> LisaChem 2014 | H3: Total | I3: Achievement | J3: % | N3: Qu | R3: Key Knowledge Descriptor
G4: Multiple Choice | H4: =ST3C!AK38 -> 30 | I4: =ST3C!AL38 -> 0 | J4: =ST3C!AM38 -> 0 | K4: =(I4/H4)*100 -> 0 | N4: =EQUAT!A7 -> 1 | O4: =EQUAT!B7 -> D | P4: ='Class Results'!E6 -> 0 | Q4: =IF(P4=O4,1,0) -> 0 | R4: =IF(EQUAT!D7=0, "",EQUAT!D7) -> amino acid | S4: =IF(EQUAT!E7=0, "",EQUAT!E7) -> systematic name | T4: =IF(EQUAT!F7=0, "",EQUAT!F7)
A5: Name | B5: ='Class Results'!E4 -> Student 3 | G5: Short Answer | H5: =ST3C!AK39 -> 112 | I5: =ST3C!AL39 -> 0 | J5: =ST3C!AM39 -> 0 | N5: =EQUAT!A8 -> 2 | O5: =EQUAT!B8 -> A | P5: ='Class Results'!E7 -> 0 | Q5: =IF(P5=O5,1,0) -> 0 | R5: =IF(EQUAT!D8=0, "",EQUAT!D8) -> calc delta H from chemical equations | S5: =IF(EQUAT!E8=0, "",EQUAT!E8) -> calculations | T5: =IF(EQUAT!F8=0, "",EQUAT!F8)
G6: Overall | H6: =SUM(H4:H5) -> 142 | I6: =SUM(I4:I5) -> 0 | J6: =(I6/H6)*100 -> 0 | N6: =EQUAT!A9 -> 3 | O6: =EQUAT!B9 -> B | P6: ='Class Results'!E8 -> 0 | Q6: =IF(P6=O6,1,0) -> 0 | R6: =IF(EQUAT!D9=0, "",EQUAT!D9) -> esters from alkenes | S6: =IF(EQUAT!E9=0, "",EQUAT!E9) | T6: =IF(EQUAT!F9=0, "",EQUAT!F9)
N7: =EQUAT!A10 -> 4 | O7: =EQUAT!B10 -> C | P7: ='Class Results'!E9 -> 0 | Q7: =IF(P7=O7,1,0) -> 0 | R7: =IF(EQUAT!D10=0, "",EQUAT!D10) -> calculations | S7: =IF(EQUAT!E10=0, "",EQUAT!E10) | T7: =IF(EQUAT!F10=0, "",EQUAT!F10)
B8: Value | C8: Gained | D8: % | N8: =EQUAT!A11 -> 5 | O8: =EQUAT!B11 -> D | P8: ='Class Results'!E10 -> 0 | Q8: =IF(P8=O8,1,0) -> 0 | R8: =IF(EQUAT!D11=0, "",EQUAT!D11) -> IR | S8: =IF(EQUAT!E11=0, "",EQUAT!E11) -> C13NMR | T8: =IF(EQUAT!F11=0, "",EQUAT!F11) -> calculations
A9: Unit 3 AOS 1 | B9: =ST3C!AL3 -> 73 | C9: =ST3C!AM3 -> 0 | D9: =ST3C!AN3 -> 0 | N9: =EQUAT!A12 -> 6 | O9: =EQUAT!B12 -> A | P9: ='Class Results'!E11 -> 0 | Q9: =IF(P9=O9,1,0) -> 0 | R9: =IF(EQUAT!D12=0, "",EQUAT!D12) -> redox titrations | S9: =IF(EQUAT!E12=0, "",EQUAT!E12) -> vol - experimental technique | T9: =IF(EQUAT!F12=0, "",EQUAT!F12)
A10: Unit 3 AOS 2 | B10: =ST3C!AL4 -> 75 | C10: =ST3C!AM4 -> 0 | D10: =ST3C!AN4 -> 0 | N10: =EQUAT!A13 -> 7 | O10: =EQUAT!B13 -> C | P10: ='Class Results'!E12 -> 0 | Q10: =IF(P10=O10,1,0) -> 0 | R10: =IF(EQUAT!D13=0, "",EQUAT!D13) -> chemical equations | S10: =IF(EQUAT!E13=0, "",EQUAT!E13) -> calculations | T10: =IF(EQUAT!F13=0, "",EQUAT!F13)
N11: =EQUAT!A14 -> 8 | O11: =EQUAT!B14 -> B | P11: ='Class Results'!E13 -> 0 | Q11: =IF(P11=O11,1,0) -> 0 | R11: =IF(EQUAT!D14=0, "",EQUAT!D14) -> galvanic cells - primary, secondary | S11: =IF(EQUAT!E14=0, "",EQUAT!E14) -> electrochemical series | T11: =IF(EQUAT!F14=0, "",EQUAT!F14) -> data book
N12: =EQUAT!A15 -> 9 | O12: =EQUAT!B15 -> B | P12: ='Class Results'!E14 -> 0 | Q12: =IF(P12=O12,1,0) -> 0 | R12: =IF(EQUAT!D15=0, "",EQUAT!D15) -> vol - experimental technique | S12: =IF(EQUAT!E15=0, "",EQUAT!E15) | T12: =IF(EQUAT!F15=0, "",EQUAT!F15)
N13: =EQUAT!A16 -> 10 | O13: =EQUAT!B16 -> B | P13: ='Class Results'!E15 -> 0 | Q13: =IF(P13=O13,1,0) -> 0 | R13: =IF(EQUAT!D16=0, "",EQUAT!D16) -> GC | S13: =IF(EQUAT!E16=0, "",EQUAT!E16) -> mass spectrometry | T13: =IF(EQUAT!F16=0, "",EQUAT!F16) -> alkanols
B14: Unit 3 | N14: =EQUAT!A17 -> 11 | O14: =EQUAT!B17 -> B | P14: ='Class Results'!E16 -> 0 | Q14: =IF(P14=O14,1,0) -> 0 | R14: =IF(EQUAT!D17=0, "",EQUAT!D17) -> calibration graph AAS or UV | S14: =IF(EQUAT!E17=0, "",EQUAT!E17) -> unit conversion | T14: =IF(EQUAT!F17=0, "",EQUAT!F17)
A15: =ST1C!AJ5 -> volumetric | B15: =ST3C!AL5 -> 8 | C15: =ST3C!AM5 -> 0 | D15: =ST3C!AN5 -> 0 | N15: =EQUAT!A18 -> 12 | O15: =EQUAT!B18 -> B | P15: ='Class Results'!E17 -> 0 | Q15: =IF(P15=O15,1,0) -> 0 | R15: =IF(EQUAT!D18=0, "",EQUAT!D18) -> volume, temperature, pressure of gases | S15: =IF(EQUAT!E18=0, "",EQUAT!E18) | T15: =IF(EQUAT!F18=0, "",EQUAT!F18)
A16: =ST1C!AJ6 -> gravimetric analysis | B16: =ST3C!AL6 -> 1 | C16: =ST3C!AM6 -> 0 | D16: =ST3C!AN6 -> 0 | N16: =EQUAT!A19 -> 13 | O16: =EQUAT!B19 -> A | P16: ='Class Results'!E18 -> 0 | Q16: =IF(P16=O16,1,0) -> 0 | R16: =IF(EQUAT!D19=0, "",EQUAT!D19) -> HNMR | S16: =IF(EQUAT!E19=0, "",EQUAT!E19) -> aspirin | T16: =IF(EQUAT!F19=0, "",EQUAT!F19)
A17: =ST1C!AJ7 -> calculations | B17: =ST3C!AL7 -> 29 | C17: =ST3C!AM7 -> 0 | D17: =ST3C!AN7 -> 0 | N17: =EQUAT!A20 -> 14 | O17: =EQUAT!B20 -> B | P17: ='Class Results'!E19 -> 0 | Q17: =IF(P17=O17,1,0) -> 0 | R17: =IF(EQUAT!D20=0, "",EQUAT!D20) -> titration curves | S17: =IF(EQUAT!E20=0, "",EQUAT!E20) -> calculations | T17: =IF(EQUAT!F20=0, "",EQUAT!F20)
A18: =ST1C!AJ8 -> chemical equations | B18: =ST3C!AL8 -> 10 | C18: =ST3C!AM8 -> 0 | D18: =ST3C!AN8 -> 0 | N18: =EQUAT!A21 -> 15 | O18: =EQUAT!B21 -> D | P18: ='Class Results'!E20 -> 0 | Q18: =IF(P18=O18,1,0) -> 0 | R18: =IF(EQUAT!D21=0, "",EQUAT!D21) -> organic reaction pathways | S18: =IF(EQUAT!E21=0, "",EQUAT!E21) -> esterification | T18: =IF(EQUAT!F21=0, "",EQUAT!F21)
A19: =ST1C!AJ9 -> chromatographic techniques | B19: =ST3C!AL9 -> 8 | C19: =ST3C!AM9 -> 0 | D19: =ST3C!AN9 -> 0 | N19: =EQUAT!A22 -> 16 | O19: =EQUAT!B22 -> A | P19: ='Class Results'!E21 -> 0 | Q19: =IF(P19=O19,1,0) -> 0 | R19: =IF(EQUAT!D22=0, "",EQUAT!D22) -> matching analytical technique | S19: =IF(EQUAT!E22=0, "",EQUAT!E22) -> AAS | T19: =IF(EQUAT!F22=0, "",EQUAT!F22)
A20: =ST1C!AJ10 -> spectroscopic techniques | B20: =ST3C!AL10 -> 16 | C20: =ST3C!AM10 -> 0 | D20: =ST3C!AN10 -> 0 | N20: =EQUAT!A23 -> 17 | O20: =EQUAT!B23 -> D | P20: ='Class Results'!E22 -> 0 | Q20: =IF(P20=O20,1,0) -> 0 | R20: =IF(EQUAT!D23=0, "",EQUAT!D23) -> galvanic primary, half & overall equations | S20: =IF(EQUAT!E23=0, "",EQUAT!E23) -> electrochemical series | T20: =IF(EQUAT!F23=0, "",EQUAT!F23) -> data book
A21: =ST1C!AJ11 -> matching analytical techniques | B21: =ST3C!AL11 -> 1 | C21: =ST3C!AM11 -> 0 | D21: =ST3C!AN11 -> 0 | N21: =EQUAT!A24 -> 18 | O21: =EQUAT!B24 -> B | P21: ='Class Results'!E23 -> 0 | Q21: =IF(P21=O21,1,0) -> 0 | R21: =IF(EQUAT!D24=0, "",EQUAT!D24) -> Ka weak acids | S21: =IF(EQUAT!E24=0, "",EQUAT!E24) -> Le Chatelier principle | T21: =IF(EQUAT!F24=0, "",EQUAT!F24)
A22: =ST1C!AJ12 -> organic structures | B22: =ST3C!AL12 -> 33 | C22: =ST3C!AM12 -> 0 | D22: =ST3C!AN12 -> 0 | N22: =EQUAT!A25 -> 19 | O22: =EQUAT!B25 -> C | P22: ='Class Results'!E24 -> 0 | Q22: =IF(P22=O22,1,0) -> 0 | R22: =IF(EQUAT!D25=0, "",EQUAT!D25) -> galcanic secondary, half & overall equations | S22: =IF(EQUAT!E25=0, "",EQUAT!E25) | T22: =IF(EQUAT!F25=0, "",EQUAT!F25)
A23: =ST1C!AJ13 -> common organic reactions | B23: =ST3C!AL13 -> 7 | C23: =ST3C!AM13 -> 0 | D23: =ST3C!AN13 -> 0 | N23: =EQUAT!A26 -> 20 | O23: =EQUAT!B26 -> D | P23: ='Class Results'!E25 -> 0 | Q23: =IF(P23=O23,1,0) -> 0 | R23: =IF(EQUAT!D26=0, "",EQUAT!D26) -> galvanic secondary, principles | S23: =IF(EQUAT!E26=0, "",EQUAT!E26) | T23: =IF(EQUAT!F26=0, "",EQUAT!F26)
A24: =ST1C!AJ14 -> chemical bonding proteins | B24: =ST3C!AL14 -> 5 | C24: =ST3C!AM14 -> 0 | D24: =ST3C!AN14 -> 0 | N24: =EQUAT!A27 -> 21 | O24: =EQUAT!B27 -> A | P24: ='Class Results'!E26 -> 0 | Q24: =IF(P24=O24,1,0) -> 0 | R24: =IF(EQUAT!D27=0, "",EQUAT!D27) -> Le Chatelier principle | S24: =IF(EQUAT!E27=0, "",EQUAT!E27) -> calc delta H from chemical equations | T24: =IF(EQUAT!F27=0, "",EQUAT!F27)
A25: =ST1C!AJ15 -> DNA | B25: =ST3C!AL15 -> 8 | C25: =ST3C!AM15 -> 0 | D25: =ST3C!AN15 -> 0 | N25: =EQUAT!A28 -> 22 | O25: =EQUAT!B28 -> D | P25: ='Class Results'!E27 -> 0 | Q25: =IF(P25=O25,1,0) -> 0 | R25: =IF(EQUAT!D28=0, "",EQUAT!D28) -> Equilibrium law | S25: =IF(EQUAT!E28=0, "",EQUAT!E28) -> calculations | T25: =IF(EQUAT!F28=0, "",EQUAT!F28)
A26: =ST1C!AJ16 -> organic reaction pathways | B26: =ST3C!AL16 -> 10 | C26: =ST3C!AM16 -> 0 | D26: =ST3C!AN16 -> 0 | N26: =EQUAT!A29 -> 23 | O26: =EQUAT!B29 -> B | P26: ='Class Results'!E28 -> 0 | Q26: =IF(P26=O26,1,0) -> 0 | R26: =IF(EQUAT!D29=0, "",EQUAT!D29) -> electrochemical series | S26: =IF(EQUAT!E29=0, "",EQUAT!E29) -> data book | T26: =IF(EQUAT!F29=0, "",EQUAT!F29)
... A28: =ST1C!AJ18 -> medicine synthesis | B28: =ST3C!AL18 -> 1 | C28: =ST3C!AM18 -> 0 | D28: =ST3C!AN18 -> 0 | N28: =EQUAT!A31 -> 25 | O28: =EQUAT!B31 -> B | P28: ='Class Results'!E30 -> 0 | Q28: =IF(P28=O28,1,0) -> 0 | R28: =IF(EQUAT!D31=0, "",EQUAT!D31) -> acid-base titrations | S28: =IF(EQUAT!E31=0, "",EQUAT!E31) -> molecular ion peak | T28: =IF(EQUAT!F31=0, "",EQUAT!F31) -> calculations
N29: =EQUAT!A32 -> 26 | O29: =EQUAT!B32 -> C | P29: ='Class Results'!E31 -> 0 | Q29: =IF(P29=O29,1,0) -> 0 | R29: =IF(EQUAT!D32=0, "",EQUAT!D32) -> vol - experimental technique | S29: =IF(EQUAT!E32=0, "",EQUAT!E32) | T29: =IF(EQUAT!F32=0, "",EQUAT!F32)
N30: =EQUAT!A33 -> 27 | O30: =EQUAT!B33 -> B | P30: ='Class Results'!E32 -> 0 | Q30: =IF(P30=O30,1,0) -> 0 | R30: =IF(EQUAT!D33=0, "",EQUAT!D33) -> Le Chatelier principle | S30: =IF(EQUAT!E33=0, "",EQUAT!E33) | T30: =IF(EQUAT!F33=0, "",EQUAT!F33)
N31: =EQUAT!A34 -> 28 | O31: =EQUAT!B34 -> C | P31: ='Class Results'!E33 -> 0 | Q31: =IF(P31=O31,1,0) -> 0 | R31: =IF(EQUAT!D34=0, "",EQUAT!D34) -> amines | S31: =IF(EQUAT!E34=0, "",EQUAT!E34) -> structural formula | T31: =IF(EQUAT!F34=0, "",EQUAT!F34) -> unit conversion
N32: =EQUAT!A35 -> 29 | O32: =EQUAT!B35 -> D | P32: ='Class Results'!E34 -> 0 | Q32: =IF(P32=O32,1,0) -> 0 | R32: =IF(EQUAT!D35=0, "",EQUAT!D35) -> titration curves | S32: =IF(EQUAT!E35=0, "",EQUAT!E35) | T32: =IF(EQUAT!F35=0, "",EQUAT!F35)
N33: =EQUAT!A36 -> 30 | O33: =EQUAT!B36 -> D | P33: ='Class Results'!E35 -> 0 | Q33: =IF(P33=O33,1,0) -> 0 | R33: =IF(EQUAT!D36=0, "",EQUAT!D36) -> grav - experimental technique | S33: =IF(EQUAT!E36=0, "",EQUAT!E36) | T33: =IF(EQUAT!F36=0, "",EQUAT!F36)
O34: Exam Name: | P34: =B3 -> LisaChem 2014 | S34: Name: | T34: =B5 -> Student 3
A35: Exam Name: | B35: =B3 -> LisaChem 2014 | O35: Total | P35: Marks Gained | Q35: Marks Lost
N36: Qu | S36: Key Knowledge Descriptor
A37: Name | B37: =B5 -> Student 3 | N37: =EQUAT!H7 -> 1a | O37: =EQUAT!I7 -> 2 | P37: =ST3C!B34 -> 0 | Q37: =O37-P37 -> 2 | R37: =IF(EQUAT!J7=0," ",EQUAT!J7) -> amino acid | S37: =IF(EQUAT!K7=0," ",EQUAT!K7) -> cond & poly - proteins | T37: =IF(EQUAT!L7=0," ",EQUAT!L7) -> amide
N38: =EQUAT!H8 -> 1b | O38: =EQUAT!I8 -> 1 | P38: =ST3C!B35 -> 0 | Q38: =O38-P38 -> 1 | R38: =IF(EQUAT!J8=0," ",EQUAT!J8) -> TLC | S38: =IF(EQUAT!K8=0," ",EQUAT!K8) -> cond & poly - proteins | T38: =IF(EQUAT!L8=0," ",EQUAT!L8) -> amide
B39: Value | C39: Gained | D39: % | N39: =EQUAT!H9 -> 1c | O39: =EQUAT!I9 -> 2 | P39: =ST3C!B36 -> 0 | Q39: =O39-P39 -> 2 | R39: =IF(EQUAT!J9=0," ",EQUAT!J9) -> structural formula | S39: =IF(EQUAT!K9=0," ",EQUAT!K9) -> cond & poly - proteins | T39: =IF(EQUAT!L9=0," ",EQUAT!L9) -> amide
A40: Unit 4 AOS 1 | B40: =ST3C!AL20 -> 32 | C40: =ST3C!AM20 -> 0 | D40: =ST3C!AN20 -> 0 | N40: =EQUAT!H10 -> 1d | O40: =EQUAT!I10 -> 2 | P40: =ST3C!B37 -> 0 | Q40: =O40-P40 -> 2 | R40: =IF(EQUAT!J10=0," ",EQUAT!J10) -> amino acid | S40: =IF(EQUAT!K10=0," ",EQUAT!K10) -> properties of organic compounds | T40: =IF(EQUAT!L10=0," ",EQUAT!L10)
A41: Unit 4 AOS 2 | B41: =ST3C!AL21 -> 58 | C41: =ST3C!AM21 -> 0 | D41: =ST3C!AN21 -> 0 | N41: =EQUAT!H11 -> 1e | O41: =EQUAT!I11 -> 3 | P41: =ST3C!B38 -> 0 | Q41: =O41-P41 -> 3 | R41: =IF(EQUAT!J11=0," ",EQUAT!J11) -> TLC | S41: =IF(EQUAT!K11=0," ",EQUAT!K11) -> chromatographic techniques | T41: =IF(EQUAT!L11=0," ",EQUAT!L11)
N42: =EQUAT!H12 -> 1f | O42: =EQUAT!I12 -> 6 | P42: =ST3C!B39 -> 0 | Q42: =O42-P42 -> 6 | R42: =IF(EQUAT!J12=0," ",EQUAT!J12) -> protein- primary, secondary, tertiary structure | S42: =IF(EQUAT!K12=0," ",EQUAT!K12) -> DNA primary structure | T42: =IF(EQUAT!L12=0," ",EQUAT!L12) -> DNA secondary structure
N43: =EQUAT!H13 -> 2ai | O43: =EQUAT!I13 -> 2 | P43: =ST3C!B40 -> 0 | Q43: =O43-P43 -> 2 | R43: =IF(EQUAT!J13=0," ",EQUAT!J13) -> unit conversion | S43: =IF(EQUAT!K13=0," ",EQUAT!K13) | T43: =IF(EQUAT!L13=0," ",EQUAT!L13)
B44: Unit 4 | N44: =EQUAT!H14 -> 2aii | O44: =EQUAT!I14 -> 1 | P44: =ST3C!B41 -> 0 | Q44: =O44-P44 -> 1 | R44: =IF(EQUAT!J14=0," ",EQUAT!J14) -> concentration | S44: =IF(EQUAT!K14=0," ",EQUAT!K14) | T44: =IF(EQUAT!L14=0," ",EQUAT!L14)
A45: =ST1C!AJ22 -> Rates of reaction | B45: =ST3C!AL22 -> 5 | C45: =ST3C!AM22 -> 0 | D45: =ST3C!AN22 -> 0 | N45: =EQUAT!H15 -> 2b | O45: =EQUAT!I15 -> 2 | P45: =ST3C!B42 -> 0 | Q45: =O45-P45 -> 2 | R45: =IF(EQUAT!J15=0," ",EQUAT!J15) -> Key Skills | S45: =IF(EQUAT!K15=0," ",EQUAT!K15) | T45: =IF(EQUAT!L15=0," ",EQUAT!L15)
A46: =ST1C!AJ23 -> Energy of reactions | B46: =ST3C!AL23 -> 12 | C46: =ST3C!AM23 -> 0 | D46: =ST3C!AN23 -> 0 | N46: =EQUAT!H16 -> 2c | O46: =EQUAT!I16 -> 1 | P46: =ST3C!B43 -> 0 | Q46: =O46-P46 -> 1 | R46: =IF(EQUAT!J16=0," ",EQUAT!J16) -> HNMR | S46: =IF(EQUAT!K16=0," ",EQUAT!K16) | T46: =IF(EQUAT!L16=0," ",EQUAT!L16)
A47: =ST1C!AJ24 -> Equilibrium | B47: =ST3C!AL24 -> 15 | C47: =ST3C!AM24 -> 0 | D47: =ST3C!AN24 -> 0 | N47: =EQUAT!H17 -> 2di | O47: =EQUAT!I17 -> 1 | P47: =ST3C!B44 -> 0 | Q47: =O47-P47 -> 1 | R47: =IF(EQUAT!J17=0," ",EQUAT!J17) -> oxidation primary alkanols | S47: =IF(EQUAT!K17=0," ",EQUAT!K17) -> structural formula | T47: =IF(EQUAT!L17=0," ",EQUAT!L17)
A48: =ST1C!AJ25 -> Application of equil & rates | B48: =ST3C!AL25 -> 0 | C48: =ST3C!AM25 -> 0 | D48: =ST3C!AN25 -> -2 | N48: =EQUAT!H18 -> 2dii | O48: =EQUAT!I18 -> 1 | P48: =ST3C!B45 -> 0 | Q48: =O48-P48 -> 1 | R48: =IF(EQUAT!J18=0," ",EQUAT!J18) -> redox equations | S48: =IF(EQUAT!K18=0," ",EQUAT!K18) | T48: =IF(EQUAT!L18=0," ",EQUAT!L18)
A49: =ST1C!AJ26 -> Energy sources renewability | B49: =ST3C!AL26 -> 8 | C49: =ST3C!AM26 -> 0 | D49: =ST3C!AN26 -> 0 | N49: =EQUAT!H19 -> 2ei | O49: =EQUAT!I19 -> 5 | P49: =ST3C!B46 -> 0 | Q49: =O49-P49 -> 5 | R49: =IF(EQUAT!J19=0," ",EQUAT!J19) -> Calorimetry | S49: =IF(EQUAT!K19=0," ",EQUAT!K19) -> unit conversion | T49: =IF(EQUAT!L19=0," ",EQUAT!L19) -> Energy sources - renewability
A50: =ST1C!AJ27 -> Calorimetry | B50: =ST3C!AL27 -> 18 | C50: =ST3C!AM27 -> 0 | D50: =ST3C!AN27 -> 0 | N50: =EQUAT!H20 -> 2eii | O50: =EQUAT!I20 -> 2 | P50: =ST3C!B47 -> 0 | Q50: =O50-P50 -> 2 | R50: =IF(EQUAT!J20=0," ",EQUAT!J20) -> Energy sources - renewability | S50: =IF(EQUAT!K20=0," ",EQUAT!K20) | T50: =IF(EQUAT!L20=0," ",EQUAT!L20)
A51: =ST1C!AJ28 -> Electrochemical Series | B51: =ST3C!AL28 -> 17 | C51: =ST3C!AM28 -> 0 | D51: =ST3C!AN28 -> 0 | N51: =EQUAT!H21 -> 2eiii | O51: =EQUAT!I21 -> 1 | P51: =ST3C!B48 -> 0 | Q51: =O51-P51 -> 1 | R51: =IF(EQUAT!J21=0," ",EQUAT!J21) -> protein- primary, secondary, tertiary structure | S51: =IF(EQUAT!K21=0," ",EQUAT!K21) -> amino acid | T51: =IF(EQUAT!L21=0," ",EQUAT!L21)
A52: =ST1C!AJ29 -> Galvanic Cells | B52: =ST3C!AL29 -> 4 | C52: =ST3C!AM29 -> 0 | D52: =ST3C!AN29 -> 0 | N52: =EQUAT!H22 -> 3ai | O52: =EQUAT!I22 -> 1 | P52: =ST3C!B49 -> 0 | Q52: =O52-P52 -> 1 | R52: =IF(EQUAT!J22=0," ",EQUAT!J22) -> chemical principles electrolytic cell | S52: =IF(EQUAT!K22=0," ",EQUAT!K22) | T52: =IF(EQUAT!L22=0," ",EQUAT!L22)
A53: =ST1C!AJ30 -> Fuel Cells | B53: =ST3C!AL30 -> 2 | C53: =ST3C!AM30 -> 0 | D53: =ST3C!AN30 -> 0 | N53: =EQUAT!H23 -> 3aii | O53: =EQUAT!I23 -> 2 | P53: =ST3C!B50 -> 0 | Q53: =O53-P53 -> 2 | R53: =IF(EQUAT!J23=0," ",EQUAT!J23) -> molten vs aqueous electrolytic cell | S53: =IF(EQUAT!K23=0," ",EQUAT!K23) -> electrochemical series | T53: =IF(EQUAT!L23=0," ",EQUAT!L23) -> data book
A54: =ST1C!AJ31 -> Electrolytic Cells | B54: =ST3C!AL31 -> 6 | C54: =ST3C!AM31 -> 0 | D54: =ST3C!AN31 -> 0 | N54: =EQUAT!H24 -> 3bi | O54: =EQUAT!I24 -> 3 | P54: =ST3C!B51 -> 0 | Q54: =O54-P54 -> 3 | R54: =IF(EQUAT!J24=0," ",EQUAT!J24) -> Faradays laws | S54: =IF(EQUAT!K24=0," ",EQUAT!K24) | T54: =IF(EQUAT!L24=0," ",EQUAT!L24)
A55: =ST1C!AJ32 -> Faradays Laws | B55: =ST3C!AL32 -> 3 | C55: =ST3C!AM32 -> 0 | D55: =ST3C!AN32 -> 0 | N55: =EQUAT!H25 -> 3bii | O55: =EQUAT!I25 -> 1 | P55: =ST3C!B52 -> 0 | Q55: =O55-P55 -> 1 | R55: =IF(EQUAT!J25=0," ",EQUAT!J25) -> chemical principles electrolytic cell | S55: =IF(EQUAT!K25=0," ",EQUAT!K25) -> electrochemical series | T55: =IF(EQUAT!L25=0," ",EQUAT!L25) -> data book
A56: =ST1C!AJ33 -> Key Skills | B56: =ST3C!AL33 -> 10 | C56: =ST3C!AM33 -> 0 | D56: =ST3C!AN33 -> 0 | N56: =EQUAT!H26 -> 3c | O56: =EQUAT!I26 -> 2 | P56: =ST3C!B53 -> 0 | Q56: =O56-P56 -> 2 | R56: =IF(EQUAT!J26=0," ",EQUAT!J26) -> molten vs aqueous electrolytic cell | S56: =IF(EQUAT!K26=0," ",EQUAT!K26) -> electrochemical series | T56: =IF(EQUAT!L26=0," ",EQUAT!L26) -> data book
N57: =EQUAT!H27 -> 4a | O57: =EQUAT!I27 -> 1 | P57: =ST3C!B54 -> 0 | Q57: =O57-P57 -> 1 | R57: =IF(EQUAT!J27=0," ",EQUAT!J27) -> Energy of reactions | S57: =IF(EQUAT!K27=0," ",EQUAT!K27) | T57: =IF(EQUAT!L27=0," ",EQUAT!L27)
N58: =EQUAT!H28 -> 4b | O58: =EQUAT!I28 -> 6 | P58: =ST3C!B55 -> 0 | Q58: =O58-P58 -> 6 | R58: =IF(EQUAT!J28=0," ",EQUAT!J28) -> Energy of reactions | S58: =IF(EQUAT!K28=0," ",EQUAT!K28) | T58: =IF(EQUAT!L28=0," ",EQUAT!L28)
N59: =EQUAT!H29 -> 4ci | O59: =EQUAT!I29 -> 1 | P59: =ST3C!B56 -> 0 | Q59: =O59-P59 -> 1 | R59: =IF(EQUAT!J29=0," ",EQUAT!J29) -> chemical equations | S59: =IF(EQUAT!K29=0," ",EQUAT!K29) | T59: =IF(EQUAT!L29=0," ",EQUAT!L29)
N60: =EQUAT!H30 -> 4cii | O60: =EQUAT!I30 -> 2 | P60: =ST3C!B57 -> 0 | Q60: =O60-P60 -> 2 | R60: =IF(EQUAT!J30=0," ",EQUAT!J30) -> collision theory | S60: =IF(EQUAT!K30=0," ",EQUAT!K30) | T60: =IF(EQUAT!L30=0," ",EQUAT!L30)
N61: =EQUAT!H31 -> 5a | O61: =EQUAT!I31 -> 1 | P61: =ST3C!B58 -> 0 | Q61: =O61-P61 -> 1 | R61: =IF(EQUAT!J31=0," ",EQUAT!J31) -> chemical equations | S61: =IF(EQUAT!K31=0," ",EQUAT!K31) | T61: =IF(EQUAT!L31=0," ",EQUAT!L31)
N62: =EQUAT!H32 -> 5bi | O62: =EQUAT!I32 -> 1 | P62: =ST3C!B59 -> 0 | Q62: =O62-P62 -> 1 | R62: =IF(EQUAT!J32=0," ",EQUAT!J32) -> Equilibrium law | S62: =IF(EQUAT!K32=0," ",EQUAT!K32) | T62: =IF(EQUAT!L32=0," ",EQUAT!L32)
N63: =EQUAT!H33 -> 5bii | O63: =EQUAT!I33 -> 3 | P63: =ST3C!B60 -> 0 | Q63: =O63-P63 -> 3 | R63: =IF(EQUAT!J33=0," ",EQUAT!J33) -> pH | S63: =IF(EQUAT!K33=0," ",EQUAT!K33) -> Ka weak acids | T63: =IF(EQUAT!L33=0," ",EQUAT!L33) -> calculations
N64: =EQUAT!H34 -> 5ci | O64: =EQUAT!I34 -> 3 | P64: =ST3C!B61 -> 0 | Q64: =O64-P64 -> 3 | R64: =IF(EQUAT!J34=0," ",EQUAT!J34) -> bomb calorimetry | S64: =IF(EQUAT!K34=0," ",EQUAT!K34) -> calibration calorimetry | T64: =IF(EQUAT!L34=0," ",EQUAT!L34) -> calculations
N65: =EQUAT!H35 -> 5cii | O65: =EQUAT!I35 -> 2 | P65: =ST3C!B62 -> 0 | Q65: =O65-P65 -> 2 | R65: =IF(EQUAT!J35=0," ",EQUAT!J35) -> bomb calorimetry | S65: =IF(EQUAT!K35=0," ",EQUAT!K35) -> calibration calorimetry | T65: =IF(EQUAT!L35=0," ",EQUAT!L35)
N66: =EQUAT!H36 -> 5di | O66: =EQUAT!I36 -> 3 | P66: =ST3C!B63 -> 0 | Q66: =O66-P66 -> 3 | R66: =IF(EQUAT!J36=0," ",EQUAT!J36) -> Calorimetry | S66: =IF(EQUAT!K36=0," ",EQUAT!K36) | T66: =IF(EQUAT!L36=0," ",EQUAT!L36)
O68: Exam Name: | P68: =B3 -> LisaChem 2014 | S68: Name: | T68: =B5 -> Student 3
O69: Total | P69: Marks Gained | Q69: Marks Lost
N70: Qu | S70: Key Knowledge Descriptor
N71: =EQUAT!H37 -> 5dii | O71: =EQUAT!I37 -> 1 | P71: =ST3C!B64 -> 0 | Q71: =O71-P71 -> 1 | R71: =IF(EQUAT!J37=0," ",EQUAT!J37) -> Calorimetry | S71: =IF(EQUAT!K37=0," ",EQUAT!K37) -> excess and limiting reagents | T71: =IF(EQUAT!L37=0," ",EQUAT!L37)
N72: =EQUAT!H38 -> 6a | O72: =EQUAT!I38 -> 1 | P72: =ST3C!B65 -> 0 | Q72: =O72-P72 -> 1 | R72: =IF(EQUAT!J38=0," ",EQUAT!J38) -> chemical equations | S72: =IF(EQUAT!K38=0," ",EQUAT!K38) -> organic reaction pathways | T72: =IF(EQUAT!L38=0," ",EQUAT!L38)
N73: =EQUAT!H39 -> 6b | O73: =EQUAT!I39 -> 2 | P73: =ST3C!B66 -> 0 | Q73: =O73-P73 -> 2 | R73: =IF(EQUAT!J39=0," ",EQUAT!J39) -> calc delta H from chemical equations | S73: =IF(EQUAT!K39=0," ",EQUAT!K39) -> calculations | T73: =IF(EQUAT!L39=0," ",EQUAT!L39)
N74: =EQUAT!H40 -> 6c | O74: =EQUAT!I40 -> 4 | P74: =ST3C!B67 -> 0 | Q74: =O74-P74 -> 4 | R74: =IF(EQUAT!J40=0," ",EQUAT!J40) -> volume, temperature, pressure of gases | S74: =IF(EQUAT!K40=0," ",EQUAT!K40) | T74: =IF(EQUAT!L40=0," ",EQUAT!L40)
N75: =EQUAT!H41 -> 6d | O75: =EQUAT!I41 -> 3 | P75: =ST3C!B68 -> 0 | Q75: =O75-P75 -> 3 | R75: =IF(EQUAT!J41=0," ",EQUAT!J41) -> Le Chatelier principle | S75: =IF(EQUAT!K41=0," ",EQUAT!K41) | T75: =IF(EQUAT!L41=0," ",EQUAT!L41)
N76: =EQUAT!H42 -> 6e | O76: =EQUAT!I42 -> 3 | P76: =ST3C!B69 -> 0 | Q76: =O76-P76 -> 3 | R76: =IF(EQUAT!J42=0," ",EQUAT!J42) -> collision theory | S76: =IF(EQUAT!K42=0," ",EQUAT!K42) | T76: =IF(EQUAT!L42=0," ",EQUAT!L42)
N77: =EQUAT!H43 -> 6fi | O77: =EQUAT!I43 -> 6 | P77: =ST3C!B70 -> 0 | Q77: =O77-P77 -> 6 | R77: =IF(EQUAT!J43=0," ",EQUAT!J43) -> IR | S77: =IF(EQUAT!K43=0," ",EQUAT!K43) -> HNMR | T77: =IF(EQUAT!L43=0," ",EQUAT!L43) -> semi-structural formula
N78: =EQUAT!H44 -> 6fii | O78: =EQUAT!I44 -> 2 | P78: =ST3C!B71 -> 0 | Q78: =O78-P78 -> 2 | R78: =IF(EQUAT!J44=0," ",EQUAT!J44) -> organic reaction pathways | S78: =IF(EQUAT!K44=0," ",EQUAT!K44) | T78: =IF(EQUAT!L44=0," ",EQUAT!L44)
N79: =EQUAT!H45 -> 6gi | O79: =EQUAT!I45 -> 1 | P79: =ST3C!B72 -> 0 | Q79: =O79-P79 -> 1 | R79: =IF(EQUAT!J45=0," ",EQUAT!J45) -> chemical equations | S79: =IF(EQUAT!K45=0," ",EQUAT!K45) -> ethanol production | T79: =IF(EQUAT!L45=0," ",EQUAT!L45)
N80: =EQUAT!H46 -> 6gii | O80: =EQUAT!I46 -> 3 | P80: =ST3C!B73 -> 0 | Q80: =O80-P80 -> 3 | R80: =IF(EQUAT!J46=0," ",EQUAT!J46) -> properties of organic compounds | S80: =IF(EQUAT!K46=0," ",EQUAT!K46) -> ethanol production | T80: =IF(EQUAT!L46=0," ",EQUAT!L46)
N81: =EQUAT!H47 -> 6giii | O81: =EQUAT!I47 -> 1 | P81: =ST3C!B74 -> 0 | Q81: =O81-P81 -> 1 | R81: =IF(EQUAT!J47=0," ",EQUAT!J47) -> chemical equations | S81: =IF(EQUAT!K47=0," ",EQUAT!K47) -> ethanol production | T81: =IF(EQUAT!L47=0," ",EQUAT!L47)
N82: =EQUAT!H48 -> 6hi | O82: =EQUAT!I48 -> 1 | P82: =ST3C!B75 -> 0 | Q82: =O82-P82 -> 1 | R82: =IF(EQUAT!J48=0," ",EQUAT!J48) -> chemical principles fuel cell | S82: =IF(EQUAT!K48=0," ",EQUAT!K48) | T82: =IF(EQUAT!L48=0," ",EQUAT!L48)
... N95: =EQUAT!H61 -> 0 | O95: =EQUAT!I61 -> 0 | P95: =ST3C!B88 -> 0 | Q95: =O95-P95 -> 0 | R95: =IF(EQUAT!J61=0," ",EQUAT!J61) | S95: =IF(EQUAT!K61=0," ",EQUAT!K61) | T95: =IF(EQUAT!L61=0," ",EQUAT!L61)
N96: Total | O96: =SUM(O37:O95) -> 112 | P96: =SUM(P37:P95) -> 0 | Q96: =SUM(Q37:Q95) -> 112 | S96: =IF(EQUAT!K61=0," ",EQUAT!K61) | T96: =IF(EQUAT!L61=0," ",EQUAT!L61)

Sheet ST4
A1: Student Summary | O1: Exam Name: | P1: =B3 -> LisaChem 2014 | S1: Name: | T1: =B5 -> Student 4
O2: Exam Solution | P2: Student Ans | Q2: Marks Gained | R2: Total Marks Gained MC: | S2: =SUM(Q4:Q33) -> 0
A3: Exam Name: | B3: =EQUAT!C3 -> LisaChem 2014 | H3: Total | I3: Achievement | J3: % | N3: Qu | R3: Key Knowledge Descriptor
G4: Multiple Choice | H4: =ST4C!AK38 -> 30 | I4: =ST4C!AL38 -> 0 | J4: =ST4C!AM38 -> 0 | K4: =(I4/H4)*100 -> 0 | N4: =EQUAT!A7 -> 1 | O4: =EQUAT!B7 -> D | P4: ='Class Results'!F6 -> 0 | Q4: =IF(P4=O4,1,0) -> 0 | R4: =IF(EQUAT!D7=0, "",EQUAT!D7) -> amino acid | S4: =IF(EQUAT!E7=0, "",EQUAT!E7) -> systematic name | T4: =IF(EQUAT!F7=0, "",EQUAT!F7)
A5: Name | B5: ='Class Results'!F4 -> Student 4 | G5: Short Answer | H5: =ST4C!AK39 -> 112 | I5: =ST4C!AL39 -> 0 | J5: =ST4C!AM39 -> 0 | N5: =EQUAT!A8 -> 2 | O5: =EQUAT!B8 -> A | P5: ='Class Results'!F7 -> 0 | Q5: =IF(P5=O5,1,0) -> 0 | R5: =IF(EQUAT!D8=0, "",EQUAT!D8) -> calc delta H from chemical equations | S5: =IF(EQUAT!E8=0, "",EQUAT!E8) -> calculations | T5: =IF(EQUAT!F8=0, "",EQUAT!F8)
G6: Overall | H6: =SUM(H4:H5) -> 142 | I6: =SUM(I4:I5) -> 0 | J6: =(I6/H6)*100 -> 0 | N6: =EQUAT!A9 -> 3 | O6: =EQUAT!B9 -> B | P6: ='Class Results'!F8 -> 0 | Q6: =IF(P6=O6,1,0) -> 0 | R6: =IF(EQUAT!D9=0, "",EQUAT!D9) -> esters from alkenes | S6: =IF(EQUAT!E9=0, "",EQUAT!E9) | T6: =IF(EQUAT!F9=0, "",EQUAT!F9)
N7: =EQUAT!A10 -> 4 | O7: =EQUAT!B10 -> C | P7: ='Class Results'!F9 -> 0 | Q7: =IF(P7=O7,1,0) -> 0 | R7: =IF(EQUAT!D10=0, "",EQUAT!D10) -> calculations | S7: =IF(EQUAT!E10=0, "",EQUAT!E10) | T7: =IF(EQUAT!F10=0, "",EQUAT!F10)
B8: Value | C8: Gained | D8: % | N8: =EQUAT!A11 -> 5 | O8: =EQUAT!B11 -> D | P8: ='Class Results'!F10 -> 0 | Q8: =IF(P8=O8,1,0) -> 0 | R8: =IF(EQUAT!D11=0, "",EQUAT!D11) -> IR | S8: =IF(EQUAT!E11=0, "",EQUAT!E11) -> C13NMR | T8: =IF(EQUAT!F11=0, "",EQUAT!F11) -> calculations
A9: Unit 3 AOS 1 | B9: =ST4C!AL3 -> 73 | C9: =ST4C!AM3 -> 0 | D9: =ST4C!AN3 -> 0 | N9: =EQUAT!A12 -> 6 | O9: =EQUAT!B12 -> A | P9: ='Class Results'!F11 -> 0 | Q9: =IF(P9=O9,1,0) -> 0 | R9: =IF(EQUAT!D12=0, "",EQUAT!D12) -> redox titrations | S9: =IF(EQUAT!E12=0, "",EQUAT!E12) -> vol - experimental technique | T9: =IF(EQUAT!F12=0, "",EQUAT!F12)
A10: Unit 3 AOS 2 | B10: =ST4C!AL4 -> 75 | C10: =ST4C!AM4 -> 0 | D10: =ST4C!AN4 -> 0 | N10: =EQUAT!A13 -> 7 | O10: =EQUAT!B13 -> C | P10: ='Class Results'!F12 -> 0 | Q10: =IF(P10=O10,1,0) -> 0 | R10: =IF(EQUAT!D13=0, "",EQUAT!D13) -> chemical equations | S10: =IF(EQUAT!E13=0, "",EQUAT!E13) -> calculations | T10: =IF(EQUAT!F13=0, "",EQUAT!F13)
N11: =EQUAT!A14 -> 8 | O11: =EQUAT!B14 -> B | P11: ='Class Results'!F13 -> 0 | Q11: =IF(P11=O11,1,0) -> 0 | R11: =IF(EQUAT!D14=0, "",EQUAT!D14) -> galvanic cells - primary, secondary | S11: =IF(EQUAT!E14=0, "",EQUAT!E14) -> electrochemical series | T11: =IF(EQUAT!F14=0, "",EQUAT!F14) -> data book
N12: =EQUAT!A15 -> 9 | O12: =EQUAT!B15 -> B | P12: ='Class Results'!F14 -> 0 | Q12: =IF(P12=O12,1,0) -> 0 | R12: =IF(EQUAT!D15=0, "",EQUAT!D15) -> vol - experimental technique | S12: =IF(EQUAT!E15=0, "",EQUAT!E15) | T12: =IF(EQUAT!F15=0, "",EQUAT!F15)
N13: =EQUAT!A16 -> 10 | O13: =EQUAT!B16 -> B | P13: ='Class Results'!F15 -> 0 | Q13: =IF(P13=O13,1,0) -> 0 | R13: =IF(EQUAT!D16=0, "",EQUAT!D16) -> GC | S13: =IF(EQUAT!E16=0, "",EQUAT!E16) -> mass spectrometry | T13: =IF(EQUAT!F16=0, "",EQUAT!F16) -> alkanols
B14: Unit 3 | N14: =EQUAT!A17 -> 11 | O14: =EQUAT!B17 -> B | P14: ='Class Results'!F16 -> 0 | Q14: =IF(P14=O14,1,0) -> 0 | R14: =IF(EQUAT!D17=0, "",EQUAT!D17) -> calibration graph AAS or UV | S14: =IF(EQUAT!E17=0, "",EQUAT!E17) -> unit conversion | T14: =IF(EQUAT!F17=0, "",EQUAT!F17)
A15: =ST1C!AJ5 -> volumetric | B15: =ST4C!AL5 -> 8 | C15: =ST4C!AM5 -> 0 | D15: =ST4C!AN5 -> 0 | N15: =EQUAT!A18 -> 12 | O15: =EQUAT!B18 -> B | P15: ='Class Results'!F17 -> 0 | Q15: =IF(P15=O15,1,0) -> 0 | R15: =IF(EQUAT!D18=0, "",EQUAT!D18) -> volume, temperature, pressure of gases | S15: =IF(EQUAT!E18=0, "",EQUAT!E18) | T15: =IF(EQUAT!F18=0, "",EQUAT!F18)
A16: =ST1C!AJ6 -> gravimetric analysis | B16: =ST4C!AL6 -> 1 | C16: =ST4C!AM6 -> 0 | D16: =ST4C!AN6 -> 0 | N16: =EQUAT!A19 -> 13 | O16: =EQUAT!B19 -> A | P16: ='Class Results'!F18 -> 0 | Q16: =IF(P16=O16,1,0) -> 0 | R16: =IF(EQUAT!D19=0, "",EQUAT!D19) -> HNMR | S16: =IF(EQUAT!E19=0, "",EQUAT!E19) -> aspirin | T16: =IF(EQUAT!F19=0, "",EQUAT!F19)
A17: =ST1C!AJ7 -> calculations | B17: =ST4C!AL7 -> 29 | C17: =ST4C!AM7 -> 0 | D17: =ST4C!AN7 -> 0 | N17: =EQUAT!A20 -> 14 | O17: =EQUAT!B20 -> B | P17: ='Class Results'!F19 -> 0 | Q17: =IF(P17=O17,1,0) -> 0 | R17: =IF(EQUAT!D20=0, "",EQUAT!D20) -> titration curves | S17: =IF(EQUAT!E20=0, "",EQUAT!E20) -> calculations | T17: =IF(EQUAT!F20=0, "",EQUAT!F20)
A18: =ST1C!AJ8 -> chemical equations | B18: =ST4C!AL8 -> 10 | C18: =ST4C!AM8 -> 0 | D18: =ST4C!AN8 -> 0 | N18: =EQUAT!A21 -> 15 | O18: =EQUAT!B21 -> D | P18: ='Class Results'!F20 -> 0 | Q18: =IF(P18=O18,1,0) -> 0 | R18: =IF(EQUAT!D21=0, "",EQUAT!D21) -> organic reaction pathways | S18: =IF(EQUAT!E21=0, "",EQUAT!E21) -> esterification | T18: =IF(EQUAT!F21=0, "",EQUAT!F21)
A19: =ST1C!AJ9 -> chromatographic techniques | B19: =ST4C!AL9 -> 8 | C19: =ST4C!AM9 -> 0 | D19: =ST4C!AN9 -> 0 | N19: =EQUAT!A22 -> 16 | O19: =EQUAT!B22 -> A | P19: ='Class Results'!F21 -> 0 | Q19: =IF(P19=O19,1,0) -> 0 | R19: =IF(EQUAT!D22=0, "",EQUAT!D22) -> matching analytical technique | S19: =IF(EQUAT!E22=0, "",EQUAT!E22) -> AAS | T19: =IF(EQUAT!F22=0, "",EQUAT!F22)
A20: =ST1C!AJ10 -> spectroscopic techniques | B20: =ST4C!AL10 -> 16 | C20: =ST4C!AM10 -> 0 | D20: =ST4C!AN10 -> 0 | N20: =EQUAT!A23 -> 17 | O20: =EQUAT!B23 -> D | P20: ='Class Results'!F22 -> 0 | Q20: =IF(P20=O20,1,0) -> 0 | R20: =IF(EQUAT!D23=0, "",EQUAT!D23) -> galvanic primary, half & overall equations | S20: =IF(EQUAT!E23=0, "",EQUAT!E23) -> electrochemical series | T20: =IF(EQUAT!F23=0, "",EQUAT!F23) -> data book
A21: =ST1C!AJ11 -> matching analytical techniques | B21: =ST4C!AL11 -> 1 | C21: =ST4C!AM11 -> 0 | D21: =ST4C!AN11 -> 0 | N21: =EQUAT!A24 -> 18 | O21: =EQUAT!B24 -> B | P21: ='Class Results'!F23 -> 0 | Q21: =IF(P21=O21,1,0) -> 0 | R21: =IF(EQUAT!D24=0, "",EQUAT!D24) -> Ka weak acids | S21: =IF(EQUAT!E24=0, "",EQUAT!E24) -> Le Chatelier principle | T21: =IF(EQUAT!F24=0, "",EQUAT!F24)
A22: =ST1C!AJ12 -> organic structures | B22: =ST4C!AL12 -> 33 | C22: =ST4C!AM12 -> 0 | D22: =ST4C!AN12 -> 0 | N22: =EQUAT!A25 -> 19 | O22: =EQUAT!B25 -> C | P22: ='Class Results'!F24 -> 0 | Q22: =IF(P22=O22,1,0) -> 0 | R22: =IF(EQUAT!D25=0, "",EQUAT!D25) -> galcanic secondary, half & overall equations | S22: =IF(EQUAT!E25=0, "",EQUAT!E25) | T22: =IF(EQUAT!F25=0, "",EQUAT!F25)
A23: =ST1C!AJ13 -> common organic reactions | B23: =ST4C!AL13 -> 7 | C23: =ST4C!AM13 -> 0 | D23: =ST4C!AN13 -> 0 | N23: =EQUAT!A26 -> 20 | O23: =EQUAT!B26 -> D | P23: ='Class Results'!F25 -> 0 | Q23: =IF(P23=O23,1,0) -> 0 | R23: =IF(EQUAT!D26=0, "",EQUAT!D26) -> galvanic secondary, principles | S23: =IF(EQUAT!E26=0, "",EQUAT!E26) | T23: =IF(EQUAT!F26=0, "",EQUAT!F26)
A24: =ST1C!AJ14 -> chemical bonding proteins | B24: =ST4C!AL14 -> 5 | C24: =ST4C!AM14 -> 0 | D24: =ST4C!AN14 -> 0 | N24: =EQUAT!A27 -> 21 | O24: =EQUAT!B27 -> A | P24: ='Class Results'!F26 -> 0 | Q24: =IF(P24=O24,1,0) -> 0 | R24: =IF(EQUAT!D27=0, "",EQUAT!D27) -> Le Chatelier principle | S24: =IF(EQUAT!E27=0, "",EQUAT!E27) -> calc delta H from chemical equations | T24: =IF(EQUAT!F27=0, "",EQUAT!F27)
A25: =ST1C!AJ15 -> DNA | B25: =ST4C!AL15 -> 8 | C25: =ST4C!AM15 -> 0 | D25: =ST4C!AN15 -> 0 | N25: =EQUAT!A28 -> 22 | O25: =EQUAT!B28 -> D | P25: ='Class Results'!F27 -> 0 | Q25: =IF(P25=O25,1,0) -> 0 | R25: =IF(EQUAT!D28=0, "",EQUAT!D28) -> Equilibrium law | S25: =IF(EQUAT!E28=0, "",EQUAT!E28) -> calculations | T25: =IF(EQUAT!F28=0, "",EQUAT!F28)
A26: =ST1C!AJ16 -> organic reaction pathways | B26: =ST4C!AL16 -> 10 | C26: =ST4C!AM16 -> 0 | D26: =ST4C!AN16 -> 0 | N26: =EQUAT!A29 -> 23 | O26: =EQUAT!B29 -> B | P26: ='Class Results'!F28 -> 0 | Q26: =IF(P26=O26,1,0) -> 0 | R26: =IF(EQUAT!D29=0, "",EQUAT!D29) -> electrochemical series | S26: =IF(EQUAT!E29=0, "",EQUAT!E29) -> data book | T26: =IF(EQUAT!F29=0, "",EQUAT!F29)
... A28: =ST1C!AJ18 -> medicine synthesis | B28: =ST4C!AL18 -> 1 | C28: =ST4C!AM18 -> 0 | D28: =ST4C!AN18 -> 0 | N28: =EQUAT!A31 -> 25 | O28: =EQUAT!B31 -> B | P28: ='Class Results'!F30 -> 0 | Q28: =IF(P28=O28,1,0) -> 0 | R28: =IF(EQUAT!D31=0, "",EQUAT!D31) -> acid-base titrations | S28: =IF(EQUAT!E31=0, "",EQUAT!E31) -> molecular ion peak | T28: =IF(EQUAT!F31=0, "",EQUAT!F31) -> calculations
N29: =EQUAT!A32 -> 26 | O29: =EQUAT!B32 -> C | P29: ='Class Results'!F31 -> 0 | Q29: =IF(P29=O29,1,0) -> 0 | R29: =IF(EQUAT!D32=0, "",EQUAT!D32) -> vol - experimental technique | S29: =IF(EQUAT!E32=0, "",EQUAT!E32) | T29: =IF(EQUAT!F32=0, "",EQUAT!F32)
N30: =EQUAT!A33 -> 27 | O30: =EQUAT!B33 -> B | P30: ='Class Results'!F32 -> 0 | Q30: =IF(P30=O30,1,0) -> 0 | R30: =IF(EQUAT!D33=0, "",EQUAT!D33) -> Le Chatelier principle | S30: =IF(EQUAT!E33=0, "",EQUAT!E33) | T30: =IF(EQUAT!F33=0, "",EQUAT!F33)
N31: =EQUAT!A34 -> 28 | O31: =EQUAT!B34 -> C | P31: ='Class Results'!F33 -> 0 | Q31: =IF(P31=O31,1,0) -> 0 | R31: =IF(EQUAT!D34=0, "",EQUAT!D34) -> amines | S31: =IF(EQUAT!E34=0, "",EQUAT!E34) -> structural formula | T31: =IF(EQUAT!F34=0, "",EQUAT!F34) -> unit conversion
N32: =EQUAT!A35 -> 29 | O32: =EQUAT!B35 -> D | P32: ='Class Results'!F34 -> 0 | Q32: =IF(P32=O32,1,0) -> 0 | R32: =IF(EQUAT!D35=0, "",EQUAT!D35) -> titration curves | S32: =IF(EQUAT!E35=0, "",EQUAT!E35) | T32: =IF(EQUAT!F35=0, "",EQUAT!F35)
N33: =EQUAT!A36 -> 30 | O33: =EQUAT!B36 -> D | P33: ='Class Results'!F35 -> 0 | Q33: =IF(P33=O33,1,0) -> 0 | R33: =IF(EQUAT!D36=0, "",EQUAT!D36) -> grav - experimental technique | S33: =IF(EQUAT!E36=0, "",EQUAT!E36) | T33: =IF(EQUAT!F36=0, "",EQUAT!F36)
O34: Exam Name: | P34: =B3 -> LisaChem 2014 | S34: Name: | T34: =B5 -> Student 4
A35: Exam Name: | B35: =B3 -> LisaChem 2014 | O35: Total | P35: Marks Gained | Q35: Marks Lost
N36: Qu | S36: Key Knowledge Descriptor
A37: Name | B37: =B5 -> Student 4 | N37: =EQUAT!H7 -> 1a | O37: =EQUAT!I7 -> 2 | P37: =ST4C!B34 -> 0 | Q37: =O37-P37 -> 2 | R37: =IF(EQUAT!J7=0," ",EQUAT!J7) -> amino acid | S37: =IF(EQUAT!K7=0," ",EQUAT!K7) -> cond & poly - proteins | T37: =IF(EQUAT!L7=0," ",EQUAT!L7) -> amide
N38: =EQUAT!H8 -> 1b | O38: =EQUAT!I8 -> 1 | P38: =ST4C!B35 -> 0 | Q38: =O38-P38 -> 1 | R38: =IF(EQUAT!J8=0," ",EQUAT!J8) -> TLC | S38: =IF(EQUAT!K8=0," ",EQUAT!K8) -> cond & poly - proteins | T38: =IF(EQUAT!L8=0," ",EQUAT!L8) -> amide
B39: Value | C39: Gained | D39: % | N39: =EQUAT!H9 -> 1c | O39: =EQUAT!I9 -> 2 | P39: =ST4C!B36 -> 0 | Q39: =O39-P39 -> 2 | R39: =IF(EQUAT!J9=0," ",EQUAT!J9) -> structural formula | S39: =IF(EQUAT!K9=0," ",EQUAT!K9) -> cond & poly - proteins | T39: =IF(EQUAT!L9=0," ",EQUAT!L9) -> amide
A40: Unit 4 AOS 1 | B40: =ST4C!AL20 -> 32 | C40: =ST4C!AM20 -> 0 | D40: =ST4C!AN20 -> 0 | N40: =EQUAT!H10 -> 1d | O40: =EQUAT!I10 -> 2 | P40: =ST4C!B37 -> 0 | Q40: =O40-P40 -> 2 | R40: =IF(EQUAT!J10=0," ",EQUAT!J10) -> amino acid | S40: =IF(EQUAT!K10=0," ",EQUAT!K10) -> properties of organic compounds | T40: =IF(EQUAT!L10=0," ",EQUAT!L10)
A41: Unit 4 AOS 2 | B41: =ST4C!AL21 -> 58 | C41: =ST4C!AM21 -> 0 | D41: =ST4C!AN21 -> 0 | N41: =EQUAT!H11 -> 1e | O41: =EQUAT!I11 -> 3 | P41: =ST4C!B38 -> 0 | Q41: =O41-P41 -> 3 | R41: =IF(EQUAT!J11=0," ",EQUAT!J11) -> TLC | S41: =IF(EQUAT!K11=0," ",EQUAT!K11) -> chromatographic techniques | T41: =IF(EQUAT!L11=0," ",EQUAT!L11)
N42: =EQUAT!H12 -> 1f | O42: =EQUAT!I12 -> 6 | P42: =ST4C!B39 -> 0 | Q42: =O42-P42 -> 6 | R42: =IF(EQUAT!J12=0," ",EQUAT!J12) -> protein- primary, secondary, tertiary structure | S42: =IF(EQUAT!K12=0," ",EQUAT!K12) -> DNA primary structure | T42: =IF(EQUAT!L12=0," ",EQUAT!L12) -> DNA secondary structure
N43: =EQUAT!H13 -> 2ai | O43: =EQUAT!I13 -> 2 | P43: =ST4C!B40 -> 0 | Q43: =O43-P43 -> 2 | R43: =IF(EQUAT!J13=0," ",EQUAT!J13) -> unit conversion | S43: =IF(EQUAT!K13=0," ",EQUAT!K13) | T43: =IF(EQUAT!L13=0," ",EQUAT!L13)
B44: Unit 4 | N44: =EQUAT!H14 -> 2aii | O44: =EQUAT!I14 -> 1 | P44: =ST4C!B41 -> 0 | Q44: =O44-P44 -> 1 | R44: =IF(EQUAT!J14=0," ",EQUAT!J14) -> concentration | S44: =IF(EQUAT!K14=0," ",EQUAT!K14) | T44: =IF(EQUAT!L14=0," ",EQUAT!L14)
A45: =ST1C!AJ22 -> Rates of reaction | B45: =ST4C!AL22 -> 5 | C45: =ST4C!AM22 -> 0 | D45: =ST4C!AN22 -> 0 | N45: =EQUAT!H15 -> 2b | O45: =EQUAT!I15 -> 2 | P45: =ST4C!B42 -> 0 | Q45: =O45-P45 -> 2 | R45: =IF(EQUAT!J15=0," ",EQUAT!J15) -> Key Skills | S45: =IF(EQUAT!K15=0," ",EQUAT!K15) | T45: =IF(EQUAT!L15=0," ",EQUAT!L15)
A46: =ST1C!AJ23 -> Energy of reactions | B46: =ST4C!AL23 -> 12 | C46: =ST4C!AM23 -> 0 | D46: =ST4C!AN23 -> 0 | N46: =EQUAT!H16 -> 2c | O46: =EQUAT!I16 -> 1 | P46: =ST4C!B43 -> 0 | Q46: =O46-P46 -> 1 | R46: =IF(EQUAT!J16=0," ",EQUAT!J16) -> HNMR | S46: =IF(EQUAT!K16=0," ",EQUAT!K16) | T46: =IF(EQUAT!L16=0," ",EQUAT!L16)
A47: =ST1C!AJ24 -> Equilibrium | B47: =ST4C!AL24 -> 15 | C47: =ST4C!AM24 -> 0 | D47: =ST4C!AN24 -> 0 | N47: =EQUAT!H17 -> 2di | O47: =EQUAT!I17 -> 1 | P47: =ST4C!B44 -> 0 | Q47: =O47-P47 -> 1 | R47: =IF(EQUAT!J17=0," ",EQUAT!J17) -> oxidation primary alkanols | S47: =IF(EQUAT!K17=0," ",EQUAT!K17) -> structural formula | T47: =IF(EQUAT!L17=0," ",EQUAT!L17)
A48: =ST1C!AJ25 -> Application of equil & rates | B48: =ST4C!AL25 -> 0 | C48: =ST4C!AM25 -> 0 | D48: =ST4C!AN25 -> -2 | N48: =EQUAT!H18 -> 2dii | O48: =EQUAT!I18 -> 1 | P48: =ST4C!B45 -> 0 | Q48: =O48-P48 -> 1 | R48: =IF(EQUAT!J18=0," ",EQUAT!J18) -> redox equations | S48: =IF(EQUAT!K18=0," ",EQUAT!K18) | T48: =IF(EQUAT!L18=0," ",EQUAT!L18)
A49: =ST1C!AJ26 -> Energy sources renewability | B49: =ST4C!AL26 -> 8 | C49: =ST4C!AM26 -> 0 | D49: =ST4C!AN26 -> 0 | N49: =EQUAT!H19 -> 2ei | O49: =EQUAT!I19 -> 5 | P49: =ST4C!B46 -> 0 | Q49: =O49-P49 -> 5 | R49: =IF(EQUAT!J19=0," ",EQUAT!J19) -> Calorimetry | S49: =IF(EQUAT!K19=0," ",EQUAT!K19) -> unit conversion | T49: =IF(EQUAT!L19=0," ",EQUAT!L19) -> Energy sources - renewability
A50: =ST1C!AJ27 -> Calorimetry | B50: =ST4C!AL27 -> 18 | C50: =ST4C!AM27 -> 0 | D50: =ST4C!AN27 -> 0 | N50: =EQUAT!H20 -> 2eii | O50: =EQUAT!I20 -> 2 | P50: =ST4C!B47 -> 0 | Q50: =O50-P50 -> 2 | R50: =IF(EQUAT!J20=0," ",EQUAT!J20) -> Energy sources - renewability | S50: =IF(EQUAT!K20=0," ",EQUAT!K20) | T50: =IF(EQUAT!L20=0," ",EQUAT!L20)
A51: =ST1C!AJ28 -> Electrochemical Series | B51: =ST4C!AL28 -> 17 | C51: =ST4C!AM28 -> 0 | D51: =ST4C!AN28 -> 0 | N51: =EQUAT!H21 -> 2eiii | O51: =EQUAT!I21 -> 1 | P51: =ST4C!B48 -> 0 | Q51: =O51-P51 -> 1 | R51: =IF(EQUAT!J21=0," ",EQUAT!J21) -> protein- primary, secondary, tertiary structure | S51: =IF(EQUAT!K21=0," ",EQUAT!K21) -> amino acid | T51: =IF(EQUAT!L21=0," ",EQUAT!L21)
A52: =ST1C!AJ29 -> Galvanic Cells | B52: =ST4C!AL29 -> 4 | C52: =ST4C!AM29 -> 0 | D52: =ST4C!AN29 -> 0 | N52: =EQUAT!H22 -> 3ai | O52: =EQUAT!I22 -> 1 | P52: =ST4C!B49 -> 0 | Q52: =O52-P52 -> 1 | R52: =IF(EQUAT!J22=0," ",EQUAT!J22) -> chemical principles electrolytic cell | S52: =IF(EQUAT!K22=0," ",EQUAT!K22) | T52: =IF(EQUAT!L22=0," ",EQUAT!L22)
A53: =ST1C!AJ30 -> Fuel Cells | B53: =ST4C!AL30 -> 2 | C53: =ST4C!AM30 -> 0 | D53: =ST4C!AN30 -> 0 | N53: =EQUAT!H23 -> 3aii | O53: =EQUAT!I23 -> 2 | P53: =ST4C!B50 -> 0 | Q53: =O53-P53 -> 2 | R53: =IF(EQUAT!J23=0," ",EQUAT!J23) -> molten vs aqueous electrolytic cell | S53: =IF(EQUAT!K23=0," ",EQUAT!K23) -> electrochemical series | T53: =IF(EQUAT!L23=0," ",EQUAT!L23) -> data book
A54: =ST1C!AJ31 -> Electrolytic Cells | B54: =ST4C!AL31 -> 6 | C54: =ST4C!AM31 -> 0 | D54: =ST4C!AN31 -> 0 | N54: =EQUAT!H24 -> 3bi | O54: =EQUAT!I24 -> 3 | P54: =ST4C!B51 -> 0 | Q54: =O54-P54 -> 3 | R54: =IF(EQUAT!J24=0," ",EQUAT!J24) -> Faradays laws | S54: =IF(EQUAT!K24=0," ",EQUAT!K24) | T54: =IF(EQUAT!L24=0," ",EQUAT!L24)
A55: =ST1C!AJ32 -> Faradays Laws | B55: =ST4C!AL32 -> 3 | C55: =ST4C!AM32 -> 0 | D55: =ST4C!AN32 -> 0 | N55: =EQUAT!H25 -> 3bii | O55: =EQUAT!I25 -> 1 | P55: =ST4C!B52 -> 0 | Q55: =O55-P55 -> 1 | R55: =IF(EQUAT!J25=0," ",EQUAT!J25) -> chemical principles electrolytic cell | S55: =IF(EQUAT!K25=0," ",EQUAT!K25) -> electrochemical series | T55: =IF(EQUAT!L25=0," ",EQUAT!L25) -> data book
A56: =ST1C!AJ33 -> Key Skills | B56: =ST4C!AL33 -> 10 | C56: =ST4C!AM33 -> 0 | D56: =ST4C!AN33 -> 0 | N56: =EQUAT!H26 -> 3c | O56: =EQUAT!I26 -> 2 | P56: =ST4C!B53 -> 0 | Q56: =O56-P56 -> 2 | R56: =IF(EQUAT!J26=0," ",EQUAT!J26) -> molten vs aqueous electrolytic cell | S56: =IF(EQUAT!K26=0," ",EQUAT!K26) -> electrochemical series | T56: =IF(EQUAT!L26=0," ",EQUAT!L26) -> data book
N57: =EQUAT!H27 -> 4a | O57: =EQUAT!I27 -> 1 | P57: =ST4C!B54 -> 0 | Q57: =O57-P57 -> 1 | R57: =IF(EQUAT!J27=0," ",EQUAT!J27) -> Energy of reactions | S57: =IF(EQUAT!K27=0," ",EQUAT!K27) | T57: =IF(EQUAT!L27=0," ",EQUAT!L27)
N58: =EQUAT!H28 -> 4b | O58: =EQUAT!I28 -> 6 | P58: =ST4C!B55 -> 0 | Q58: =O58-P58 -> 6 | R58: =IF(EQUAT!J28=0," ",EQUAT!J28) -> Energy of reactions | S58: =IF(EQUAT!K28=0," ",EQUAT!K28) | T58: =IF(EQUAT!L28=0," ",EQUAT!L28)
N59: =EQUAT!H29 -> 4ci | O59: =EQUAT!I29 -> 1 | P59: =ST4C!B56 -> 0 | Q59: =O59-P59 -> 1 | R59: =IF(EQUAT!J29=0," ",EQUAT!J29) -> chemical equations | S59: =IF(EQUAT!K29=0," ",EQUAT!K29) | T59: =IF(EQUAT!L29=0," ",EQUAT!L29)
N60: =EQUAT!H30 -> 4cii | O60: =EQUAT!I30 -> 2 | P60: =ST4C!B57 -> 0 | Q60: =O60-P60 -> 2 | R60: =IF(EQUAT!J30=0," ",EQUAT!J30) -> collision theory | S60: =IF(EQUAT!K30=0," ",EQUAT!K30) | T60: =IF(EQUAT!L30=0," ",EQUAT!L30)
N61: =EQUAT!H31 -> 5a | O61: =EQUAT!I31 -> 1 | P61: =ST4C!B58 -> 0 | Q61: =O61-P61 -> 1 | R61: =IF(EQUAT!J31=0," ",EQUAT!J31) -> chemical equations | S61: =IF(EQUAT!K31=0," ",EQUAT!K31) | T61: =IF(EQUAT!L31=0," ",EQUAT!L31)
N62: =EQUAT!H32 -> 5bi | O62: =EQUAT!I32 -> 1 | P62: =ST4C!B59 -> 0 | Q62: =O62-P62 -> 1 | R62: =IF(EQUAT!J32=0," ",EQUAT!J32) -> Equilibrium law | S62: =IF(EQUAT!K32=0," ",EQUAT!K32) | T62: =IF(EQUAT!L32=0," ",EQUAT!L32)
N63: =EQUAT!H33 -> 5bii | O63: =EQUAT!I33 -> 3 | P63: =ST4C!B60 -> 0 | Q63: =O63-P63 -> 3 | R63: =IF(EQUAT!J33=0," ",EQUAT!J33) -> pH | S63: =IF(EQUAT!K33=0," ",EQUAT!K33) -> Ka weak acids | T63: =IF(EQUAT!L33=0," ",EQUAT!L33) -> calculations
N64: =EQUAT!H34 -> 5ci | O64: =EQUAT!I34 -> 3 | P64: =ST4C!B61 -> 0 | Q64: =O64-P64 -> 3 | R64: =IF(EQUAT!J34=0," ",EQUAT!J34) -> bomb calorimetry | S64: =IF(EQUAT!K34=0," ",EQUAT!K34) -> calibration calorimetry | T64: =IF(EQUAT!L34=0," ",EQUAT!L34) -> calculations
N65: =EQUAT!H35 -> 5cii | O65: =EQUAT!I35 -> 2 | P65: =ST4C!B62 -> 0 | Q65: =O65-P65 -> 2 | R65: =IF(EQUAT!J35=0," ",EQUAT!J35) -> bomb calorimetry | S65: =IF(EQUAT!K35=0," ",EQUAT!K35) -> calibration calorimetry | T65: =IF(EQUAT!L35=0," ",EQUAT!L35)
N66: =EQUAT!H36 -> 5di | O66: =EQUAT!I36 -> 3 | P66: =ST4C!B63 -> 0 | Q66: =O66-P66 -> 3 | R66: =IF(EQUAT!J36=0," ",EQUAT!J36) -> Calorimetry | S66: =IF(EQUAT!K36=0," ",EQUAT!K36) | T66: =IF(EQUAT!L36=0," ",EQUAT!L36)
O68: Exam Name: | P68: =B3 -> LisaChem 2014 | S68: Name: | T68: =B5 -> Student 4
O69: Total | P69: Marks Gained | Q69: Marks Lost
N70: Qu | S70: Key Knowledge Descriptor
N71: =EQUAT!H37 -> 5dii | O71: =EQUAT!I37 -> 1 | P71: =ST4C!B64 -> 0 | Q71: =O71-P71 -> 1 | R71: =IF(EQUAT!J37=0," ",EQUAT!J37) -> Calorimetry | S71: =IF(EQUAT!K37=0," ",EQUAT!K37) -> excess and limiting reagents | T71: =IF(EQUAT!L37=0," ",EQUAT!L37)
N72: =EQUAT!H38 -> 6a | O72: =EQUAT!I38 -> 1 | P72: =ST4C!B65 -> 0 | Q72: =O72-P72 -> 1 | R72: =IF(EQUAT!J38=0," ",EQUAT!J38) -> chemical equations | S72: =IF(EQUAT!K38=0," ",EQUAT!K38) -> organic reaction pathways | T72: =IF(EQUAT!L38=0," ",EQUAT!L38)
N73: =EQUAT!H39 -> 6b | O73: =EQUAT!I39 -> 2 | P73: =ST4C!B66 -> 0 | Q73: =O73-P73 -> 2 | R73: =IF(EQUAT!J39=0," ",EQUAT!J39) -> calc delta H from chemical equations | S73: =IF(EQUAT!K39=0," ",EQUAT!K39) -> calculations | T73: =IF(EQUAT!L39=0," ",EQUAT!L39)
N74: =EQUAT!H40 -> 6c | O74: =EQUAT!I40 -> 4 | P74: =ST4C!B67 -> 0 | Q74: =O74-P74 -> 4 | R74: =IF(EQUAT!J40=0," ",EQUAT!J40) -> volume, temperature, pressure of gases | S74: =IF(EQUAT!K40=0," ",EQUAT!K40) | T74: =IF(EQUAT!L40=0," ",EQUAT!L40)
N75: =EQUAT!H41 -> 6d | O75: =EQUAT!I41 -> 3 | P75: =ST4C!B68 -> 0 | Q75: =O75-P75 -> 3 | R75: =IF(EQUAT!J41=0," ",EQUAT!J41) -> Le Chatelier principle | S75: =IF(EQUAT!K41=0," ",EQUAT!K41) | T75: =IF(EQUAT!L41=0," ",EQUAT!L41)
N76: =EQUAT!H42 -> 6e | O76: =EQUAT!I42 -> 3 | P76: =ST4C!B69 -> 0 | Q76: =O76-P76 -> 3 | R76: =IF(EQUAT!J42=0," ",EQUAT!J42) -> collision theory | S76: =IF(EQUAT!K42=0," ",EQUAT!K42) | T76: =IF(EQUAT!L42=0," ",EQUAT!L42)
N77: =EQUAT!H43 -> 6fi | O77: =EQUAT!I43 -> 6 | P77: =ST4C!B70 -> 0 | Q77: =O77-P77 -> 6 | R77: =IF(EQUAT!J43=0," ",EQUAT!J43) -> IR | S77: =IF(EQUAT!K43=0," ",EQUAT!K43) -> HNMR | T77: =IF(EQUAT!L43=0," ",EQUAT!L43) -> semi-structural formula
N78: =EQUAT!H44 -> 6fii | O78: =EQUAT!I44 -> 2 | P78: =ST4C!B71 -> 0 | Q78: =O78-P78 -> 2 | R78: =IF(EQUAT!J44=0," ",EQUAT!J44) -> organic reaction pathways | S78: =IF(EQUAT!K44=0," ",EQUAT!K44) | T78: =IF(EQUAT!L44=0," ",EQUAT!L44)
N79: =EQUAT!H45 -> 6gi | O79: =EQUAT!I45 -> 1 | P79: =ST4C!B72 -> 0 | Q79: =O79-P79 -> 1 | R79: =IF(EQUAT!J45=0," ",EQUAT!J45) -> chemical equations | S79: =IF(EQUAT!K45=0," ",EQUAT!K45) -> ethanol production | T79: =IF(EQUAT!L45=0," ",EQUAT!L45)
N80: =EQUAT!H46 -> 6gii | O80: =EQUAT!I46 -> 3 | P80: =ST4C!B73 -> 0 | Q80: =O80-P80 -> 3 | R80: =IF(EQUAT!J46=0," ",EQUAT!J46) -> properties of organic compounds | S80: =IF(EQUAT!K46=0," ",EQUAT!K46) -> ethanol production | T80: =IF(EQUAT!L46=0," ",EQUAT!L46)
N81: =EQUAT!H47 -> 6giii | O81: =EQUAT!I47 -> 1 | P81: =ST4C!B74 -> 0 | Q81: =O81-P81 -> 1 | R81: =IF(EQUAT!J47=0," ",EQUAT!J47) -> chemical equations | S81: =IF(EQUAT!K47=0," ",EQUAT!K47) -> ethanol production | T81: =IF(EQUAT!L47=0," ",EQUAT!L47)
N82: =EQUAT!H48 -> 6hi | O82: =EQUAT!I48 -> 1 | P82: =ST4C!B75 -> 0 | Q82: =O82-P82 -> 1 | R82: =IF(EQUAT!J48=0," ",EQUAT!J48) -> chemical principles fuel cell | S82: =IF(EQUAT!K48=0," ",EQUAT!K48) | T82: =IF(EQUAT!L48=0," ",EQUAT!L48)
... N95: =EQUAT!H61 -> 0 | O95: =EQUAT!I61 -> 0 | P95: =ST4C!B88 -> 0 | Q95: =O95-P95 -> 0 | R95: =IF(EQUAT!J61=0," ",EQUAT!J61) | S95: =IF(EQUAT!K61=0," ",EQUAT!K61) | T95: =IF(EQUAT!L61=0," ",EQUAT!L61)
N96: Total | O96: =SUM(O37:O95) -> 112 | P96: =SUM(P37:P95) -> 0 | Q96: =SUM(Q37:Q95) -> 112 | S96: =IF(EQUAT!K61=0," ",EQUAT!K61) | T96: =IF(EQUAT!L61=0," ",EQUAT!L61)

Sheet ST6
A1: Student Summary | O1: Exam Name: | P1: =B3 -> LisaChem 2014 | S1: Name: | T1: =B5 -> Student 6
O2: Exam Solution | P2: Student Ans | Q2: Marks Gained | R2: Total Marks Gained MC: | S2: =SUM(Q4:Q33) -> 0
A3: Exam Name: | B3: =EQUAT!C3 -> LisaChem 2014 | H3: Total | I3: Achievement | J3: % | N3: Qu | R3: Key Knowledge Descriptor
G4: Multiple Choice | H4: =ST6C!AK38 -> 30 | I4: =ST6C!AL38 -> 0 | J4: =ST6C!AM38 -> 0 | K4: =(I4/H4)*100 -> 0 | N4: =EQUAT!A7 -> 1 | O4: =EQUAT!B7 -> D | P4: ='Class Results'!H6 -> 0 | Q4: =IF(P4=O4,1,0) -> 0 | R4: =IF(EQUAT!D7=0, "",EQUAT!D7) -> amino acid | S4: =IF(EQUAT!E7=0, "",EQUAT!E7) -> systematic name | T4: =IF(EQUAT!F7=0, "",EQUAT!F7)
A5: Name | B5: ='Class Results'!H4 -> Student 6 | G5: Short Answer | H5: =ST6C!AK39 -> 112 | I5: =ST6C!AL39 -> 0 | J5: =ST6C!AM39 -> 0 | N5: =EQUAT!A8 -> 2 | O5: =EQUAT!B8 -> A | P5: ='Class Results'!H7 -> 0 | Q5: =IF(P5=O5,1,0) -> 0 | R5: =IF(EQUAT!D8=0, "",EQUAT!D8) -> calc delta H from chemical equations | S5: =IF(EQUAT!E8=0, "",EQUAT!E8) -> calculations | T5: =IF(EQUAT!F8=0, "",EQUAT!F8)
G6: Overall | H6: =SUM(H4:H5) -> 142 | I6: =SUM(I4:I5) -> 0 | J6: =(I6/H6)*100 -> 0 | N6: =EQUAT!A9 -> 3 | O6: =EQUAT!B9 -> B | P6: ='Class Results'!H8 -> 0 | Q6: =IF(P6=O6,1,0) -> 0 | R6: =IF(EQUAT!D9=0, "",EQUAT!D9) -> esters from alkenes | S6: =IF(EQUAT!E9=0, "",EQUAT!E9) | T6: =IF(EQUAT!F9=0, "",EQUAT!F9)
N7: =EQUAT!A10 -> 4 | O7: =EQUAT!B10 -> C | P7: ='Class Results'!H9 -> 0 | Q7: =IF(P7=O7,1,0) -> 0 | R7: =IF(EQUAT!D10=0, "",EQUAT!D10) -> calculations | S7: =IF(EQUAT!E10=0, "",EQUAT!E10) | T7: =IF(EQUAT!F10=0, "",EQUAT!F10)
B8: Value | C8: Gained | D8: % | N8: =EQUAT!A11 -> 5 | O8: =EQUAT!B11 -> D | P8: ='Class Results'!H10 -> 0 | Q8: =IF(P8=O8,1,0) -> 0 | R8: =IF(EQUAT!D11=0, "",EQUAT!D11) -> IR | S8: =IF(EQUAT!E11=0, "",EQUAT!E11) -> C13NMR | T8: =IF(EQUAT!F11=0, "",EQUAT!F11) -> calculations
A9: Unit 3 AOS 1 | B9: =ST6C!AL3 -> 73 | C9: =ST6C!AM3 -> 0 | D9: =ST6C!AN3 -> 0 | N9: =EQUAT!A12 -> 6 | O9: =EQUAT!B12 -> A | P9: ='Class Results'!H11 -> 0 | Q9: =IF(P9=O9,1,0) -> 0 | R9: =IF(EQUAT!D12=0, "",EQUAT!D12) -> redox titrations | S9: =IF(EQUAT!E12=0, "",EQUAT!E12) -> vol - experimental technique | T9: =IF(EQUAT!F12=0, "",EQUAT!F12)
A10: Unit 3 AOS 2 | B10: =ST6C!AL4 -> 75 | C10: =ST6C!AM4 -> 0 | D10: =ST6C!AN4 -> 0 | N10: =EQUAT!A13 -> 7 | O10: =EQUAT!B13 -> C | P10: ='Class Results'!H12 -> 0 | Q10: =IF(P10=O10,1,0) -> 0 | R10: =IF(EQUAT!D13=0, "",EQUAT!D13) -> chemical equations | S10: =IF(EQUAT!E13=0, "",EQUAT!E13) -> calculations | T10: =IF(EQUAT!F13=0, "",EQUAT!F13)
N11: =EQUAT!A14 -> 8 | O11: =EQUAT!B14 -> B | P11: ='Class Results'!H13 -> 0 | Q11: =IF(P11=O11,1,0) -> 0 | R11: =IF(EQUAT!D14=0, "",EQUAT!D14) -> galvanic cells - primary, secondary | S11: =IF(EQUAT!E14=0, "",EQUAT!E14) -> electrochemical series | T11: =IF(EQUAT!F14=0, "",EQUAT!F14) -> data book
N12: =EQUAT!A15 -> 9 | O12: =EQUAT!B15 -> B | P12: ='Class Results'!H14 -> 0 | Q12: =IF(P12=O12,1,0) -> 0 | R12: =IF(EQUAT!D15=0, "",EQUAT!D15) -> vol - experimental technique | S12: =IF(EQUAT!E15=0, "",EQUAT!E15) | T12: =IF(EQUAT!F15=0, "",EQUAT!F15)
N13: =EQUAT!A16 -> 10 | O13: =EQUAT!B16 -> B | P13: ='Class Results'!H15 -> 0 | Q13: =IF(P13=O13,1,0) -> 0 | R13: =IF(EQUAT!D16=0, "",EQUAT!D16) -> GC | S13: =IF(EQUAT!E16=0, "",EQUAT!E16) -> mass spectrometry | T13: =IF(EQUAT!F16=0, "",EQUAT!F16) -> alkanols
B14: Unit 3 | N14: =EQUAT!A17 -> 11 | O14: =EQUAT!B17 -> B | P14: ='Class Results'!H16 -> 0 | Q14: =IF(P14=O14,1,0) -> 0 | R14: =IF(EQUAT!D17=0, "",EQUAT!D17) -> calibration graph AAS or UV | S14: =IF(EQUAT!E17=0, "",EQUAT!E17) -> unit conversion | T14: =IF(EQUAT!F17=0, "",EQUAT!F17)
A15: =ST1C!AJ5 -> volumetric | B15: =ST6C!AL5 -> 8 | C15: =ST6C!AM5 -> 0 | D15: =ST6C!AN5 -> 0 | N15: =EQUAT!A18 -> 12 | O15: =EQUAT!B18 -> B | P15: ='Class Results'!H17 -> 0 | Q15: =IF(P15=O15,1,0) -> 0 | R15: =IF(EQUAT!D18=0, "",EQUAT!D18) -> volume, temperature, pressure of gases | S15: =IF(EQUAT!E18=0, "",EQUAT!E18) | T15: =IF(EQUAT!F18=0, "",EQUAT!F18)
A16: =ST1C!AJ6 -> gravimetric analysis | B16: =ST6C!AL6 -> 1 | C16: =ST6C!AM6 -> 0 | D16: =ST6C!AN6 -> 0 | N16: =EQUAT!A19 -> 13 | O16: =EQUAT!B19 -> A | P16: ='Class Results'!H18 -> 0 | Q16: =IF(P16=O16,1,0) -> 0 | R16: =IF(EQUAT!D19=0, "",EQUAT!D19) -> HNMR | S16: =IF(EQUAT!E19=0, "",EQUAT!E19) -> aspirin | T16: =IF(EQUAT!F19=0, "",EQUAT!F19)
A17: =ST1C!AJ7 -> calculations | B17: =ST6C!AL7 -> 29 | C17: =ST6C!AM7 -> 0 | D17: =ST6C!AN7 -> 0 | N17: =EQUAT!A20 -> 14 | O17: =EQUAT!B20 -> B | P17: ='Class Results'!H19 -> 0 | Q17: =IF(P17=O17,1,0) -> 0 | R17: =IF(EQUAT!D20=0, "",EQUAT!D20) -> titration curves | S17: =IF(EQUAT!E20=0, "",EQUAT!E20) -> calculations | T17: =IF(EQUAT!F20=0, "",EQUAT!F20)
A18: =ST1C!AJ8 -> chemical equations | B18: =ST6C!AL8 -> 10 | C18: =ST6C!AM8 -> 0 | D18: =ST6C!AN8 -> 0 | N18: =EQUAT!A21 -> 15 | O18: =EQUAT!B21 -> D | P18: ='Class Results'!H20 -> 0 | Q18: =IF(P18=O18,1,0) -> 0 | R18: =IF(EQUAT!D21=0, "",EQUAT!D21) -> organic reaction pathways | S18: =IF(EQUAT!E21=0, "",EQUAT!E21) -> esterification | T18: =IF(EQUAT!F21=0, "",EQUAT!F21)
A19: =ST1C!AJ9 -> chromatographic techniques | B19: =ST6C!AL9 -> 8 | C19: =ST6C!AM9 -> 0 | D19: =ST6C!AN9 -> 0 | N19: =EQUAT!A22 -> 16 | O19: =EQUAT!B22 -> A | P19: ='Class Results'!H21 -> 0 | Q19: =IF(P19=O19,1,0) -> 0 | R19: =IF(EQUAT!D22=0, "",EQUAT!D22) -> matching analytical technique | S19: =IF(EQUAT!E22=0, "",EQUAT!E22) -> AAS | T19: =IF(EQUAT!F22=0, "",EQUAT!F22)
A20: =ST1C!AJ10 -> spectroscopic techniques | B20: =ST6C!AL10 -> 16 | C20: =ST6C!AM10 -> 0 | D20: =ST6C!AN10 -> 0 | N20: =EQUAT!A23 -> 17 | O20: =EQUAT!B23 -> D | P20: ='Class Results'!H22 -> 0 | Q20: =IF(P20=O20,1,0) -> 0 | R20: =IF(EQUAT!D23=0, "",EQUAT!D23) -> galvanic primary, half & overall equations | S20: =IF(EQUAT!E23=0, "",EQUAT!E23) -> electrochemical series | T20: =IF(EQUAT!F23=0, "",EQUAT!F23) -> data book
A21: =ST1C!AJ11 -> matching analytical techniques | B21: =ST6C!AL11 -> 1 | C21: =ST6C!AM11 -> 0 | D21: =ST6C!AN11 -> 0 | N21: =EQUAT!A24 -> 18 | O21: =EQUAT!B24 -> B | P21: ='Class Results'!H23 -> 0 | Q21: =IF(P21=O21,1,0) -> 0 | R21: =IF(EQUAT!D24=0, "",EQUAT!D24) -> Ka weak acids | S21: =IF(EQUAT!E24=0, "",EQUAT!E24) -> Le Chatelier principle | T21: =IF(EQUAT!F24=0, "",EQUAT!F24)
A22: =ST1C!AJ12 -> organic structures | B22: =ST6C!AL12 -> 33 | C22: =ST6C!AM12 -> 0 | D22: =ST6C!AN12 -> 0 | N22: =EQUAT!A25 -> 19 | O22: =EQUAT!B25 -> C | P22: ='Class Results'!H24 -> 0 | Q22: =IF(P22=O22,1,0) -> 0 | R22: =IF(EQUAT!D25=0, "",EQUAT!D25) -> galcanic secondary, half & overall equations | S22: =IF(EQUAT!E25=0, "",EQUAT!E25) | T22: =IF(EQUAT!F25=0, "",EQUAT!F25)
A23: =ST1C!AJ13 -> common organic reactions | B23: =ST6C!AL13 -> 7 | C23: =ST6C!AM13 -> 0 | D23: =ST6C!AN13 -> 0 | N23: =EQUAT!A26 -> 20 | O23: =EQUAT!B26 -> D | P23: ='Class Results'!H25 -> 0 | Q23: =IF(P23=O23,1,0) -> 0 | R23: =IF(EQUAT!D26=0, "",EQUAT!D26) -> galvanic secondary, principles | S23: =IF(EQUAT!E26=0, "",EQUAT!E26) | T23: =IF(EQUAT!F26=0, "",EQUAT!F26)
A24: =ST1C!AJ14 -> chemical bonding proteins | B24: =ST6C!AL14 -> 5 | C24: =ST6C!AM14 -> 0 | D24: =ST6C!AN14 -> 0 | N24: =EQUAT!A27 -> 21 | O24: =EQUAT!B27 -> A | P24: ='Class Results'!H26 -> 0 | Q24: =IF(P24=O24,1,0) -> 0 | R24: =IF(EQUAT!D27=0, "",EQUAT!D27) -> Le Chatelier principle | S24: =IF(EQUAT!E27=0, "",EQUAT!E27) -> calc delta H from chemical equations | T24: =IF(EQUAT!F27=0, "",EQUAT!F27)
A25: =ST1C!AJ15 -> DNA | B25: =ST6C!AL15 -> 8 | C25: =ST6C!AM15 -> 0 | D25: =ST6C!AN15 -> 0 | N25: =EQUAT!A28 -> 22 | O25: =EQUAT!B28 -> D | P25: ='Class Results'!H27 -> 0 | Q25: =IF(P25=O25,1,0) -> 0 | R25: =IF(EQUAT!D28=0, "",EQUAT!D28) -> Equilibrium law | S25: =IF(EQUAT!E28=0, "",EQUAT!E28) -> calculations | T25: =IF(EQUAT!F28=0, "",EQUAT!F28)
A26: =ST1C!AJ16 -> organic reaction pathways | B26: =ST6C!AL16 -> 10 | C26: =ST6C!AM16 -> 0 | D26: =ST6C!AN16 -> 0 | N26: =EQUAT!A29 -> 23 | O26: =EQUAT!B29 -> B | P26: ='Class Results'!H28 -> 0 | Q26: =IF(P26=O26,1,0) -> 0 | R26: =IF(EQUAT!D29=0, "",EQUAT!D29) -> electrochemical series | S26: =IF(EQUAT!E29=0, "",EQUAT!E29) -> data book | T26: =IF(EQUAT!F29=0, "",EQUAT!F29)
... A28: =ST1C!AJ18 -> medicine synthesis | B28: =ST6C!AL18 -> 1 | C28: =ST6C!AM18 -> 0 | D28: =ST6C!AN18 -> 0 | N28: =EQUAT!A31 -> 25 | O28: =EQUAT!B31 -> B | P28: ='Class Results'!H30 -> 0 | Q28: =IF(P28=O28,1,0) -> 0 | R28: =IF(EQUAT!D31=0, "",EQUAT!D31) -> acid-base titrations | S28: =IF(EQUAT!E31=0, "",EQUAT!E31) -> molecular ion peak | T28: =IF(EQUAT!F31=0, "",EQUAT!F31) -> calculations
N29: =EQUAT!A32 -> 26 | O29: =EQUAT!B32 -> C | P29: ='Class Results'!H31 -> 0 | Q29: =IF(P29=O29,1,0) -> 0 | R29: =IF(EQUAT!D32=0, "",EQUAT!D32) -> vol - experimental technique | S29: =IF(EQUAT!E32=0, "",EQUAT!E32) | T29: =IF(EQUAT!F32=0, "",EQUAT!F32)
N30: =EQUAT!A33 -> 27 | O30: =EQUAT!B33 -> B | P30: ='Class Results'!H32 -> 0 | Q30: =IF(P30=O30,1,0) -> 0 | R30: =IF(EQUAT!D33=0, "",EQUAT!D33) -> Le Chatelier principle | S30: =IF(EQUAT!E33=0, "",EQUAT!E33) | T30: =IF(EQUAT!F33=0, "",EQUAT!F33)
N31: =EQUAT!A34 -> 28 | O31: =EQUAT!B34 -> C | P31: ='Class Results'!H33 -> 0 | Q31: =IF(P31=O31,1,0) -> 0 | R31: =IF(EQUAT!D34=0, "",EQUAT!D34) -> amines | S31: =IF(EQUAT!E34=0, "",EQUAT!E34) -> structural formula | T31: =IF(EQUAT!F34=0, "",EQUAT!F34) -> unit conversion
N32: =EQUAT!A35 -> 29 | O32: =EQUAT!B35 -> D | P32: ='Class Results'!H34 -> 0 | Q32: =IF(P32=O32,1,0) -> 0 | R32: =IF(EQUAT!D35=0, "",EQUAT!D35) -> titration curves | S32: =IF(EQUAT!E35=0, "",EQUAT!E35) | T32: =IF(EQUAT!F35=0, "",EQUAT!F35)
N33: =EQUAT!A36 -> 30 | O33: =EQUAT!B36 -> D | P33: ='Class Results'!H35 -> 0 | Q33: =IF(P33=O33,1,0) -> 0 | R33: =IF(EQUAT!D36=0, "",EQUAT!D36) -> grav - experimental technique | S33: =IF(EQUAT!E36=0, "",EQUAT!E36) | T33: =IF(EQUAT!F36=0, "",EQUAT!F36)
O34: Exam Name: | P34: =B3 -> LisaChem 2014 | S34: Name: | T34: =B5 -> Student 6
A35: Exam Name: | B35: =B3 -> LisaChem 2014 | O35: Total | P35: Marks Gained | Q35: Marks Lost
N36: Qu | S36: Key Knowledge Descriptor
A37: Name | B37: =B5 -> Student 6 | N37: =EQUAT!H7 -> 1a | O37: =EQUAT!I7 -> 2 | P37: =ST6C!B34 -> 0 | Q37: =O37-P37 -> 2 | R37: =IF(EQUAT!J7=0," ",EQUAT!J7) -> amino acid | S37: =IF(EQUAT!K7=0," ",EQUAT!K7) -> cond & poly - proteins | T37: =IF(EQUAT!L7=0," ",EQUAT!L7) -> amide
N38: =EQUAT!H8 -> 1b | O38: =EQUAT!I8 -> 1 | P38: =ST6C!B35 -> 0 | Q38: =O38-P38 -> 1 | R38: =IF(EQUAT!J8=0," ",EQUAT!J8) -> TLC | S38: =IF(EQUAT!K8=0," ",EQUAT!K8) -> cond & poly - proteins | T38: =IF(EQUAT!L8=0," ",EQUAT!L8) -> amide
B39: Value | C39: Gained | D39: % | N39: =EQUAT!H9 -> 1c | O39: =EQUAT!I9 -> 2 | P39: =ST6C!B36 -> 0 | Q39: =O39-P39 -> 2 | R39: =IF(EQUAT!J9=0," ",EQUAT!J9) -> structural formula | S39: =IF(EQUAT!K9=0," ",EQUAT!K9) -> cond & poly - proteins | T39: =IF(EQUAT!L9=0," ",EQUAT!L9) -> amide
A40: Unit 4 AOS 1 | B40: =ST6C!AL20 -> 32 | C40: =ST6C!AM20 -> 0 | D40: =ST6C!AN20 -> 0 | N40: =EQUAT!H10 -> 1d | O40: =EQUAT!I10 -> 2 | P40: =ST6C!B37 -> 0 | Q40: =O40-P40 -> 2 | R40: =IF(EQUAT!J10=0," ",EQUAT!J10) -> amino acid | S40: =IF(EQUAT!K10=0," ",EQUAT!K10) -> properties of organic compounds | T40: =IF(EQUAT!L10=0," ",EQUAT!L10)
A41: Unit 4 AOS 2 | B41: =ST6C!AL21 -> 58 | C41: =ST6C!AM21 -> 0 | D41: =ST6C!AN21 -> 0 | N41: =EQUAT!H11 -> 1e | O41: =EQUAT!I11 -> 3 | P41: =ST6C!B38 -> 0 | Q41: =O41-P41 -> 3 | R41: =IF(EQUAT!J11=0," ",EQUAT!J11) -> TLC | S41: =IF(EQUAT!K11=0," ",EQUAT!K11) -> chromatographic techniques | T41: =IF(EQUAT!L11=0," ",EQUAT!L11)
N42: =EQUAT!H12 -> 1f | O42: =EQUAT!I12 -> 6 | P42: =ST6C!B39 -> 0 | Q42: =O42-P42 -> 6 | R42: =IF(EQUAT!J12=0," ",EQUAT!J12) -> protein- primary, secondary, tertiary structure | S42: =IF(EQUAT!K12=0," ",EQUAT!K12) -> DNA primary structure | T42: =IF(EQUAT!L12=0," ",EQUAT!L12) -> DNA secondary structure
N43: =EQUAT!H13 -> 2ai | O43: =EQUAT!I13 -> 2 | P43: =ST6C!B40 -> 0 | Q43: =O43-P43 -> 2 | R43: =IF(EQUAT!J13=0," ",EQUAT!J13) -> unit conversion | S43: =IF(EQUAT!K13=0," ",EQUAT!K13) | T43: =IF(EQUAT!L13=0," ",EQUAT!L13)
B44: Unit 4 | N44: =EQUAT!H14 -> 2aii | O44: =EQUAT!I14 -> 1 | P44: =ST6C!B41 -> 0 | Q44: =O44-P44 -> 1 | R44: =IF(EQUAT!J14=0," ",EQUAT!J14) -> concentration | S44: =IF(EQUAT!K14=0," ",EQUAT!K14) | T44: =IF(EQUAT!L14=0," ",EQUAT!L14)
A45: =ST1C!AJ22 -> Rates of reaction | B45: =ST6C!AL22 -> 5 | C45: =ST6C!AM22 -> 0 | D45: =ST6C!AN22 -> 0 | N45: =EQUAT!H15 -> 2b | O45: =EQUAT!I15 -> 2 | P45: =ST6C!B42 -> 0 | Q45: =O45-P45 -> 2 | R45: =IF(EQUAT!J15=0," ",EQUAT!J15) -> Key Skills | S45: =IF(EQUAT!K15=0," ",EQUAT!K15) | T45: =IF(EQUAT!L15=0," ",EQUAT!L15)
A46: =ST1C!AJ23 -> Energy of reactions | B46: =ST6C!AL23 -> 12 | C46: =ST6C!AM23 -> 0 | D46: =ST6C!AN23 -> 0 | N46: =EQUAT!H16 -> 2c | O46: =EQUAT!I16 -> 1 | P46: =ST6C!B43 -> 0 | Q46: =O46-P46 -> 1 | R46: =IF(EQUAT!J16=0," ",EQUAT!J16) -> HNMR | S46: =IF(EQUAT!K16=0," ",EQUAT!K16) | T46: =IF(EQUAT!L16=0," ",EQUAT!L16)
A47: =ST1C!AJ24 -> Equilibrium | B47: =ST6C!AL24 -> 15 | C47: =ST6C!AM24 -> 0 | D47: =ST6C!AN24 -> 0 | N47: =EQUAT!H17 -> 2di | O47: =EQUAT!I17 -> 1 | P47: =ST6C!B44 -> 0 | Q47: =O47-P47 -> 1 | R47: =IF(EQUAT!J17=0," ",EQUAT!J17) -> oxidation primary alkanols | S47: =IF(EQUAT!K17=0," ",EQUAT!K17) -> structural formula | T47: =IF(EQUAT!L17=0," ",EQUAT!L17)
A48: =ST1C!AJ25 -> Application of equil & rates | B48: =ST6C!AL25 -> 0 | C48: =ST6C!AM25 -> 0 | D48: =ST6C!AN25 -> -2 | N48: =EQUAT!H18 -> 2dii | O48: =EQUAT!I18 -> 1 | P48: =ST6C!B45 -> 0 | Q48: =O48-P48 -> 1 | R48: =IF(EQUAT!J18=0," ",EQUAT!J18) -> redox equations | S48: =IF(EQUAT!K18=0," ",EQUAT!K18) | T48: =IF(EQUAT!L18=0," ",EQUAT!L18)
A49: =ST1C!AJ26 -> Energy sources renewability | B49: =ST6C!AL26 -> 8 | C49: =ST6C!AM26 -> 0 | D49: =ST6C!AN26 -> 0 | N49: =EQUAT!H19 -> 2ei | O49: =EQUAT!I19 -> 5 | P49: =ST6C!B46 -> 0 | Q49: =O49-P49 -> 5 | R49: =IF(EQUAT!J19=0," ",EQUAT!J19) -> Calorimetry | S49: =IF(EQUAT!K19=0," ",EQUAT!K19) -> unit conversion | T49: =IF(EQUAT!L19=0," ",EQUAT!L19) -> Energy sources - renewability
A50: =ST1C!AJ27 -> Calorimetry | B50: =ST6C!AL27 -> 18 | C50: =ST6C!AM27 -> 0 | D50: =ST6C!AN27 -> 0 | N50: =EQUAT!H20 -> 2eii | O50: =EQUAT!I20 -> 2 | P50: =ST6C!B47 -> 0 | Q50: =O50-P50 -> 2 | R50: =IF(EQUAT!J20=0," ",EQUAT!J20) -> Energy sources - renewability | S50: =IF(EQUAT!K20=0," ",EQUAT!K20) | T50: =IF(EQUAT!L20=0," ",EQUAT!L20)
A51: =ST1C!AJ28 -> Electrochemical Series | B51: =ST6C!AL28 -> 17 | C51: =ST6C!AM28 -> 0 | D51: =ST6C!AN28 -> 0 | N51: =EQUAT!H21 -> 2eiii | O51: =EQUAT!I21 -> 1 | P51: =ST6C!B48 -> 0 | Q51: =O51-P51 -> 1 | R51: =IF(EQUAT!J21=0," ",EQUAT!J21) -> protein- primary, secondary, tertiary structure | S51: =IF(EQUAT!K21=0," ",EQUAT!K21) -> amino acid | T51: =IF(EQUAT!L21=0," ",EQUAT!L21)
A52: =ST1C!AJ29 -> Galvanic Cells | B52: =ST6C!AL29 -> 4 | C52: =ST6C!AM29 -> 0 | D52: =ST6C!AN29 -> 0 | N52: =EQUAT!H22 -> 3ai | O52: =EQUAT!I22 -> 1 | P52: =ST6C!B49 -> 0 | Q52: =O52-P52 -> 1 | R52: =IF(EQUAT!J22=0," ",EQUAT!J22) -> chemical principles electrolytic cell | S52: =IF(EQUAT!K22=0," ",EQUAT!K22) | T52: =IF(EQUAT!L22=0," ",EQUAT!L22)
A53: =ST1C!AJ30 -> Fuel Cells | B53: =ST6C!AL30 -> 2 | C53: =ST6C!AM30 -> 0 | D53: =ST6C!AN30 -> 0 | N53: =EQUAT!H23 -> 3aii | O53: =EQUAT!I23 -> 2 | P53: =ST6C!B50 -> 0 | Q53: =O53-P53 -> 2 | R53: =IF(EQUAT!J23=0," ",EQUAT!J23) -> molten vs aqueous electrolytic cell | S53: =IF(EQUAT!K23=0," ",EQUAT!K23) -> electrochemical series | T53: =IF(EQUAT!L23=0," ",EQUAT!L23) -> data book
A54: =ST1C!AJ31 -> Electrolytic Cells | B54: =ST6C!AL31 -> 6 | C54: =ST6C!AM31 -> 0 | D54: =ST6C!AN31 -> 0 | N54: =EQUAT!H24 -> 3bi | O54: =EQUAT!I24 -> 3 | P54: =ST6C!B51 -> 0 | Q54: =O54-P54 -> 3 | R54: =IF(EQUAT!J24=0," ",EQUAT!J24) -> Faradays laws | S54: =IF(EQUAT!K24=0," ",EQUAT!K24) | T54: =IF(EQUAT!L24=0," ",EQUAT!L24)
A55: =ST1C!AJ32 -> Faradays Laws | B55: =ST6C!AL32 -> 3 | C55: =ST6C!AM32 -> 0 | D55: =ST6C!AN32 -> 0 | N55: =EQUAT!H25 -> 3bii | O55: =EQUAT!I25 -> 1 | P55: =ST6C!B52 -> 0 | Q55: =O55-P55 -> 1 | R55: =IF(EQUAT!J25=0," ",EQUAT!J25) -> chemical principles electrolytic cell | S55: =IF(EQUAT!K25=0," ",EQUAT!K25) -> electrochemical series | T55: =IF(EQUAT!L25=0," ",EQUAT!L25) -> data book
A56: =ST1C!AJ33 -> Key Skills | B56: =ST6C!AL33 -> 10 | C56: =ST6C!AM33 -> 0 | D56: =ST6C!AN33 -> 0 | N56: =EQUAT!H26 -> 3c | O56: =EQUAT!I26 -> 2 | P56: =ST6C!B53 -> 0 | Q56: =O56-P56 -> 2 | R56: =IF(EQUAT!J26=0," ",EQUAT!J26) -> molten vs aqueous electrolytic cell | S56: =IF(EQUAT!K26=0," ",EQUAT!K26) -> electrochemical series | T56: =IF(EQUAT!L26=0," ",EQUAT!L26) -> data book
N57: =EQUAT!H27 -> 4a | O57: =EQUAT!I27 -> 1 | P57: =ST6C!B54 -> 0 | Q57: =O57-P57 -> 1 | R57: =IF(EQUAT!J27=0," ",EQUAT!J27) -> Energy of reactions | S57: =IF(EQUAT!K27=0," ",EQUAT!K27) | T57: =IF(EQUAT!L27=0," ",EQUAT!L27)
N58: =EQUAT!H28 -> 4b | O58: =EQUAT!I28 -> 6 | P58: =ST6C!B55 -> 0 | Q58: =O58-P58 -> 6 | R58: =IF(EQUAT!J28=0," ",EQUAT!J28) -> Energy of reactions | S58: =IF(EQUAT!K28=0," ",EQUAT!K28) | T58: =IF(EQUAT!L28=0," ",EQUAT!L28)
N59: =EQUAT!H29 -> 4ci | O59: =EQUAT!I29 -> 1 | P59: =ST6C!B56 -> 0 | Q59: =O59-P59 -> 1 | R59: =IF(EQUAT!J29=0," ",EQUAT!J29) -> chemical equations | S59: =IF(EQUAT!K29=0," ",EQUAT!K29) | T59: =IF(EQUAT!L29=0," ",EQUAT!L29)
N60: =EQUAT!H30 -> 4cii | O60: =EQUAT!I30 -> 2 | P60: =ST6C!B57 -> 0 | Q60: =O60-P60 -> 2 | R60: =IF(EQUAT!J30=0," ",EQUAT!J30) -> collision theory | S60: =IF(EQUAT!K30=0," ",EQUAT!K30) | T60: =IF(EQUAT!L30=0," ",EQUAT!L30)
N61: =EQUAT!H31 -> 5a | O61: =EQUAT!I31 -> 1 | P61: =ST6C!B58 -> 0 | Q61: =O61-P61 -> 1 | R61: =IF(EQUAT!J31=0," ",EQUAT!J31) -> chemical equations | S61: =IF(EQUAT!K31=0," ",EQUAT!K31) | T61: =IF(EQUAT!L31=0," ",EQUAT!L31)
N62: =EQUAT!H32 -> 5bi | O62: =EQUAT!I32 -> 1 | P62: =ST6C!B59 -> 0 | Q62: =O62-P62 -> 1 | R62: =IF(EQUAT!J32=0," ",EQUAT!J32) -> Equilibrium law | S62: =IF(EQUAT!K32=0," ",EQUAT!K32) | T62: =IF(EQUAT!L32=0," ",EQUAT!L32)
N63: =EQUAT!H33 -> 5bii | O63: =EQUAT!I33 -> 3 | P63: =ST6C!B60 -> 0 | Q63: =O63-P63 -> 3 | R63: =IF(EQUAT!J33=0," ",EQUAT!J33) -> pH | S63: =IF(EQUAT!K33=0," ",EQUAT!K33) -> Ka weak acids | T63: =IF(EQUAT!L33=0," ",EQUAT!L33) -> calculations
N64: =EQUAT!H34 -> 5ci | O64: =EQUAT!I34 -> 3 | P64: =ST6C!B61 -> 0 | Q64: =O64-P64 -> 3 | R64: =IF(EQUAT!J34=0," ",EQUAT!J34) -> bomb calorimetry | S64: =IF(EQUAT!K34=0," ",EQUAT!K34) -> calibration calorimetry | T64: =IF(EQUAT!L34=0," ",EQUAT!L34) -> calculations
N65: =EQUAT!H35 -> 5cii | O65: =EQUAT!I35 -> 2 | P65: =ST6C!B62 -> 0 | Q65: =O65-P65 -> 2 | R65: =IF(EQUAT!J35=0," ",EQUAT!J35) -> bomb calorimetry | S65: =IF(EQUAT!K35=0," ",EQUAT!K35) -> calibration calorimetry | T65: =IF(EQUAT!L35=0," ",EQUAT!L35)
N66: =EQUAT!H36 -> 5di | O66: =EQUAT!I36 -> 3 | P66: =ST6C!B63 -> 0 | Q66: =O66-P66 -> 3 | R66: =IF(EQUAT!J36=0," ",EQUAT!J36) -> Calorimetry | S66: =IF(EQUAT!K36=0," ",EQUAT!K36) | T66: =IF(EQUAT!L36=0," ",EQUAT!L36)
O68: Exam Name: | P68: =B3 -> LisaChem 2014 | S68: Name: | T68: =B5 -> Student 6
O69: Total | P69: Marks Gained | Q69: Marks Lost
N70: Qu | S70: Key Knowledge Descriptor
N71: =EQUAT!H37 -> 5dii | O71: =EQUAT!I37 -> 1 | P71: =ST6C!B64 -> 0 | Q71: =O71-P71 -> 1 | R71: =IF(EQUAT!J37=0," ",EQUAT!J37) -> Calorimetry | S71: =IF(EQUAT!K37=0," ",EQUAT!K37) -> excess and limiting reagents | T71: =IF(EQUAT!L37=0," ",EQUAT!L37)
N72: =EQUAT!H38 -> 6a | O72: =EQUAT!I38 -> 1 | P72: =ST6C!B65 -> 0 | Q72: =O72-P72 -> 1 | R72: =IF(EQUAT!J38=0," ",EQUAT!J38) -> chemical equations | S72: =IF(EQUAT!K38=0," ",EQUAT!K38) -> organic reaction pathways | T72: =IF(EQUAT!L38=0," ",EQUAT!L38)
N73: =EQUAT!H39 -> 6b | O73: =EQUAT!I39 -> 2 | P73: =ST6C!B66 -> 0 | Q73: =O73-P73 -> 2 | R73: =IF(EQUAT!J39=0," ",EQUAT!J39) -> calc delta H from chemical equations | S73: =IF(EQUAT!K39=0," ",EQUAT!K39) -> calculations | T73: =IF(EQUAT!L39=0," ",EQUAT!L39)
N74: =EQUAT!H40 -> 6c | O74: =EQUAT!I40 -> 4 | P74: =ST6C!B67 -> 0 | Q74: =O74-P74 -> 4 | R74: =IF(EQUAT!J40=0," ",EQUAT!J40) -> volume, temperature, pressure of gases | S74: =IF(EQUAT!K40=0," ",EQUAT!K40) | T74: =IF(EQUAT!L40=0," ",EQUAT!L40)
N75: =EQUAT!H41 -> 6d | O75: =EQUAT!I41 -> 3 | P75: =ST6C!B68 -> 0 | Q75: =O75-P75 -> 3 | R75: =IF(EQUAT!J41=0," ",EQUAT!J41) -> Le Chatelier principle | S75: =IF(EQUAT!K41=0," ",EQUAT!K41) | T75: =IF(EQUAT!L41=0," ",EQUAT!L41)
N76: =EQUAT!H42 -> 6e | O76: =EQUAT!I42 -> 3 | P76: =ST6C!B69 -> 0 | Q76: =O76-P76 -> 3 | R76: =IF(EQUAT!J42=0," ",EQUAT!J42) -> collision theory | S76: =IF(EQUAT!K42=0," ",EQUAT!K42) | T76: =IF(EQUAT!L42=0," ",EQUAT!L42)
N77: =EQUAT!H43 -> 6fi | O77: =EQUAT!I43 -> 6 | P77: =ST6C!B70 -> 0 | Q77: =O77-P77 -> 6 | R77: =IF(EQUAT!J43=0," ",EQUAT!J43) -> IR | S77: =IF(EQUAT!K43=0," ",EQUAT!K43) -> HNMR | T77: =IF(EQUAT!L43=0," ",EQUAT!L43) -> semi-structural formula
N78: =EQUAT!H44 -> 6fii | O78: =EQUAT!I44 -> 2 | P78: =ST6C!B71 -> 0 | Q78: =O78-P78 -> 2 | R78: =IF(EQUAT!J44=0," ",EQUAT!J44) -> organic reaction pathways | S78: =IF(EQUAT!K44=0," ",EQUAT!K44) | T78: =IF(EQUAT!L44=0," ",EQUAT!L44)
N79: =EQUAT!H45 -> 6gi | O79: =EQUAT!I45 -> 1 | P79: =ST6C!B72 -> 0 | Q79: =O79-P79 -> 1 | R79: =IF(EQUAT!J45=0," ",EQUAT!J45) -> chemical equations | S79: =IF(EQUAT!K45=0," ",EQUAT!K45) -> ethanol production | T79: =IF(EQUAT!L45=0," ",EQUAT!L45)
N80: =EQUAT!H46 -> 6gii | O80: =EQUAT!I46 -> 3 | P80: =ST6C!B73 -> 0 | Q80: =O80-P80 -> 3 | R80: =IF(EQUAT!J46=0," ",EQUAT!J46) -> properties of organic compounds | S80: =IF(EQUAT!K46=0," ",EQUAT!K46) -> ethanol production | T80: =IF(EQUAT!L46=0," ",EQUAT!L46)
N81: =EQUAT!H47 -> 6giii | O81: =EQUAT!I47 -> 1 | P81: =ST6C!B74 -> 0 | Q81: =O81-P81 -> 1 | R81: =IF(EQUAT!J47=0," ",EQUAT!J47) -> chemical equations | S81: =IF(EQUAT!K47=0," ",EQUAT!K47) -> ethanol production | T81: =IF(EQUAT!L47=0," ",EQUAT!L47)
N82: =EQUAT!H48 -> 6hi | O82: =EQUAT!I48 -> 1 | P82: =ST6C!B75 -> 0 | Q82: =O82-P82 -> 1 | R82: =IF(EQUAT!J48=0," ",EQUAT!J48) -> chemical principles fuel cell | S82: =IF(EQUAT!K48=0," ",EQUAT!K48) | T82: =IF(EQUAT!L48=0," ",EQUAT!L48)
... N95: =EQUAT!H61 -> 0 | O95: =EQUAT!I61 -> 0 | P95: =ST6C!B88 -> 0 | Q95: =O95-P95 -> 0 | R95: =IF(EQUAT!J61=0," ",EQUAT!J61) | S95: =IF(EQUAT!K61=0," ",EQUAT!K61) | T95: =IF(EQUAT!L61=0," ",EQUAT!L61)
N96: Total | O96: =SUM(O37:O95) -> 112 | P96: =SUM(P37:P95) -> 0 | Q96: =SUM(Q37:Q95) -> 112 | S96: =IF(EQUAT!K61=0," ",EQUAT!K61) | T96: =IF(EQUAT!L61=0," ",EQUAT!L61)

Sheet ST7
A1: Student Summary | O1: Exam Name: | P1: =B3 -> LisaChem 2014 | S1: Name: | T1: =B5 -> Student 7
O2: Exam Solution | P2: Student Ans | Q2: Marks Gained | R2: Total Marks Gained MC: | S2: =SUM(Q4:Q33) -> 0
A3: Exam Name: | B3: =EQUAT!C3 -> LisaChem 2014 | H3: Total | I3: Achievement | J3: % | N3: Qu | R3: Key Knowledge Descriptor
G4: Multiple Choice | H4: =ST7C!AK38 -> 30 | I4: =ST7C!AL38 -> 0 | J4: =ST7C!AM38 -> 0 | K4: =(I4/H4)*100 -> 0 | N4: =EQUAT!A7 -> 1 | O4: =EQUAT!B7 -> D | P4: ='Class Results'!I6 -> 0 | Q4: =IF(P4=O4,1,0) -> 0 | R4: =IF(EQUAT!D7=0, "",EQUAT!D7) -> amino acid | S4: =IF(EQUAT!E7=0, "",EQUAT!E7) -> systematic name | T4: =IF(EQUAT!F7=0, "",EQUAT!F7)
A5: Name | B5: ='Class Results'!I4 -> Student 7 | G5: Short Answer | H5: =ST7C!AK39 -> 112 | I5: =ST7C!AL39 -> 0 | J5: =ST7C!AM39 -> 0 | N5: =EQUAT!A8 -> 2 | O5: =EQUAT!B8 -> A | P5: ='Class Results'!I7 -> 0 | Q5: =IF(P5=O5,1,0) -> 0 | R5: =IF(EQUAT!D8=0, "",EQUAT!D8) -> calc delta H from chemical equations | S5: =IF(EQUAT!E8=0, "",EQUAT!E8) -> calculations | T5: =IF(EQUAT!F8=0, "",EQUAT!F8)
G6: Overall | H6: =SUM(H4:H5) -> 142 | I6: =SUM(I4:I5) -> 0 | J6: =(I6/H6)*100 -> 0 | N6: =EQUAT!A9 -> 3 | O6: =EQUAT!B9 -> B | P6: ='Class Results'!I8 -> 0 | Q6: =IF(P6=O6,1,0) -> 0 | R6: =IF(EQUAT!D9=0, "",EQUAT!D9) -> esters from alkenes | S6: =IF(EQUAT!E9=0, "",EQUAT!E9) | T6: =IF(EQUAT!F9=0, "",EQUAT!F9)
N7: =EQUAT!A10 -> 4 | O7: =EQUAT!B10 -> C | P7: ='Class Results'!I9 -> 0 | Q7: =IF(P7=O7,1,0) -> 0 | R7: =IF(EQUAT!D10=0, "",EQUAT!D10) -> calculations | S7: =IF(EQUAT!E10=0, "",EQUAT!E10) | T7: =IF(EQUAT!F10=0, "",EQUAT!F10)
B8: Value | C8: Gained | D8: % | N8: =EQUAT!A11 -> 5 | O8: =EQUAT!B11 -> D | P8: ='Class Results'!I10 -> 0 | Q8: =IF(P8=O8,1,0) -> 0 | R8: =IF(EQUAT!D11=0, "",EQUAT!D11) -> IR | S8: =IF(EQUAT!E11=0, "",EQUAT!E11) -> C13NMR | T8: =IF(EQUAT!F11=0, "",EQUAT!F11) -> calculations
A9: Unit 3 AOS 1 | B9: =ST7C!AL3 -> 73 | C9: =ST7C!AM3 -> 0 | D9: =ST7C!AN3 -> 0 | N9: =EQUAT!A12 -> 6 | O9: =EQUAT!B12 -> A | P9: ='Class Results'!I11 -> 0 | Q9: =IF(P9=O9,1,0) -> 0 | R9: =IF(EQUAT!D12=0, "",EQUAT!D12) -> redox titrations | S9: =IF(EQUAT!E12=0, "",EQUAT!E12) -> vol - experimental technique | T9: =IF(EQUAT!F12=0, "",EQUAT!F12)
A10: Unit 3 AOS 2 | B10: =ST7C!AL4 -> 75 | C10: =ST7C!AM4 -> 0 | D10: =ST7C!AN4 -> 0 | N10: =EQUAT!A13 -> 7 | O10: =EQUAT!B13 -> C | P10: ='Class Results'!I12 -> 0 | Q10: =IF(P10=O10,1,0) -> 0 | R10: =IF(EQUAT!D13=0, "",EQUAT!D13) -> chemical equations | S10: =IF(EQUAT!E13=0, "",EQUAT!E13) -> calculations | T10: =IF(EQUAT!F13=0, "",EQUAT!F13)
N11: =EQUAT!A14 -> 8 | O11: =EQUAT!B14 -> B | P11: ='Class Results'!I13 -> 0 | Q11: =IF(P11=O11,1,0) -> 0 | R11: =IF(EQUAT!D14=0, "",EQUAT!D14) -> galvanic cells - primary, secondary | S11: =IF(EQUAT!E14=0, "",EQUAT!E14) -> electrochemical series | T11: =IF(EQUAT!F14=0, "",EQUAT!F14) -> data book
N12: =EQUAT!A15 -> 9 | O12: =EQUAT!B15 -> B | P12: ='Class Results'!I14 -> 0 | Q12: =IF(P12=O12,1,0) -> 0 | R12: =IF(EQUAT!D15=0, "",EQUAT!D15) -> vol - experimental technique | S12: =IF(EQUAT!E15=0, "",EQUAT!E15) | T12: =IF(EQUAT!F15=0, "",EQUAT!F15)
N13: =EQUAT!A16 -> 10 | O13: =EQUAT!B16 -> B | P13: ='Class Results'!I15 -> 0 | Q13: =IF(P13=O13,1,0) -> 0 | R13: =IF(EQUAT!D16=0, "",EQUAT!D16) -> GC | S13: =IF(EQUAT!E16=0, "",EQUAT!E16) -> mass spectrometry | T13: =IF(EQUAT!F16=0, "",EQUAT!F16) -> alkanols
B14: Unit 3 | N14: =EQUAT!A17 -> 11 | O14: =EQUAT!B17 -> B | P14: ='Class Results'!I16 -> 0 | Q14: =IF(P14=O14,1,0) -> 0 | R14: =IF(EQUAT!D17=0, "",EQUAT!D17) -> calibration graph AAS or UV | S14: =IF(EQUAT!E17=0, "",EQUAT!E17) -> unit conversion | T14: =IF(EQUAT!F17=0, "",EQUAT!F17)
A15: =ST1C!AJ5 -> volumetric | B15: =ST7C!AL5 -> 8 | C15: =ST7C!AM5 -> 0 | D15: =ST7C!AN5 -> 0 | N15: =EQUAT!A18 -> 12 | O15: =EQUAT!B18 -> B | P15: ='Class Results'!I17 -> 0 | Q15: =IF(P15=O15,1,0) -> 0 | R15: =IF(EQUAT!D18=0, "",EQUAT!D18) -> volume, temperature, pressure of gases | S15: =IF(EQUAT!E18=0, "",EQUAT!E18) | T15: =IF(EQUAT!F18=0, "",EQUAT!F18)
A16: =ST1C!AJ6 -> gravimetric analysis | B16: =ST7C!AL6 -> 1 | C16: =ST7C!AM6 -> 0 | D16: =ST7C!AN6 -> 0 | N16: =EQUAT!A19 -> 13 | O16: =EQUAT!B19 -> A | P16: ='Class Results'!I18 -> 0 | Q16: =IF(P16=O16,1,0) -> 0 | R16: =IF(EQUAT!D19=0, "",EQUAT!D19) -> HNMR | S16: =IF(EQUAT!E19=0, "",EQUAT!E19) -> aspirin | T16: =IF(EQUAT!F19=0, "",EQUAT!F19)
A17: =ST1C!AJ7 -> calculations | B17: =ST7C!AL7 -> 29 | C17: =ST7C!AM7 -> 0 | D17: =ST7C!AN7 -> 0 | N17: =EQUAT!A20 -> 14 | O17: =EQUAT!B20 -> B | P17: ='Class Results'!I19 -> 0 | Q17: =IF(P17=O17,1,0) -> 0 | R17: =IF(EQUAT!D20=0, "",EQUAT!D20) -> titration curves | S17: =IF(EQUAT!E20=0, "",EQUAT!E20) -> calculations | T17: =IF(EQUAT!F20=0, "",EQUAT!F20)
A18: =ST1C!AJ8 -> chemical equations | B18: =ST7C!AL8 -> 10 | C18: =ST7C!AM8 -> 0 | D18: =ST7C!AN8 -> 0 | N18: =EQUAT!A21 -> 15 | O18: =EQUAT!B21 -> D | P18: ='Class Results'!I20 -> 0 | Q18: =IF(P18=O18,1,0) -> 0 | R18: =IF(EQUAT!D21=0, "",EQUAT!D21) -> organic reaction pathways | S18: =IF(EQUAT!E21=0, "",EQUAT!E21) -> esterification | T18: =IF(EQUAT!F21=0, "",EQUAT!F21)
A19: =ST1C!AJ9 -> chromatographic techniques | B19: =ST7C!AL9 -> 8 | C19: =ST7C!AM9 -> 0 | D19: =ST7C!AN9 -> 0 | N19: =EQUAT!A22 -> 16 | O19: =EQUAT!B22 -> A | P19: ='Class Results'!I21 -> 0 | Q19: =IF(P19=O19,1,0) -> 0 | R19: =IF(EQUAT!D22=0, "",EQUAT!D22) -> matching analytical technique | S19: =IF(EQUAT!E22=0, "",EQUAT!E22) -> AAS | T19: =IF(EQUAT!F22=0, "",EQUAT!F22)
A20: =ST1C!AJ10 -> spectroscopic techniques | B20: =ST7C!AL10 -> 16 | C20: =ST7C!AM10 -> 0 | D20: =ST7C!AN10 -> 0 | N20: =EQUAT!A23 -> 17 | O20: =EQUAT!B23 -> D | P20: ='Class Results'!I22 -> 0 | Q20: =IF(P20=O20,1,0) -> 0 | R20: =IF(EQUAT!D23=0, "",EQUAT!D23) -> galvanic primary, half & overall equations | S20: =IF(EQUAT!E23=0, "",EQUAT!E23) -> electrochemical series | T20: =IF(EQUAT!F23=0, "",EQUAT!F23) -> data book
A21: =ST1C!AJ11 -> matching analytical techniques | B21: =ST7C!AL11 -> 1 | C21: =ST7C!AM11 -> 0 | D21: =ST7C!AN11 -> 0 | N21: =EQUAT!A24 -> 18 | O21: =EQUAT!B24 -> B | P21: ='Class Results'!I23 -> 0 | Q21: =IF(P21=O21,1,0) -> 0 | R21: =IF(EQUAT!D24=0, "",EQUAT!D24) -> Ka weak acids | S21: =IF(EQUAT!E24=0, "",EQUAT!E24) -> Le Chatelier principle | T21: =IF(EQUAT!F24=0, "",EQUAT!F24)
A22: =ST1C!AJ12 -> organic structures | B22: =ST7C!AL12 -> 33 | C22: =ST7C!AM12 -> 0 | D22: =ST7C!AN12 -> 0 | N22: =EQUAT!A25 -> 19 | O22: =EQUAT!B25 -> C | P22: ='Class Results'!I24 -> 0 | Q22: =IF(P22=O22,1,0) -> 0 | R22: =IF(EQUAT!D25=0, "",EQUAT!D25) -> galcanic secondary, half & overall equations | S22: =IF(EQUAT!E25=0, "",EQUAT!E25) | T22: =IF(EQUAT!F25=0, "",EQUAT!F25)
A23: =ST1C!AJ13 -> common organic reactions | B23: =ST7C!AL13 -> 7 | C23: =ST7C!AM13 -> 0 | D23: =ST7C!AN13 -> 0 | N23: =EQUAT!A26 -> 20 | O23: =EQUAT!B26 -> D | P23: ='Class Results'!I25 -> 0 | Q23: =IF(P23=O23,1,0) -> 0 | R23: =IF(EQUAT!D26=0, "",EQUAT!D26) -> galvanic secondary, principles | S23: =IF(EQUAT!E26=0, "",EQUAT!E26) | T23: =IF(EQUAT!F26=0, "",EQUAT!F26)
A24: =ST1C!AJ14 -> chemical bonding proteins | B24: =ST7C!AL14 -> 5 | C24: =ST7C!AM14 -> 0 | D24: =ST7C!AN14 -> 0 | N24: =EQUAT!A27 -> 21 | O24: =EQUAT!B27 -> A | P24: ='Class Results'!I26 -> 0 | Q24: =IF(P24=O24,1,0) -> 0 | R24: =IF(EQUAT!D27=0, "",EQUAT!D27) -> Le Chatelier principle | S24: =IF(EQUAT!E27=0, "",EQUAT!E27) -> calc delta H from chemical equations | T24: =IF(EQUAT!F27=0, "",EQUAT!F27)
A25: =ST1C!AJ15 -> DNA | B25: =ST7C!AL15 -> 8 | C25: =ST7C!AM15 -> 0 | D25: =ST7C!AN15 -> 0 | N25: =EQUAT!A28 -> 22 | O25: =EQUAT!B28 -> D | P25: ='Class Results'!I27 -> 0 | Q25: =IF(P25=O25,1,0) -> 0 | R25: =IF(EQUAT!D28=0, "",EQUAT!D28) -> Equilibrium law | S25: =IF(EQUAT!E28=0, "",EQUAT!E28) -> calculations | T25: =IF(EQUAT!F28=0, "",EQUAT!F28)
A26: =ST1C!AJ16 -> organic reaction pathways | B26: =ST7C!AL16 -> 10 | C26: =ST7C!AM16 -> 0 | D26: =ST7C!AN16 -> 0 | N26: =EQUAT!A29 -> 23 | O26: =EQUAT!B29 -> B | P26: ='Class Results'!I28 -> 0 | Q26: =IF(P26=O26,1,0) -> 0 | R26: =IF(EQUAT!D29=0, "",EQUAT!D29) -> electrochemical series | S26: =IF(EQUAT!E29=0, "",EQUAT!E29) -> data book | T26: =IF(EQUAT!F29=0, "",EQUAT!F29)
... A28: =ST1C!AJ18 -> medicine synthesis | B28: =ST7C!AL18 -> 1 | C28: =ST7C!AM18 -> 0 | D28: =ST7C!AN18 -> 0 | N28: =EQUAT!A31 -> 25 | O28: =EQUAT!B31 -> B | P28: ='Class Results'!I30 -> 0 | Q28: =IF(P28=O28,1,0) -> 0 | R28: =IF(EQUAT!D31=0, "",EQUAT!D31) -> acid-base titrations | S28: =IF(EQUAT!E31=0, "",EQUAT!E31) -> molecular ion peak | T28: =IF(EQUAT!F31=0, "",EQUAT!F31) -> calculations
N29: =EQUAT!A32 -> 26 | O29: =EQUAT!B32 -> C | P29: ='Class Results'!I31 -> 0 | Q29: =IF(P29=O29,1,0) -> 0 | R29: =IF(EQUAT!D32=0, "",EQUAT!D32) -> vol - experimental technique | S29: =IF(EQUAT!E32=0, "",EQUAT!E32) | T29: =IF(EQUAT!F32=0, "",EQUAT!F32)
N30: =EQUAT!A33 -> 27 | O30: =EQUAT!B33 -> B | P30: ='Class Results'!I32 -> 0 | Q30: =IF(P30=O30,1,0) -> 0 | R30: =IF(EQUAT!D33=0, "",EQUAT!D33) -> Le Chatelier principle | S30: =IF(EQUAT!E33=0, "",EQUAT!E33) | T30: =IF(EQUAT!F33=0, "",EQUAT!F33)
N31: =EQUAT!A34 -> 28 | O31: =EQUAT!B34 -> C | P31: ='Class Results'!I33 -> 0 | Q31: =IF(P31=O31,1,0) -> 0 | R31: =IF(EQUAT!D34=0, "",EQUAT!D34) -> amines | S31: =IF(EQUAT!E34=0, "",EQUAT!E34) -> structural formula | T31: =IF(EQUAT!F34=0, "",EQUAT!F34) -> unit conversion
N32: =EQUAT!A35 -> 29 | O32: =EQUAT!B35 -> D | P32: ='Class Results'!I34 -> 0 | Q32: =IF(P32=O32,1,0) -> 0 | R32: =IF(EQUAT!D35=0, "",EQUAT!D35) -> titration curves | S32: =IF(EQUAT!E35=0, "",EQUAT!E35) | T32: =IF(EQUAT!F35=0, "",EQUAT!F35)
N33: =EQUAT!A36 -> 30 | O33: =EQUAT!B36 -> D | P33: ='Class Results'!I35 -> 0 | Q33: =IF(P33=O33,1,0) -> 0 | R33: =IF(EQUAT!D36=0, "",EQUAT!D36) -> grav - experimental technique | S33: =IF(EQUAT!E36=0, "",EQUAT!E36) | T33: =IF(EQUAT!F36=0, "",EQUAT!F36)
O34: Exam Name: | P34: =B3 -> LisaChem 2014 | S34: Name: | T34: =B5 -> Student 7
A35: Exam Name: | B35: =B3 -> LisaChem 2014 | O35: Total | P35: Marks Gained | Q35: Marks Lost
N36: Qu | S36: Key Knowledge Descriptor
A37: Name | B37: =B5 -> Student 7 | N37: =EQUAT!H7 -> 1a | O37: =EQUAT!I7 -> 2 | P37: =ST7C!B34 -> 0 | Q37: =O37-P37 -> 2 | R37: =IF(EQUAT!J7=0," ",EQUAT!J7) -> amino acid | S37: =IF(EQUAT!K7=0," ",EQUAT!K7) -> cond & poly - proteins | T37: =IF(EQUAT!L7=0," ",EQUAT!L7) -> amide
N38: =EQUAT!H8 -> 1b | O38: =EQUAT!I8 -> 1 | P38: =ST7C!B35 -> 0 | Q38: =O38-P38 -> 1 | R38: =IF(EQUAT!J8=0," ",EQUAT!J8) -> TLC | S38: =IF(EQUAT!K8=0," ",EQUAT!K8) -> cond & poly - proteins | T38: =IF(EQUAT!L8=0," ",EQUAT!L8) -> amide
B39: Value | C39: Gained | D39: % | N39: =EQUAT!H9 -> 1c | O39: =EQUAT!I9 -> 2 | P39: =ST7C!B36 -> 0 | Q39: =O39-P39 -> 2 | R39: =IF(EQUAT!J9=0," ",EQUAT!J9) -> structural formula | S39: =IF(EQUAT!K9=0," ",EQUAT!K9) -> cond & poly - proteins | T39: =IF(EQUAT!L9=0," ",EQUAT!L9) -> amide
A40: Unit 4 AOS 1 | B40: =ST7C!AL20 -> 32 | C40: =ST7C!AM20 -> 0 | D40: =ST7C!AN20 -> 0 | N40: =EQUAT!H10 -> 1d | O40: =EQUAT!I10 -> 2 | P40: =ST7C!B37 -> 0 | Q40: =O40-P40 -> 2 | R40: =IF(EQUAT!J10=0," ",EQUAT!J10) -> amino acid | S40: =IF(EQUAT!K10=0," ",EQUAT!K10) -> properties of organic compounds | T40: =IF(EQUAT!L10=0," ",EQUAT!L10)
A41: Unit 4 AOS 2 | B41: =ST7C!AL21 -> 58 | C41: =ST7C!AM21 -> 0 | D41: =ST7C!AN21 -> 0 | N41: =EQUAT!H11 -> 1e | O41: =EQUAT!I11 -> 3 | P41: =ST7C!B38 -> 0 | Q41: =O41-P41 -> 3 | R41: =IF(EQUAT!J11=0," ",EQUAT!J11) -> TLC | S41: =IF(EQUAT!K11=0," ",EQUAT!K11) -> chromatographic techniques | T41: =IF(EQUAT!L11=0," ",EQUAT!L11)
N42: =EQUAT!H12 -> 1f | O42: =EQUAT!I12 -> 6 | P42: =ST7C!B39 -> 0 | Q42: =O42-P42 -> 6 | R42: =IF(EQUAT!J12=0," ",EQUAT!J12) -> protein- primary, secondary, tertiary structure | S42: =IF(EQUAT!K12=0," ",EQUAT!K12) -> DNA primary structure | T42: =IF(EQUAT!L12=0," ",EQUAT!L12) -> DNA secondary structure
N43: =EQUAT!H13 -> 2ai | O43: =EQUAT!I13 -> 2 | P43: =ST7C!B40 -> 0 | Q43: =O43-P43 -> 2 | R43: =IF(EQUAT!J13=0," ",EQUAT!J13) -> unit conversion | S43: =IF(EQUAT!K13=0," ",EQUAT!K13) | T43: =IF(EQUAT!L13=0," ",EQUAT!L13)
B44: Unit 4 | N44: =EQUAT!H14 -> 2aii | O44: =EQUAT!I14 -> 1 | P44: =ST7C!B41 -> 0 | Q44: =O44-P44 -> 1 | R44: =IF(EQUAT!J14=0," ",EQUAT!J14) -> concentration | S44: =IF(EQUAT!K14=0," ",EQUAT!K14) | T44: =IF(EQUAT!L14=0," ",EQUAT!L14)
A45: =ST1C!AJ22 -> Rates of reaction | B45: =ST7C!AL22 -> 5 | C45: =ST7C!AM22 -> 0 | D45: =ST7C!AN22 -> 0 | N45: =EQUAT!H15 -> 2b | O45: =EQUAT!I15 -> 2 | P45: =ST7C!B42 -> 0 | Q45: =O45-P45 -> 2 | R45: =IF(EQUAT!J15=0," ",EQUAT!J15) -> Key Skills | S45: =IF(EQUAT!K15=0," ",EQUAT!K15) | T45: =IF(EQUAT!L15=0," ",EQUAT!L15)
A46: =ST1C!AJ23 -> Energy of reactions | B46: =ST7C!AL23 -> 12 | C46: =ST7C!AM23 -> 0 | D46: =ST7C!AN23 -> 0 | N46: =EQUAT!H16 -> 2c | O46: =EQUAT!I16 -> 1 | P46: =ST7C!B43 -> 0 | Q46: =O46-P46 -> 1 | R46: =IF(EQUAT!J16=0," ",EQUAT!J16) -> HNMR | S46: =IF(EQUAT!K16=0," ",EQUAT!K16) | T46: =IF(EQUAT!L16=0," ",EQUAT!L16)
A47: =ST1C!AJ24 -> Equilibrium | B47: =ST7C!AL24 -> 15 | C47: =ST7C!AM24 -> 0 | D47: =ST7C!AN24 -> 0 | N47: =EQUAT!H17 -> 2di | O47: =EQUAT!I17 -> 1 | P47: =ST7C!B44 -> 0 | Q47: =O47-P47 -> 1 | R47: =IF(EQUAT!J17=0," ",EQUAT!J17) -> oxidation primary alkanols | S47: =IF(EQUAT!K17=0," ",EQUAT!K17) -> structural formula | T47: =IF(EQUAT!L17=0," ",EQUAT!L17)
A48: =ST1C!AJ25 -> Application of equil & rates | B48: =ST7C!AL25 -> 0 | C48: =ST7C!AM25 -> 0 | D48: =ST7C!AN25 -> -2 | N48: =EQUAT!H18 -> 2dii | O48: =EQUAT!I18 -> 1 | P48: =ST7C!B45 -> 0 | Q48: =O48-P48 -> 1 | R48: =IF(EQUAT!J18=0," ",EQUAT!J18) -> redox equations | S48: =IF(EQUAT!K18=0," ",EQUAT!K18) | T48: =IF(EQUAT!L18=0," ",EQUAT!L18)
A49: =ST1C!AJ26 -> Energy sources renewability | B49: =ST7C!AL26 -> 8 | C49: =ST7C!AM26 -> 0 | D49: =ST7C!AN26 -> 0 | N49: =EQUAT!H19 -> 2ei | O49: =EQUAT!I19 -> 5 | P49: =ST7C!B46 -> 0 | Q49: =O49-P49 -> 5 | R49: =IF(EQUAT!J19=0," ",EQUAT!J19) -> Calorimetry | S49: =IF(EQUAT!K19=0," ",EQUAT!K19) -> unit conversion | T49: =IF(EQUAT!L19=0," ",EQUAT!L19) -> Energy sources - renewability
A50: =ST1C!AJ27 -> Calorimetry | B50: =ST7C!AL27 -> 18 | C50: =ST7C!AM27 -> 0 | D50: =ST7C!AN27 -> 0 | N50: =EQUAT!H20 -> 2eii | O50: =EQUAT!I20 -> 2 | P50: =ST7C!B47 -> 0 | Q50: =O50-P50 -> 2 | R50: =IF(EQUAT!J20=0," ",EQUAT!J20) -> Energy sources - renewability | S50: =IF(EQUAT!K20=0," ",EQUAT!K20) | T50: =IF(EQUAT!L20=0," ",EQUAT!L20)
A51: =ST1C!AJ28 -> Electrochemical Series | B51: =ST7C!AL28 -> 17 | C51: =ST7C!AM28 -> 0 | D51: =ST7C!AN28 -> 0 | N51: =EQUAT!H21 -> 2eiii | O51: =EQUAT!I21 -> 1 | P51: =ST7C!B48 -> 0 | Q51: =O51-P51 -> 1 | R51: =IF(EQUAT!J21=0," ",EQUAT!J21) -> protein- primary, secondary, tertiary structure | S51: =IF(EQUAT!K21=0," ",EQUAT!K21) -> amino acid | T51: =IF(EQUAT!L21=0," ",EQUAT!L21)
A52: =ST1C!AJ29 -> Galvanic Cells | B52: =ST7C!AL29 -> 4 | C52: =ST7C!AM29 -> 0 | D52: =ST7C!AN29 -> 0 | N52: =EQUAT!H22 -> 3ai | O52: =EQUAT!I22 -> 1 | P52: =ST7C!B49 -> 0 | Q52: =O52-P52 -> 1 | R52: =IF(EQUAT!J22=0," ",EQUAT!J22) -> chemical principles electrolytic cell | S52: =IF(EQUAT!K22=0," ",EQUAT!K22) | T52: =IF(EQUAT!L22=0," ",EQUAT!L22)
A53: =ST1C!AJ30 -> Fuel Cells | B53: =ST7C!AL30 -> 2 | C53: =ST7C!AM30 -> 0 | D53: =ST7C!AN30 -> 0 | N53: =EQUAT!H23 -> 3aii | O53: =EQUAT!I23 -> 2 | P53: =ST7C!B50 -> 0 | Q53: =O53-P53 -> 2 | R53: =IF(EQUAT!J23=0," ",EQUAT!J23) -> molten vs aqueous electrolytic cell | S53: =IF(EQUAT!K23=0," ",EQUAT!K23) -> electrochemical series | T53: =IF(EQUAT!L23=0," ",EQUAT!L23) -> data book
A54: =ST1C!AJ31 -> Electrolytic Cells | B54: =ST7C!AL31 -> 6 | C54: =ST7C!AM31 -> 0 | D54: =ST7C!AN31 -> 0 | N54: =EQUAT!H24 -> 3bi | O54: =EQUAT!I24 -> 3 | P54: =ST7C!B51 -> 0 | Q54: =O54-P54 -> 3 | R54: =IF(EQUAT!J24=0," ",EQUAT!J24) -> Faradays laws | S54: =IF(EQUAT!K24=0," ",EQUAT!K24) | T54: =IF(EQUAT!L24=0," ",EQUAT!L24)
A55: =ST1C!AJ32 -> Faradays Laws | B55: =ST7C!AL32 -> 3 | C55: =ST7C!AM32 -> 0 | D55: =ST7C!AN32 -> 0 | N55: =EQUAT!H25 -> 3bii | O55: =EQUAT!I25 -> 1 | P55: =ST7C!B52 -> 0 | Q55: =O55-P55 -> 1 | R55: =IF(EQUAT!J25=0," ",EQUAT!J25) -> chemical principles electrolytic cell | S55: =IF(EQUAT!K25=0," ",EQUAT!K25) -> electrochemical series | T55: =IF(EQUAT!L25=0," ",EQUAT!L25) -> data book
A56: =ST1C!AJ33 -> Key Skills | B56: =ST7C!AL33 -> 10 | C56: =ST7C!AM33 -> 0 | D56: =ST7C!AN33 -> 0 | N56: =EQUAT!H26 -> 3c | O56: =EQUAT!I26 -> 2 | P56: =ST7C!B53 -> 0 | Q56: =O56-P56 -> 2 | R56: =IF(EQUAT!J26=0," ",EQUAT!J26) -> molten vs aqueous electrolytic cell | S56: =IF(EQUAT!K26=0," ",EQUAT!K26) -> electrochemical series | T56: =IF(EQUAT!L26=0," ",EQUAT!L26) -> data book
N57: =EQUAT!H27 -> 4a | O57: =EQUAT!I27 -> 1 | P57: =ST7C!B54 -> 0 | Q57: =O57-P57 -> 1 | R57: =IF(EQUAT!J27=0," ",EQUAT!J27) -> Energy of reactions | S57: =IF(EQUAT!K27=0," ",EQUAT!K27) | T57: =IF(EQUAT!L27=0," ",EQUAT!L27)
N58: =EQUAT!H28 -> 4b | O58: =EQUAT!I28 -> 6 | P58: =ST7C!B55 -> 0 | Q58: =O58-P58 -> 6 | R58: =IF(EQUAT!J28=0," ",EQUAT!J28) -> Energy of reactions | S58: =IF(EQUAT!K28=0," ",EQUAT!K28) | T58: =IF(EQUAT!L28=0," ",EQUAT!L28)
N59: =EQUAT!H29 -> 4ci | O59: =EQUAT!I29 -> 1 | P59: =ST7C!B56 -> 0 | Q59: =O59-P59 -> 1 | R59: =IF(EQUAT!J29=0," ",EQUAT!J29) -> chemical equations | S59: =IF(EQUAT!K29=0," ",EQUAT!K29) | T59: =IF(EQUAT!L29=0," ",EQUAT!L29)
N60: =EQUAT!H30 -> 4cii | O60: =EQUAT!I30 -> 2 | P60: =ST7C!B57 -> 0 | Q60: =O60-P60 -> 2 | R60: =IF(EQUAT!J30=0," ",EQUAT!J30) -> collision theory | S60: =IF(EQUAT!K30=0," ",EQUAT!K30) | T60: =IF(EQUAT!L30=0," ",EQUAT!L30)
N61: =EQUAT!H31 -> 5a | O61: =EQUAT!I31 -> 1 | P61: =ST7C!B58 -> 0 | Q61: =O61-P61 -> 1 | R61: =IF(EQUAT!J31=0," ",EQUAT!J31) -> chemical equations | S61: =IF(EQUAT!K31=0," ",EQUAT!K31) | T61: =IF(EQUAT!L31=0," ",EQUAT!L31)
N62: =EQUAT!H32 -> 5bi | O62: =EQUAT!I32 -> 1 | P62: =ST7C!B59 -> 0 | Q62: =O62-P62 -> 1 | R62: =IF(EQUAT!J32=0," ",EQUAT!J32) -> Equilibrium law | S62: =IF(EQUAT!K32=0," ",EQUAT!K32) | T62: =IF(EQUAT!L32=0," ",EQUAT!L32)
N63: =EQUAT!H33 -> 5bii | O63: =EQUAT!I33 -> 3 | P63: =ST7C!B60 -> 0 | Q63: =O63-P63 -> 3 | R63: =IF(EQUAT!J33=0," ",EQUAT!J33) -> pH | S63: =IF(EQUAT!K33=0," ",EQUAT!K33) -> Ka weak acids | T63: =IF(EQUAT!L33=0," ",EQUAT!L33) -> calculations
N64: =EQUAT!H34 -> 5ci | O64: =EQUAT!I34 -> 3 | P64: =ST7C!B61 -> 0 | Q64: =O64-P64 -> 3 | R64: =IF(EQUAT!J34=0," ",EQUAT!J34) -> bomb calorimetry | S64: =IF(EQUAT!K34=0," ",EQUAT!K34) -> calibration calorimetry | T64: =IF(EQUAT!L34=0," ",EQUAT!L34) -> calculations
N65: =EQUAT!H35 -> 5cii | O65: =EQUAT!I35 -> 2 | P65: =ST7C!B62 -> 0 | Q65: =O65-P65 -> 2 | R65: =IF(EQUAT!J35=0," ",EQUAT!J35) -> bomb calorimetry | S65: =IF(EQUAT!K35=0," ",EQUAT!K35) -> calibration calorimetry | T65: =IF(EQUAT!L35=0," ",EQUAT!L35)
N66: =EQUAT!H36 -> 5di | O66: =EQUAT!I36 -> 3 | P66: =ST7C!B63 -> 0 | Q66: =O66-P66 -> 3 | R66: =IF(EQUAT!J36=0," ",EQUAT!J36) -> Calorimetry | S66: =IF(EQUAT!K36=0," ",EQUAT!K36) | T66: =IF(EQUAT!L36=0," ",EQUAT!L36)
O68: Exam Name: | P68: =B3 -> LisaChem 2014 | S68: Name: | T68: =B5 -> Student 7
O69: Total | P69: Marks Gained | Q69: Marks Lost
N70: Qu | S70: Key Knowledge Descriptor
N71: =EQUAT!H37 -> 5dii | O71: =EQUAT!I37 -> 1 | P71: =ST7C!B64 -> 0 | Q71: =O71-P71 -> 1 | R71: =IF(EQUAT!J37=0," ",EQUAT!J37) -> Calorimetry | S71: =IF(EQUAT!K37=0," ",EQUAT!K37) -> excess and limiting reagents | T71: =IF(EQUAT!L37=0," ",EQUAT!L37)
N72: =EQUAT!H38 -> 6a | O72: =EQUAT!I38 -> 1 | P72: =ST7C!B65 -> 0 | Q72: =O72-P72 -> 1 | R72: =IF(EQUAT!J38=0," ",EQUAT!J38) -> chemical equations | S72: =IF(EQUAT!K38=0," ",EQUAT!K38) -> organic reaction pathways | T72: =IF(EQUAT!L38=0," ",EQUAT!L38)
N73: =EQUAT!H39 -> 6b | O73: =EQUAT!I39 -> 2 | P73: =ST7C!B66 -> 0 | Q73: =O73-P73 -> 2 | R73: =IF(EQUAT!J39=0," ",EQUAT!J39) -> calc delta H from chemical equations | S73: =IF(EQUAT!K39=0," ",EQUAT!K39) -> calculations | T73: =IF(EQUAT!L39=0," ",EQUAT!L39)
N74: =EQUAT!H40 -> 6c | O74: =EQUAT!I40 -> 4 | P74: =ST7C!B67 -> 0 | Q74: =O74-P74 -> 4 | R74: =IF(EQUAT!J40=0," ",EQUAT!J40) -> volume, temperature, pressure of gases | S74: =IF(EQUAT!K40=0," ",EQUAT!K40) | T74: =IF(EQUAT!L40=0," ",EQUAT!L40)
N75: =EQUAT!H41 -> 6d | O75: =EQUAT!I41 -> 3 | P75: =ST7C!B68 -> 0 | Q75: =O75-P75 -> 3 | R75: =IF(EQUAT!J41=0," ",EQUAT!J41) -> Le Chatelier principle | S75: =IF(EQUAT!K41=0," ",EQUAT!K41) | T75: =IF(EQUAT!L41=0," ",EQUAT!L41)
N76: =EQUAT!H42 -> 6e | O76: =EQUAT!I42 -> 3 | P76: =ST7C!B69 -> 0 | Q76: =O76-P76 -> 3 | R76: =IF(EQUAT!J42=0," ",EQUAT!J42) -> collision theory | S76: =IF(EQUAT!K42=0," ",EQUAT!K42) | T76: =IF(EQUAT!L42=0," ",EQUAT!L42)
N77: =EQUAT!H43 -> 6fi | O77: =EQUAT!I43 -> 6 | P77: =ST7C!B70 -> 0 | Q77: =O77-P77 -> 6 | R77: =IF(EQUAT!J43=0," ",EQUAT!J43) -> IR | S77: =IF(EQUAT!K43=0," ",EQUAT!K43) -> HNMR | T77: =IF(EQUAT!L43=0," ",EQUAT!L43) -> semi-structural formula
N78: =EQUAT!H44 -> 6fii | O78: =EQUAT!I44 -> 2 | P78: =ST7C!B71 -> 0 | Q78: =O78-P78 -> 2 | R78: =IF(EQUAT!J44=0," ",EQUAT!J44) -> organic reaction pathways | S78: =IF(EQUAT!K44=0," ",EQUAT!K44) | T78: =IF(EQUAT!L44=0," ",EQUAT!L44)
N79: =EQUAT!H45 -> 6gi | O79: =EQUAT!I45 -> 1 | P79: =ST7C!B72 -> 0 | Q79: =O79-P79 -> 1 | R79: =IF(EQUAT!J45=0," ",EQUAT!J45) -> chemical equations | S79: =IF(EQUAT!K45=0," ",EQUAT!K45) -> ethanol production | T79: =IF(EQUAT!L45=0," ",EQUAT!L45)
N80: =EQUAT!H46 -> 6gii | O80: =EQUAT!I46 -> 3 | P80: =ST7C!B73 -> 0 | Q80: =O80-P80 -> 3 | R80: =IF(EQUAT!J46=0," ",EQUAT!J46) -> properties of organic compounds | S80: =IF(EQUAT!K46=0," ",EQUAT!K46) -> ethanol production | T80: =IF(EQUAT!L46=0," ",EQUAT!L46)
N81: =EQUAT!H47 -> 6giii | O81: =EQUAT!I47 -> 1 | P81: =ST7C!B74 -> 0 | Q81: =O81-P81 -> 1 | R81: =IF(EQUAT!J47=0," ",EQUAT!J47) -> chemical equations | S81: =IF(EQUAT!K47=0," ",EQUAT!K47) -> ethanol production | T81: =IF(EQUAT!L47=0," ",EQUAT!L47)
N82: =EQUAT!H48 -> 6hi | O82: =EQUAT!I48 -> 1 | P82: =ST7C!B75 -> 0 | Q82: =O82-P82 -> 1 | R82: =IF(EQUAT!J48=0," ",EQUAT!J48) -> chemical principles fuel cell | S82: =IF(EQUAT!K48=0," ",EQUAT!K48) | T82: =IF(EQUAT!L48=0," ",EQUAT!L48)
... N95: =EQUAT!H61 -> 0 | O95: =EQUAT!I61 -> 0 | P95: =ST7C!B88 -> 0 | Q95: =O95-P95 -> 0 | R95: =IF(EQUAT!J61=0," ",EQUAT!J61) | S95: =IF(EQUAT!K61=0," ",EQUAT!K61) | T95: =IF(EQUAT!L61=0," ",EQUAT!L61)
N96: Total | O96: =SUM(O37:O95) -> 112 | P96: =SUM(P37:P95) -> 0 | Q96: =SUM(Q37:Q95) -> 112 | R96: =IF(EQUAT!J61=0," ",EQUAT!J61) | S96: =IF(EQUAT!K61=0," ",EQUAT!K61) | T96: =IF(EQUAT!L61=0," ",EQUAT!L61)
R97: =IF(EQUAT!#REF!=0," ",EQUAT!#REF!) -> #REF! | S97: =IF(EQUAT!#REF!=0," ",EQUAT!#REF!) -> #REF! | T97: =IF(EQUAT!#REF!=0," ",EQUAT!#REF!) -> #REF!

Sheet ST5
A1: Student Summary | O1: Exam Name: | P1: =B3 -> LisaChem 2014 | S1: Name: | T1: =B5 -> Student 5
O2: Exam Solution | P2: Student Ans | Q2: Marks Gained | R2: Total Marks Gained MC: | S2: =SUM(Q4:Q33) -> 0
A3: Exam Name: | B3: =EQUAT!C3 -> LisaChem 2014 | H3: Total | I3: Achievement | J3: % | N3: Qu | R3: Key Knowledge Descriptor
G4: Multiple Choice | H4: =ST5C!AK38 -> 30 | I4: =ST5C!AL38 -> 0 | J4: =ST5C!AM38 -> 0 | K4: =(I4/H4)*100 -> 0 | N4: =EQUAT!A7 -> 1 | O4: =EQUAT!B7 -> D | P4: ='Class Results'!G6 -> 0 | Q4: =IF(P4=O4,1,0) -> 0 | R4: =IF(EQUAT!D7=0, "",EQUAT!D7) -> amino acid | S4: =IF(EQUAT!E7=0, "",EQUAT!E7) -> systematic name | T4: =IF(EQUAT!F7=0, "",EQUAT!F7)
A5: Name | B5: ='Class Results'!G4 -> Student 5 | G5: Short Answer | H5: =ST5C!AK39 -> 112 | I5: =ST5C!AL39 -> 0 | J5: =ST5C!AM39 -> 0 | N5: =EQUAT!A8 -> 2 | O5: =EQUAT!B8 -> A | P5: ='Class Results'!G7 -> 0 | Q5: =IF(P5=O5,1,0) -> 0 | R5: =IF(EQUAT!D8=0, "",EQUAT!D8) -> calc delta H from chemical equations | S5: =IF(EQUAT!E8=0, "",EQUAT!E8) -> calculations | T5: =IF(EQUAT!F8=0, "",EQUAT!F8)
G6: Overall | H6: =SUM(H4:H5) -> 142 | I6: =SUM(I4:I5) -> 0 | J6: =(I6/H6)*100 -> 0 | N6: =EQUAT!A9 -> 3 | O6: =EQUAT!B9 -> B | P6: ='Class Results'!G8 -> 0 | Q6: =IF(P6=O6,1,0) -> 0 | R6: =IF(EQUAT!D9=0, "",EQUAT!D9) -> esters from alkenes | S6: =IF(EQUAT!E9=0, "",EQUAT!E9) | T6: =IF(EQUAT!F9=0, "",EQUAT!F9)
N7: =EQUAT!A10 -> 4 | O7: =EQUAT!B10 -> C | P7: ='Class Results'!G9 -> 0 | Q7: =IF(P7=O7,1,0) -> 0 | R7: =IF(EQUAT!D10=0, "",EQUAT!D10) -> calculations | S7: =IF(EQUAT!E10=0, "",EQUAT!E10) | T7: =IF(EQUAT!F10=0, "",EQUAT!F10)
B8: Value | C8: Gained | D8: % | N8: =EQUAT!A11 -> 5 | O8: =EQUAT!B11 -> D | P8: ='Class Results'!G10 -> 0 | Q8: =IF(P8=O8,1,0) -> 0 | R8: =IF(EQUAT!D11=0, "",EQUAT!D11) -> IR | S8: =IF(EQUAT!E11=0, "",EQUAT!E11) -> C13NMR | T8: =IF(EQUAT!F11=0, "",EQUAT!F11) -> calculations
A9: Unit 3 AOS 1 | B9: =ST5C!AL3 -> 73 | C9: =ST5C!AM3 -> 0 | D9: =ST5C!AN3 -> 0 | N9: =EQUAT!A12 -> 6 | O9: =EQUAT!B12 -> A | P9: ='Class Results'!G11 -> 0 | Q9: =IF(P9=O9,1,0) -> 0 | R9: =IF(EQUAT!D12=0, "",EQUAT!D12) -> redox titrations | S9: =IF(EQUAT!E12=0, "",EQUAT!E12) -> vol - experimental technique | T9: =IF(EQUAT!F12=0, "",EQUAT!F12)
A10: Unit 3 AOS 2 | B10: =ST5C!AL4 -> 75 | C10: =ST5C!AM4 -> 0 | D10: =ST5C!AN4 -> 0 | N10: =EQUAT!A13 -> 7 | O10: =EQUAT!B13 -> C | P10: ='Class Results'!G12 -> 0 | Q10: =IF(P10=O10,1,0) -> 0 | R10: =IF(EQUAT!D13=0, "",EQUAT!D13) -> chemical equations | S10: =IF(EQUAT!E13=0, "",EQUAT!E13) -> calculations | T10: =IF(EQUAT!F13=0, "",EQUAT!F13)
N11: =EQUAT!A14 -> 8 | O11: =EQUAT!B14 -> B | P11: ='Class Results'!G13 -> 0 | Q11: =IF(P11=O11,1,0) -> 0 | R11: =IF(EQUAT!D14=0, "",EQUAT!D14) -> galvanic cells - primary, secondary | S11: =IF(EQUAT!E14=0, "",EQUAT!E14) -> electrochemical series | T11: =IF(EQUAT!F14=0, "",EQUAT!F14) -> data book
N12: =EQUAT!A15 -> 9 | O12: =EQUAT!B15 -> B | P12: ='Class Results'!G14 -> 0 | Q12: =IF(P12=O12,1,0) -> 0 | R12: =IF(EQUAT!D15=0, "",EQUAT!D15) -> vol - experimental technique | S12: =IF(EQUAT!E15=0, "",EQUAT!E15) | T12: =IF(EQUAT!F15=0, "",EQUAT!F15)
N13: =EQUAT!A16 -> 10 | O13: =EQUAT!B16 -> B | P13: ='Class Results'!G15 -> 0 | Q13: =IF(P13=O13,1,0) -> 0 | R13: =IF(EQUAT!D16=0, "",EQUAT!D16) -> GC | S13: =IF(EQUAT!E16=0, "",EQUAT!E16) -> mass spectrometry | T13: =IF(EQUAT!F16=0, "",EQUAT!F16) -> alkanols
B14: Unit 3 | N14: =EQUAT!A17 -> 11 | O14: =EQUAT!B17 -> B | P14: ='Class Results'!G16 -> 0 | Q14: =IF(P14=O14,1,0) -> 0 | R14: =IF(EQUAT!D17=0, "",EQUAT!D17) -> calibration graph AAS or UV | S14: =IF(EQUAT!E17=0, "",EQUAT!E17) -> unit conversion | T14: =IF(EQUAT!F17=0, "",EQUAT!F17)
A15: =ST1C!AJ5 -> volumetric | B15: =ST5C!AL5 -> 8 | C15: =ST5C!AM5 -> 0 | D15: =ST5C!AN5 -> 0 | N15: =EQUAT!A18 -> 12 | O15: =EQUAT!B18 -> B | P15: ='Class Results'!G17 -> 0 | Q15: =IF(P15=O15,1,0) -> 0 | R15: =IF(EQUAT!D18=0, "",EQUAT!D18) -> volume, temperature, pressure of gases | S15: =IF(EQUAT!E18=0, "",EQUAT!E18) | T15: =IF(EQUAT!F18=0, "",EQUAT!F18)
A16: =ST1C!AJ6 -> gravimetric analysis | B16: =ST5C!AL6 -> 1 | C16: =ST5C!AM6 -> 0 | D16: =ST5C!AN6 -> 0 | N16: =EQUAT!A19 -> 13 | O16: =EQUAT!B19 -> A | P16: ='Class Results'!G18 -> 0 | Q16: =IF(P16=O16,1,0) -> 0 | R16: =IF(EQUAT!D19=0, "",EQUAT!D19) -> HNMR | S16: =IF(EQUAT!E19=0, "",EQUAT!E19) -> aspirin | T16: =IF(EQUAT!F19=0, "",EQUAT!F19)
A17: =ST1C!AJ7 -> calculations | B17: =ST5C!AL7 -> 29 | C17: =ST5C!AM7 -> 0 | D17: =ST5C!AN7 -> 0 | N17: =EQUAT!A20 -> 14 | O17: =EQUAT!B20 -> B | P17: ='Class Results'!G19 -> 0 | Q17: =IF(P17=O17,1,0) -> 0 | R17: =IF(EQUAT!D20=0, "",EQUAT!D20) -> titration curves | S17: =IF(EQUAT!E20=0, "",EQUAT!E20) -> calculations | T17: =IF(EQUAT!F20=0, "",EQUAT!F20)
A18: =ST1C!AJ8 -> chemical equations | B18: =ST5C!AL8 -> 10 | C18: =ST5C!AM8 -> 0 | D18: =ST5C!AN8 -> 0 | N18: =EQUAT!A21 -> 15 | O18: =EQUAT!B21 -> D | P18: ='Class Results'!G20 -> 0 | Q18: =IF(P18=O18,1,0) -> 0 | R18: =IF(EQUAT!D21=0, "",EQUAT!D21) -> organic reaction pathways | S18: =IF(EQUAT!E21=0, "",EQUAT!E21) -> esterification | T18: =IF(EQUAT!F21=0, "",EQUAT!F21)
A19: =ST1C!AJ9 -> chromatographic techniques | B19: =ST5C!AL9 -> 8 | C19: =ST5C!AM9 -> 0 | D19: =ST5C!AN9 -> 0 | N19: =EQUAT!A22 -> 16 | O19: =EQUAT!B22 -> A | P19: ='Class Results'!G21 -> 0 | Q19: =IF(P19=O19,1,0) -> 0 | R19: =IF(EQUAT!D22=0, "",EQUAT!D22) -> matching analytical technique | S19: =IF(EQUAT!E22=0, "",EQUAT!E22) -> AAS | T19: =IF(EQUAT!F22=0, "",EQUAT!F22)
A20: =ST1C!AJ10 -> spectroscopic techniques | B20: =ST5C!AL10 -> 16 | C20: =ST5C!AM10 -> 0 | D20: =ST5C!AN10 -> 0 | N20: =EQUAT!A23 -> 17 | O20: =EQUAT!B23 -> D | P20: ='Class Results'!G22 -> 0 | Q20: =IF(P20=O20,1,0) -> 0 | R20: =IF(EQUAT!D23=0, "",EQUAT!D23) -> galvanic primary, half & overall equations | S20: =IF(EQUAT!E23=0, "",EQUAT!E23) -> electrochemical series | T20: =IF(EQUAT!F23=0, "",EQUAT!F23) -> data book
A21: =ST1C!AJ11 -> matching analytical techniques | B21: =ST5C!AL11 -> 1 | C21: =ST5C!AM11 -> 0 | D21: =ST5C!AN11 -> 0 | N21: =EQUAT!A24 -> 18 | O21: =EQUAT!B24 -> B | P21: ='Class Results'!G23 -> 0 | Q21: =IF(P21=O21,1,0) -> 0 | R21: =IF(EQUAT!D24=0, "",EQUAT!D24) -> Ka weak acids | S21: =IF(EQUAT!E24=0, "",EQUAT!E24) -> Le Chatelier principle | T21: =IF(EQUAT!F24=0, "",EQUAT!F24)
A22: =ST1C!AJ12 -> organic structures | B22: =ST5C!AL12 -> 33 | C22: =ST5C!AM12 -> 0 | D22: =ST5C!AN12 -> 0 | N22: =EQUAT!A25 -> 19 | O22: =EQUAT!B25 -> C | P22: ='Class Results'!G24 -> 0 | Q22: =IF(P22=O22,1,0) -> 0 | R22: =IF(EQUAT!D25=0, "",EQUAT!D25) -> galcanic secondary, half & overall equations | S22: =IF(EQUAT!E25=0, "",EQUAT!E25) | T22: =IF(EQUAT!F25=0, "",EQUAT!F25)
A23: =ST1C!AJ13 -> common organic reactions | B23: =ST5C!AL13 -> 7 | C23: =ST5C!AM13 -> 0 | D23: =ST5C!AN13 -> 0 | N23: =EQUAT!A26 -> 20 | O23: =EQUAT!B26 -> D | P23: ='Class Results'!G25 -> 0 | Q23: =IF(P23=O23,1,0) -> 0 | R23: =IF(EQUAT!D26=0, "",EQUAT!D26) -> galvanic secondary, principles | S23: =IF(EQUAT!E26=0, "",EQUAT!E26) | T23: =IF(EQUAT!F26=0, "",EQUAT!F26)
A24: =ST1C!AJ14 -> chemical bonding proteins | B24: =ST5C!AL14 -> 5 | C24: =ST5C!AM14 -> 0 | D24: =ST5C!AN14 -> 0 | N24: =EQUAT!A27 -> 21 | O24: =EQUAT!B27 -> A | P24: ='Class Results'!G26 -> 0 | Q24: =IF(P24=O24,1,0) -> 0 | R24: =IF(EQUAT!D27=0, "",EQUAT!D27) -> Le Chatelier principle | S24: =IF(EQUAT!E27=0, "",EQUAT!E27) -> calc delta H from chemical equations | T24: =IF(EQUAT!F27=0, "",EQUAT!F27)
A25: =ST1C!AJ15 -> DNA | B25: =ST5C!AL15 -> 8 | C25: =ST5C!AM15 -> 0 | D25: =ST5C!AN15 -> 0 | N25: =EQUAT!A28 -> 22 | O25: =EQUAT!B28 -> D | P25: ='Class Results'!G27 -> 0 | Q25: =IF(P25=O25,1,0) -> 0 | R25: =IF(EQUAT!D28=0, "",EQUAT!D28) -> Equilibrium law | S25: =IF(EQUAT!E28=0, "",EQUAT!E28) -> calculations | T25: =IF(EQUAT!F28=0, "",EQUAT!F28)
A26: =ST1C!AJ16 -> organic reaction pathways | B26: =ST5C!AL16 -> 10 | C26: =ST5C!AM16 -> 0 | D26: =ST5C!AN16 -> 0 | N26: =EQUAT!A29 -> 23 | O26: =EQUAT!B29 -> B | P26: ='Class Results'!G28 -> 0 | Q26: =IF(P26=O26,1,0) -> 0 | R26: =IF(EQUAT!D29=0, "",EQUAT!D29) -> electrochemical series | S26: =IF(EQUAT!E29=0, "",EQUAT!E29) -> data book | T26: =IF(EQUAT!F29=0, "",EQUAT!F29)
... A28: =ST1C!AJ18 -> medicine synthesis | B28: =ST5C!AL18 -> 1 | C28: =ST5C!AM18 -> 0 | D28: =ST5C!AN18 -> 0 | N28: =EQUAT!A31 -> 25 | O28: =EQUAT!B31 -> B | P28: ='Class Results'!G30 -> 0 | Q28: =IF(P28=O28,1,0) -> 0 | R28: =IF(EQUAT!D31=0, "",EQUAT!D31) -> acid-base titrations | S28: =IF(EQUAT!E31=0, "",EQUAT!E31) -> molecular ion peak | T28: =IF(EQUAT!F31=0, "",EQUAT!F31) -> calculations
N29: =EQUAT!A32 -> 26 | O29: =EQUAT!B32 -> C | P29: ='Class Results'!G31 -> 0 | Q29: =IF(P29=O29,1,0) -> 0 | R29: =IF(EQUAT!D32=0, "",EQUAT!D32) -> vol - experimental technique | S29: =IF(EQUAT!E32=0, "",EQUAT!E32) | T29: =IF(EQUAT!F32=0, "",EQUAT!F32)
N30: =EQUAT!A33 -> 27 | O30: =EQUAT!B33 -> B | P30: ='Class Results'!G32 -> 0 | Q30: =IF(P30=O30,1,0) -> 0 | R30: =IF(EQUAT!D33=0, "",EQUAT!D33) -> Le Chatelier principle | S30: =IF(EQUAT!E33=0, "",EQUAT!E33) | T30: =IF(EQUAT!F33=0, "",EQUAT!F33)
N31: =EQUAT!A34 -> 28 | O31: =EQUAT!B34 -> C | P31: ='Class Results'!G33 -> 0 | Q31: =IF(P31=O31,1,0) -> 0 | R31: =IF(EQUAT!D34=0, "",EQUAT!D34) -> amines | S31: =IF(EQUAT!E34=0, "",EQUAT!E34) -> structural formula | T31: =IF(EQUAT!F34=0, "",EQUAT!F34) -> unit conversion
N32: =EQUAT!A35 -> 29 | O32: =EQUAT!B35 -> D | P32: ='Class Results'!G34 -> 0 | Q32: =IF(P32=O32,1,0) -> 0 | R32: =IF(EQUAT!D35=0, "",EQUAT!D35) -> titration curves | S32: =IF(EQUAT!E35=0, "",EQUAT!E35) | T32: =IF(EQUAT!F35=0, "",EQUAT!F35)
N33: =EQUAT!A36 -> 30 | O33: =EQUAT!B36 -> D | P33: ='Class Results'!G35 -> 0 | Q33: =IF(P33=O33,1,0) -> 0 | R33: =IF(EQUAT!D36=0, "",EQUAT!D36) -> grav - experimental technique | S33: =IF(EQUAT!E36=0, "",EQUAT!E36) | T33: =IF(EQUAT!F36=0, "",EQUAT!F36)
O34: Exam Name: | P34: =B3 -> LisaChem 2014 | S34: Name: | T34: =B5 -> Student 5
A35: Exam Name: | B35: =B3 -> LisaChem 2014 | O35: Total | P35: Marks Gained | Q35: Marks Lost
N36: Qu | S36: Key Knowledge Descriptor
A37: Name | B37: =B5 -> Student 5 | N37: =EQUAT!H7 -> 1a | O37: =EQUAT!I7 -> 2 | P37: =ST5C!B34 -> 0 | Q37: =O37-P37 -> 2 | R37: =IF(EQUAT!J7=0," ",EQUAT!J7) -> amino acid | S37: =IF(EQUAT!K7=0," ",EQUAT!K7) -> cond & poly - proteins | T37: =IF(EQUAT!L7=0," ",EQUAT!L7) -> amide
N38: =EQUAT!H8 -> 1b | O38: =EQUAT!I8 -> 1 | P38: =ST5C!B35 -> 0 | Q38: =O38-P38 -> 1 | R38: =IF(EQUAT!J8=0," ",EQUAT!J8) -> TLC | S38: =IF(EQUAT!K8=0," ",EQUAT!K8) -> cond & poly - proteins | T38: =IF(EQUAT!L8=0," ",EQUAT!L8) -> amide
B39: Value | C39: Gained | D39: % | N39: =EQUAT!H9 -> 1c | O39: =EQUAT!I9 -> 2 | P39: =ST5C!B36 -> 0 | Q39: =O39-P39 -> 2 | R39: =IF(EQUAT!J9=0," ",EQUAT!J9) -> structural formula | S39: =IF(EQUAT!K9=0," ",EQUAT!K9) -> cond & poly - proteins | T39: =IF(EQUAT!L9=0," ",EQUAT!L9) -> amide
A40: Unit 4 AOS 1 | B40: =ST5C!AL20 -> 32 | C40: =ST5C!AM20 -> 0 | D40: =ST5C!AN20 -> 0 | N40: =EQUAT!H10 -> 1d | O40: =EQUAT!I10 -> 2 | P40: =ST5C!B37 -> 0 | Q40: =O40-P40 -> 2 | R40: =IF(EQUAT!J10=0," ",EQUAT!J10) -> amino acid | S40: =IF(EQUAT!K10=0," ",EQUAT!K10) -> properties of organic compounds | T40: =IF(EQUAT!L10=0," ",EQUAT!L10)
A41: Unit 4 AOS 2 | B41: =ST5C!AL21 -> 58 | C41: =ST5C!AM21 -> 0 | D41: =ST5C!AN21 -> 0 | N41: =EQUAT!H11 -> 1e | O41: =EQUAT!I11 -> 3 | P41: =ST5C!B38 -> 0 | Q41: =O41-P41 -> 3 | R41: =IF(EQUAT!J11=0," ",EQUAT!J11) -> TLC | S41: =IF(EQUAT!K11=0," ",EQUAT!K11) -> chromatographic techniques | T41: =IF(EQUAT!L11=0," ",EQUAT!L11)
N42: =EQUAT!H12 -> 1f | O42: =EQUAT!I12 -> 6 | P42: =ST5C!B39 -> 0 | Q42: =O42-P42 -> 6 | R42: =IF(EQUAT!J12=0," ",EQUAT!J12) -> protein- primary, secondary, tertiary structure | S42: =IF(EQUAT!K12=0," ",EQUAT!K12) -> DNA primary structure | T42: =IF(EQUAT!L12=0," ",EQUAT!L12) -> DNA secondary structure
N43: =EQUAT!H13 -> 2ai | O43: =EQUAT!I13 -> 2 | P43: =ST5C!B40 -> 0 | Q43: =O43-P43 -> 2 | R43: =IF(EQUAT!J13=0," ",EQUAT!J13) -> unit conversion | S43: =IF(EQUAT!K13=0," ",EQUAT!K13) | T43: =IF(EQUAT!L13=0," ",EQUAT!L13)
B44: Unit 4 | N44: =EQUAT!H14 -> 2aii | O44: =EQUAT!I14 -> 1 | P44: =ST5C!B41 -> 0 | Q44: =O44-P44 -> 1 | R44: =IF(EQUAT!J14=0," ",EQUAT!J14) -> concentration | S44: =IF(EQUAT!K14=0," ",EQUAT!K14) | T44: =IF(EQUAT!L14=0," ",EQUAT!L14)
A45: =ST1C!AJ22 -> Rates of reaction | B45: =ST5C!AL22 -> 5 | C45: =ST5C!AM22 -> 0 | D45: =ST5C!AN22 -> 0 | N45: =EQUAT!H15 -> 2b | O45: =EQUAT!I15 -> 2 | P45: =ST5C!B42 -> 0 | Q45: =O45-P45 -> 2 | R45: =IF(EQUAT!J15=0," ",EQUAT!J15) -> Key Skills | S45: =IF(EQUAT!K15=0," ",EQUAT!K15) | T45: =IF(EQUAT!L15=0," ",EQUAT!L15)
A46: =ST1C!AJ23 -> Energy of reactions | B46: =ST5C!AL23 -> 12 | C46: =ST5C!AM23 -> 0 | D46: =ST5C!AN23 -> 0 | N46: =EQUAT!H16 -> 2c | O46: =EQUAT!I16 -> 1 | P46: =ST5C!B43 -> 0 | Q46: =O46-P46 -> 1 | R46: =IF(EQUAT!J16=0," ",EQUAT!J16) -> HNMR | S46: =IF(EQUAT!K16=0," ",EQUAT!K16) | T46: =IF(EQUAT!L16=0," ",EQUAT!L16)
A47: =ST1C!AJ24 -> Equilibrium | B47: =ST5C!AL24 -> 15 | C47: =ST5C!AM24 -> 0 | D47: =ST5C!AN24 -> 0 | N47: =EQUAT!H17 -> 2di | O47: =EQUAT!I17 -> 1 | P47: =ST5C!B44 -> 0 | Q47: =O47-P47 -> 1 | R47: =IF(EQUAT!J17=0," ",EQUAT!J17) -> oxidation primary alkanols | S47: =IF(EQUAT!K17=0," ",EQUAT!K17) -> structural formula | T47: =IF(EQUAT!L17=0," ",EQUAT!L17)
A48: =ST1C!AJ25 -> Application of equil & rates | B48: =ST5C!AL25 -> 0 | C48: =ST5C!AM25 -> 0 | D48: =ST5C!AN25 -> -2 | N48: =EQUAT!H18 -> 2dii | O48: =EQUAT!I18 -> 1 | P48: =ST5C!B45 -> 0 | Q48: =O48-P48 -> 1 | R48: =IF(EQUAT!J18=0," ",EQUAT!J18) -> redox equations | S48: =IF(EQUAT!K18=0," ",EQUAT!K18) | T48: =IF(EQUAT!L18=0," ",EQUAT!L18)
A49: =ST1C!AJ26 -> Energy sources renewability | B49: =ST5C!AL26 -> 8 | C49: =ST5C!AM26 -> 0 | D49: =ST5C!AN26 -> 0 | N49: =EQUAT!H19 -> 2ei | O49: =EQUAT!I19 -> 5 | P49: =ST5C!B46 -> 0 | Q49: =O49-P49 -> 5 | R49: =IF(EQUAT!J19=0," ",EQUAT!J19) -> Calorimetry | S49: =IF(EQUAT!K19=0," ",EQUAT!K19) -> unit conversion | T49: =IF(EQUAT!L19=0," ",EQUAT!L19) -> Energy sources - renewability
A50: =ST1C!AJ27 -> Calorimetry | B50: =ST5C!AL27 -> 18 | C50: =ST5C!AM27 -> 0 | D50: =ST5C!AN27 -> 0 | N50: =EQUAT!H20 -> 2eii | O50: =EQUAT!I20 -> 2 | P50: =ST5C!B47 -> 0 | Q50: =O50-P50 -> 2 | R50: =IF(EQUAT!J20=0," ",EQUAT!J20) -> Energy sources - renewability | S50: =IF(EQUAT!K20=0," ",EQUAT!K20) | T50: =IF(EQUAT!L20=0," ",EQUAT!L20)
A51: =ST1C!AJ28 -> Electrochemical Series | B51: =ST5C!AL28 -> 17 | C51: =ST5C!AM28 -> 0 | D51: =ST5C!AN28 -> 0 | N51: =EQUAT!H21 -> 2eiii | O51: =EQUAT!I21 -> 1 | P51: =ST5C!B48 -> 0 | Q51: =O51-P51 -> 1 | R51: =IF(EQUAT!J21=0," ",EQUAT!J21) -> protein- primary, secondary, tertiary structure | S51: =IF(EQUAT!K21=0," ",EQUAT!K21) -> amino acid | T51: =IF(EQUAT!L21=0," ",EQUAT!L21)
A52: =ST1C!AJ29 -> Galvanic Cells | B52: =ST5C!AL29 -> 4 | C52: =ST5C!AM29 -> 0 | D52: =ST5C!AN29 -> 0 | N52: =EQUAT!H22 -> 3ai | O52: =EQUAT!I22 -> 1 | P52: =ST5C!B49 -> 0 | Q52: =O52-P52 -> 1 | R52: =IF(EQUAT!J22=0," ",EQUAT!J22) -> chemical principles electrolytic cell | S52: =IF(EQUAT!K22=0," ",EQUAT!K22) | T52: =IF(EQUAT!L22=0," ",EQUAT!L22)
A53: =ST1C!AJ30 -> Fuel Cells | B53: =ST5C!AL30 -> 2 | C53: =ST5C!AM30 -> 0 | D53: =ST5C!AN30 -> 0 | N53: =EQUAT!H23 -> 3aii | O53: =EQUAT!I23 -> 2 | P53: =ST5C!B50 -> 0 | Q53: =O53-P53 -> 2 | R53: =IF(EQUAT!J23=0," ",EQUAT!J23) -> molten vs aqueous electrolytic cell | S53: =IF(EQUAT!K23=0," ",EQUAT!K23) -> electrochemical series | T53: =IF(EQUAT!L23=0," ",EQUAT!L23) -> data book
A54: =ST1C!AJ31 -> Electrolytic Cells | B54: =ST5C!AL31 -> 6 | C54: =ST5C!AM31 -> 0 | D54: =ST5C!AN31 -> 0 | N54: =EQUAT!H24 -> 3bi | O54: =EQUAT!I24 -> 3 | P54: =ST5C!B51 -> 0 | Q54: =O54-P54 -> 3 | R54: =IF(EQUAT!J24=0," ",EQUAT!J24) -> Faradays laws | S54: =IF(EQUAT!K24=0," ",EQUAT!K24) | T54: =IF(EQUAT!L24=0," ",EQUAT!L24)
A55: =ST1C!AJ32 -> Faradays Laws | B55: =ST5C!AL32 -> 3 | C55: =ST5C!AM32 -> 0 | D55: =ST5C!AN32 -> 0 | N55: =EQUAT!H25 -> 3bii | O55: =EQUAT!I25 -> 1 | P55: =ST5C!B52 -> 0 | Q55: =O55-P55 -> 1 | R55: =IF(EQUAT!J25=0," ",EQUAT!J25) -> chemical principles electrolytic cell | S55: =IF(EQUAT!K25=0," ",EQUAT!K25) -> electrochemical series | T55: =IF(EQUAT!L25=0," ",EQUAT!L25) -> data book
A56: =ST1C!AJ33 -> Key Skills | B56: =ST5C!AL33 -> 10 | C56: =ST5C!AM33 -> 0 | D56: =ST5C!AN33 -> 0 | N56: =EQUAT!H26 -> 3c | O56: =EQUAT!I26 -> 2 | P56: =ST5C!B53 -> 0 | Q56: =O56-P56 -> 2 | R56: =IF(EQUAT!J26=0," ",EQUAT!J26) -> molten vs aqueous electrolytic cell | S56: =IF(EQUAT!K26=0," ",EQUAT!K26) -> electrochemical series | T56: =IF(EQUAT!L26=0," ",EQUAT!L26) -> data book
